BEGIN:VCALENDAR
VERSION:2.0
PRODID:-//YGAMETIME.com//YGT iCal Creator//EN
METHOD:PUBLISH
X-PUBLISHED-TTL:PT6H
REFRESH-INTERVAL;VALUE=DURATION:PT6H
CALSCALE:GREGORIAN
X-WR-CALNAME:YGAMETIME CALENDAR
BEGIN:VTIMEZONE
TZID:America/New_York
X-LIC-LOCATION:America/New_York
BEGIN:DAYLIGHT
TZOFFSETFROM:-0500
TZOFFSETTO:-0400
TZNAME:EDT
DTSTART:19700308T020000
RRULE:FREQ=YEARLY;BYMONTH=3;BYDAY=2SU
END:DAYLIGHT
BEGIN:STANDARD
TZOFFSETFROM:-0400
TZOFFSETTO:-0500
TZNAME:EST
DTSTART:19701101T020000
RRULE:FREQ=YEARLY;BYMONTH=11;BYDAY=1SU
END:STANDARD
END:VTIMEZONE
BEGIN:VEVENT
UID:cane-bay-598759@ygametime.com
DTSTAMP:20260328T160000Z
DTSTART;TZID=America/New_York:20260328T120000
DURATION:PT0H90M0S
SUMMARY:Coach Carter vs Coach Robinson
DESCRIPTION:Baseball | Baseball (Pilot)\nYMCA of Greater Charleston\n
URL;VALUE=URI:https://ygametime.com/branch/cane-bay/sports/2026-spring-baseball-pilot-/25872/?utm_medium=calendar&utm_source=team_cal&utm_content=league_url#game-598759
LOCATION:Cane Bay Baseball Field 2
BEGIN:VALARM
TRIGGER:-P2H
ACTION:DISPLAY
DESCRIPTION:Coach Carter vs Coach Robinson
END:VALARM
END:VEVENT
BEGIN:VEVENT
UID:cane-bay-598762@ygametime.com
DTSTAMP:20260418T160000Z
DTSTART;TZID=America/New_York:20260418T120000
DURATION:PT0H90M0S
SUMMARY:Coach Carter vs Coach Robinson
DESCRIPTION:Baseball | Baseball (Pilot)\nYMCA of Greater Charleston\n
URL;VALUE=URI:https://ygametime.com/branch/cane-bay/sports/2026-spring-baseball-pilot-/25872/?utm_medium=calendar&utm_source=team_cal&utm_content=league_url#game-598762
LOCATION:Cane Bay Baseball Field 2
BEGIN:VALARM
TRIGGER:-P2H
ACTION:DISPLAY
DESCRIPTION:Coach Carter vs Coach Robinson
END:VALARM
END:VEVENT
BEGIN:VEVENT
UID:cane-bay-598763@ygametime.com
DTSTAMP:20260425T160000Z
DTSTART;TZID=America/New_York:20260425T120000
DURATION:PT0H90M0S
SUMMARY:Coach Carter vs Coach Robinson
DESCRIPTION:Baseball | Baseball (Pilot)\nYMCA of Greater Charleston\n
URL;VALUE=URI:https://ygametime.com/branch/cane-bay/sports/2026-spring-baseball-pilot-/25872/?utm_medium=calendar&utm_source=team_cal&utm_content=league_url#game-598763
LOCATION:Cane Bay Baseball Field 2
BEGIN:VALARM
TRIGGER:-P2H
ACTION:DISPLAY
DESCRIPTION:Coach Carter vs Coach Robinson
END:VALARM
END:VEVENT
BEGIN:VEVENT
UID:cane-bay-598764@ygametime.com
DTSTAMP:20260502T160000Z
DTSTART;TZID=America/New_York:20260502T120000
DURATION:PT0H90M0S
SUMMARY:Coach Carter vs Coach Robinson
DESCRIPTION:Baseball | Baseball (Pilot)\nYMCA of Greater Charleston\n
URL;VALUE=URI:https://ygametime.com/branch/cane-bay/sports/2026-spring-baseball-pilot-/25872/?utm_medium=calendar&utm_source=team_cal&utm_content=league_url#game-598764
LOCATION:Cane Bay Baseball Field 2
BEGIN:VALARM
TRIGGER:-P2H
ACTION:DISPLAY
DESCRIPTION:Coach Carter vs Coach Robinson
END:VALARM
END:VEVENT
BEGIN:VEVENT
UID:cane-bay-598765@ygametime.com
DTSTAMP:20260509T160000Z
DTSTART;TZID=America/New_York:20260509T120000
DURATION:PT0H90M0S
SUMMARY:Coach Carter vs Coach Robinson
DESCRIPTION:Baseball | Baseball (Pilot)\nYMCA of Greater Charleston\n
URL;VALUE=URI:https://ygametime.com/branch/cane-bay/sports/2026-spring-baseball-pilot-/25872/?utm_medium=calendar&utm_source=team_cal&utm_content=league_url#game-598765
LOCATION:Cane Bay Baseball Field 2
BEGIN:VALARM
TRIGGER:-P2H
ACTION:DISPLAY
DESCRIPTION:Coach Carter vs Coach Robinson
END:VALARM
END:VEVENT
BEGIN:VEVENT
UID:cane-bay-598760@ygametime.com
DTSTAMP:20260516T160000Z
DTSTART;TZID=America/New_York:20260516T120000
DURATION:PT0H90M0S
SUMMARY:Coach Carter vs Coach Robinson
DESCRIPTION:Baseball | Baseball (Pilot)\nYMCA of Greater Charleston\n
URL;VALUE=URI:https://ygametime.com/branch/cane-bay/sports/2026-spring-baseball-pilot-/25872/?utm_medium=calendar&utm_source=team_cal&utm_content=league_url#game-598760
LOCATION:Cane Bay Baseball Field 2
BEGIN:VALARM
TRIGGER:-P2H
ACTION:DISPLAY
DESCRIPTION:Coach Carter vs Coach Robinson
END:VALARM
END:VEVENT
BEGIN:VEVENT
UID:cane-bay-598761@ygametime.com
DTSTAMP:20260530T160000Z
DTSTART;TZID=America/New_York:20260530T120000
DURATION:PT0H90M0S
SUMMARY:Coach Carter vs Coach Robinson
DESCRIPTION:Baseball | Baseball (Pilot)\nYMCA of Greater Charleston\n
URL;VALUE=URI:https://ygametime.com/branch/cane-bay/sports/2026-spring-baseball-pilot-/25872/?utm_medium=calendar&utm_source=team_cal&utm_content=league_url#game-598761
LOCATION:Cane Bay Baseball Field 2
BEGIN:VALARM
TRIGGER:-P2H
ACTION:DISPLAY
DESCRIPTION:Coach Carter vs Coach Robinson
END:VALARM
END:VEVENT
END:VCALENDAR

