BEGIN:VCALENDAR
VERSION:2.0
PRODID:-//YGAMETIME.com//YGT iCal Creator//EN
METHOD:PUBLISH
X-PUBLISHED-TTL:PT6H
REFRESH-INTERVAL;VALUE=DURATION:PT6H
CALSCALE:GREGORIAN
X-WR-CALNAME:YGAMETIME CALENDAR
BEGIN:VTIMEZONE
TZID:America/New_York
X-LIC-LOCATION:America/New_York
BEGIN:DAYLIGHT
TZOFFSETFROM:-0500
TZOFFSETTO:-0400
TZNAME:EDT
DTSTART:19700308T020000
RRULE:FREQ=YEARLY;BYMONTH=3;BYDAY=2SU
END:DAYLIGHT
BEGIN:STANDARD
TZOFFSETFROM:-0400
TZOFFSETTO:-0500
TZNAME:EST
DTSTART:19701101T020000
RRULE:FREQ=YEARLY;BYMONTH=11;BYDAY=1SU
END:STANDARD
END:VTIMEZONE
BEGIN:VEVENT
UID:cane-bay-599384@ygametime.com
DTSTAMP:20260328T130000Z
DTSTART;TZID=America/New_York:20260328T090000
DURATION:PT0H60M0S
SUMMARY:BPA vs Coach Giordano
DESCRIPTION:8-9 Division | Soccer\nYMCA of Greater Charleston\n
URL;VALUE=URI:https://ygametime.com/branch/cane-bay/sports/2026-spring-soccer/25867/?utm_medium=calendar&utm_source=team_cal&utm_content=league_url#game-599384
LOCATION:Cane Bay Field 2A
BEGIN:VALARM
TRIGGER:-P2H
ACTION:DISPLAY
DESCRIPTION:BPA vs Coach Giordano
END:VALARM
END:VEVENT
BEGIN:VEVENT
UID:cane-bay-599385@ygametime.com
DTSTAMP:20260418T130000Z
DTSTART;TZID=America/New_York:20260418T090000
DURATION:PT0H60M0S
SUMMARY:BPA vs Coach Murray
DESCRIPTION:8-9 Division | Soccer\nYMCA of Greater Charleston\n
URL;VALUE=URI:https://ygametime.com/branch/cane-bay/sports/2026-spring-soccer/25867/?utm_medium=calendar&utm_source=team_cal&utm_content=league_url#game-599385
LOCATION:Cane Bay Field 2A
BEGIN:VALARM
TRIGGER:-P2H
ACTION:DISPLAY
DESCRIPTION:BPA vs Coach Murray
END:VALARM
END:VEVENT
BEGIN:VEVENT
UID:cane-bay-599386@ygametime.com
DTSTAMP:20260425T130000Z
DTSTART;TZID=America/New_York:20260425T090000
DURATION:PT0H60M0S
SUMMARY:BPA vs Coach J. Williams
DESCRIPTION:8-9 Division | Soccer\nYMCA of Greater Charleston\n
URL;VALUE=URI:https://ygametime.com/branch/cane-bay/sports/2026-spring-soccer/25867/?utm_medium=calendar&utm_source=team_cal&utm_content=league_url#game-599386
LOCATION:Cane Bay Field 2A
BEGIN:VALARM
TRIGGER:-P2H
ACTION:DISPLAY
DESCRIPTION:BPA vs Coach J. Williams
END:VALARM
END:VEVENT
BEGIN:VEVENT
UID:cane-bay-599387@ygametime.com
DTSTAMP:20260502T130000Z
DTSTART;TZID=America/New_York:20260502T090000
DURATION:PT0H60M0S
SUMMARY:BPA vs Coach Douglas
DESCRIPTION:8-9 Division | Soccer\nYMCA of Greater Charleston\n
URL;VALUE=URI:https://ygametime.com/branch/cane-bay/sports/2026-spring-soccer/25867/?utm_medium=calendar&utm_source=team_cal&utm_content=league_url#game-599387
LOCATION:Cane Bay Field 2A
BEGIN:VALARM
TRIGGER:-P2H
ACTION:DISPLAY
DESCRIPTION:BPA vs Coach Douglas
END:VALARM
END:VEVENT
BEGIN:VEVENT
UID:cane-bay-598921@ygametime.com
DTSTAMP:20260509T180000Z
DTSTART;TZID=America/New_York:20260509T140000
DURATION:PT0H60M0S
SUMMARY:BPA vs Coach N. Carter
DESCRIPTION:8-9 Division | Soccer\nYMCA of Greater Charleston\n
URL;VALUE=URI:https://ygametime.com/branch/cane-bay/sports/2026-spring-soccer/25867/?utm_medium=calendar&utm_source=team_cal&utm_content=league_url#game-598921
LOCATION:Cane Bay Field 2A
BEGIN:VALARM
TRIGGER:-P2H
ACTION:DISPLAY
DESCRIPTION:BPA vs Coach N. Carter
END:VALARM
END:VEVENT
BEGIN:VEVENT
UID:cane-bay-599389@ygametime.com
DTSTAMP:20260516T130000Z
DTSTART;TZID=America/New_York:20260516T090000
DURATION:PT0H60M0S
SUMMARY:BPA vs Coach McClung
DESCRIPTION:8-9 Division | Soccer\nYMCA of Greater Charleston\n
URL;VALUE=URI:https://ygametime.com/branch/cane-bay/sports/2026-spring-soccer/25867/?utm_medium=calendar&utm_source=team_cal&utm_content=league_url#game-599389
LOCATION:Cane Bay Field 2A
BEGIN:VALARM
TRIGGER:-P2H
ACTION:DISPLAY
DESCRIPTION:BPA vs Coach McClung
END:VALARM
END:VEVENT
BEGIN:VEVENT
UID:cane-bay-599390@ygametime.com
DTSTAMP:20260530T130000Z
DTSTART;TZID=America/New_York:20260530T090000
DURATION:PT0H60M0S
SUMMARY:BPA vs Coach O'Donnell
DESCRIPTION:8-9 Division | Soccer\nYMCA of Greater Charleston\n
URL;VALUE=URI:https://ygametime.com/branch/cane-bay/sports/2026-spring-soccer/25867/?utm_medium=calendar&utm_source=team_cal&utm_content=league_url#game-599390
LOCATION:Cane Bay Field 2A
BEGIN:VALARM
TRIGGER:-P2H
ACTION:DISPLAY
DESCRIPTION:BPA vs Coach O'Donnell
END:VALARM
END:VEVENT
BEGIN:VEVENT
UID:cane-bay-599392@ygametime.com
DTSTAMP:20260601T213000Z
DTSTART;TZID=America/New_York:20260601T173000
DURATION:PT0H60M0S
SUMMARY:Coach Bentley vs BPA
DESCRIPTION:8-9 Division | Soccer\nYMCA of Greater Charleston\n
URL;VALUE=URI:https://ygametime.com/branch/cane-bay/sports/2026-spring-soccer/25867/?utm_medium=calendar&utm_source=team_cal&utm_content=league_url#game-599392
LOCATION:Cane Bay Field 2B
BEGIN:VALARM
TRIGGER:-P2H
ACTION:DISPLAY
DESCRIPTION:Coach Bentley vs BPA
END:VALARM
END:VEVENT
END:VCALENDAR

