BEGIN:VCALENDAR
VERSION:2.0
PRODID:-//YGAMETIME.com//YGT iCal Creator//EN
METHOD:PUBLISH
X-PUBLISHED-TTL:PT6H
REFRESH-INTERVAL;VALUE=DURATION:PT6H
CALSCALE:GREGORIAN
X-WR-CALNAME:YGAMETIME CALENDAR
BEGIN:VEVENT
UID:cheyenne-59425@ygametime.com
DTSTAMP:20160507T190000Z
DTSTART;TZID=America/Denver:20160507T130000
DURATION:PT0H60M0S
SUMMARY:Broncos vs Lions
DESCRIPTION:Lombardi 8-12 Years Old | Football Fanatics\nThe Cheyenne Family YMCA\n
URL;VALUE=URI:https://ygametime.com/branch/cheyenne/sports/2016-spring-football-fanatics/2292/?utm_medium=calendar&utm_source=team_cal&utm_content=league_url#game-59425
LOCATION:Miller Field 2 - North
BEGIN:VALARM
TRIGGER:-P2H
ACTION:DISPLAY
DESCRIPTION:Broncos vs Lions
END:VALARM
END:VEVENT
BEGIN:VEVENT
UID:cheyenne-59427@ygametime.com
DTSTAMP:20160514T180000Z
DTSTART;TZID=America/Denver:20160514T120000
DURATION:PT0H60M0S
SUMMARY:Broncos vs Panthers
DESCRIPTION:Lombardi 8-12 Years Old | Football Fanatics\nThe Cheyenne Family YMCA\n
URL;VALUE=URI:https://ygametime.com/branch/cheyenne/sports/2016-spring-football-fanatics/2292/?utm_medium=calendar&utm_source=team_cal&utm_content=league_url#game-59427
LOCATION:Miller Field 1
BEGIN:VALARM
TRIGGER:-P2H
ACTION:DISPLAY
DESCRIPTION:Broncos vs Panthers
END:VALARM
END:VEVENT
BEGIN:VEVENT
UID:cheyenne-59429@ygametime.com
DTSTAMP:20160521T193000Z
DTSTART;TZID=America/Denver:20160521T133000
DURATION:PT0H60M0S
SUMMARY:Broncos vs Lions
DESCRIPTION:Lombardi 8-12 Years Old | Football Fanatics\nThe Cheyenne Family YMCA\nPictures After the game
URL;VALUE=URI:https://ygametime.com/branch/cheyenne/sports/2016-spring-football-fanatics/2292/?utm_medium=calendar&utm_source=team_cal&utm_content=league_url#game-59429
LOCATION:Miller Field 1
BEGIN:VALARM
TRIGGER:-P2H
ACTION:DISPLAY
DESCRIPTION:Broncos vs Lions
END:VALARM
END:VEVENT
BEGIN:VEVENT
UID:cheyenne-59434@ygametime.com
DTSTAMP:20160604T180000Z
DTSTART;TZID=America/Denver:20160604T120000
DURATION:PT0H60M0S
SUMMARY:Broncos vs Panthers
DESCRIPTION:Lombardi 8-12 Years Old | Football Fanatics\nThe Cheyenne Family YMCA\n
URL;VALUE=URI:https://ygametime.com/branch/cheyenne/sports/2016-spring-football-fanatics/2292/?utm_medium=calendar&utm_source=team_cal&utm_content=league_url#game-59434
LOCATION:Miller Field 1
BEGIN:VALARM
TRIGGER:-P2H
ACTION:DISPLAY
DESCRIPTION:Broncos vs Panthers
END:VALARM
END:VEVENT
BEGIN:VEVENT
UID:cheyenne-59433@ygametime.com
DTSTAMP:20160611T190000Z
DTSTART;TZID=America/Denver:20160611T130000
DURATION:PT0H60M0S
SUMMARY:Lions vs Broncos
DESCRIPTION:Lombardi 8-12 Years Old | Football Fanatics\nThe Cheyenne Family YMCA\n
URL;VALUE=URI:https://ygametime.com/branch/cheyenne/sports/2016-spring-football-fanatics/2292/?utm_medium=calendar&utm_source=team_cal&utm_content=league_url#game-59433
LOCATION:Miller Field 1
BEGIN:VALARM
TRIGGER:-P2H
ACTION:DISPLAY
DESCRIPTION:Lions vs Broncos
END:VALARM
END:VEVENT
BEGIN:VEVENT
UID:cheyenne-59431@ygametime.com
DTSTAMP:20160618T180000Z
DTSTART;TZID=America/Denver:20160618T120000
DURATION:PT0H60M0S
SUMMARY:Broncos vs 49ers
DESCRIPTION:Lombardi 8-12 Years Old | Football Fanatics\nThe Cheyenne Family YMCA\n
URL;VALUE=URI:https://ygametime.com/branch/cheyenne/sports/2016-spring-football-fanatics/2292/?utm_medium=calendar&utm_source=team_cal&utm_content=league_url#game-59431
LOCATION:Miller Field 1
BEGIN:VALARM
TRIGGER:-P2H
ACTION:DISPLAY
DESCRIPTION:Broncos vs 49ers
END:VALARM
END:VEVENT
END:VCALENDAR

