BEGIN:VCALENDAR
VERSION:2.0
PRODID:-//YGAMETIME.com//YGT iCal Creator//EN
METHOD:PUBLISH
X-PUBLISHED-TTL:PT6H
REFRESH-INTERVAL;VALUE=DURATION:PT6H
CALSCALE:GREGORIAN
X-WR-CALNAME:YGAMETIME CALENDAR
BEGIN:VEVENT
UID:cheyenne-59424@ygametime.com
DTSTAMP:20160507T190000Z
DTSTART;TZID=America/Denver:20160507T130000
DURATION:PT0H60M0S
SUMMARY:Panthers vs 49ers
DESCRIPTION:Lombardi 8-12 Years Old | Football Fanatics\nThe Cheyenne Family YMCA\n
URL;VALUE=URI:https://ygametime.com/branch/cheyenne/sports/2016-spring-football-fanatics/2292/?utm_medium=calendar&utm_source=team_cal&utm_content=league_url#game-59424
LOCATION:Miller Field 1
BEGIN:VALARM
TRIGGER:-P2H
ACTION:DISPLAY
DESCRIPTION:Panthers vs 49ers
END:VALARM
END:VEVENT
BEGIN:VEVENT
UID:cheyenne-59427@ygametime.com
DTSTAMP:20160514T180000Z
DTSTART;TZID=America/Denver:20160514T120000
DURATION:PT0H60M0S
SUMMARY:Broncos vs Panthers
DESCRIPTION:Lombardi 8-12 Years Old | Football Fanatics\nThe Cheyenne Family YMCA\n
URL;VALUE=URI:https://ygametime.com/branch/cheyenne/sports/2016-spring-football-fanatics/2292/?utm_medium=calendar&utm_source=team_cal&utm_content=league_url#game-59427
LOCATION:Miller Field 1
BEGIN:VALARM
TRIGGER:-P2H
ACTION:DISPLAY
DESCRIPTION:Broncos vs Panthers
END:VALARM
END:VEVENT
BEGIN:VEVENT
UID:cheyenne-59428@ygametime.com
DTSTAMP:20160521T183000Z
DTSTART;TZID=America/Denver:20160521T123000
DURATION:PT0H60M0S
SUMMARY:Panthers vs 49ers
DESCRIPTION:Lombardi 8-12 Years Old | Football Fanatics\nThe Cheyenne Family YMCA\nPictures After the game.
URL;VALUE=URI:https://ygametime.com/branch/cheyenne/sports/2016-spring-football-fanatics/2292/?utm_medium=calendar&utm_source=team_cal&utm_content=league_url#game-59428
LOCATION:Miller Field 1
BEGIN:VALARM
TRIGGER:-P2H
ACTION:DISPLAY
DESCRIPTION:Panthers vs 49ers
END:VALARM
END:VEVENT
BEGIN:VEVENT
UID:cheyenne-59434@ygametime.com
DTSTAMP:20160604T180000Z
DTSTART;TZID=America/Denver:20160604T120000
DURATION:PT0H60M0S
SUMMARY:Broncos vs Panthers
DESCRIPTION:Lombardi 8-12 Years Old | Football Fanatics\nThe Cheyenne Family YMCA\n
URL;VALUE=URI:https://ygametime.com/branch/cheyenne/sports/2016-spring-football-fanatics/2292/?utm_medium=calendar&utm_source=team_cal&utm_content=league_url#game-59434
LOCATION:Miller Field 1
BEGIN:VALARM
TRIGGER:-P2H
ACTION:DISPLAY
DESCRIPTION:Broncos vs Panthers
END:VALARM
END:VEVENT
BEGIN:VEVENT
UID:cheyenne-59432@ygametime.com
DTSTAMP:20160611T180000Z
DTSTART;TZID=America/Denver:20160611T120000
DURATION:PT0H60M0S
SUMMARY:49ers vs Panthers
DESCRIPTION:Lombardi 8-12 Years Old | Football Fanatics\nThe Cheyenne Family YMCA\n
URL;VALUE=URI:https://ygametime.com/branch/cheyenne/sports/2016-spring-football-fanatics/2292/?utm_medium=calendar&utm_source=team_cal&utm_content=league_url#game-59432
LOCATION:Miller Field 1
BEGIN:VALARM
TRIGGER:-P2H
ACTION:DISPLAY
DESCRIPTION:49ers vs Panthers
END:VALARM
END:VEVENT
BEGIN:VEVENT
UID:cheyenne-59430@ygametime.com
DTSTAMP:20160618T190000Z
DTSTART;TZID=America/Denver:20160618T130000
DURATION:PT0H60M0S
SUMMARY:Panthers vs Lions
DESCRIPTION:Lombardi 8-12 Years Old | Football Fanatics\nThe Cheyenne Family YMCA\n
URL;VALUE=URI:https://ygametime.com/branch/cheyenne/sports/2016-spring-football-fanatics/2292/?utm_medium=calendar&utm_source=team_cal&utm_content=league_url#game-59430
LOCATION:Miller Field 1
BEGIN:VALARM
TRIGGER:-P2H
ACTION:DISPLAY
DESCRIPTION:Panthers vs Lions
END:VALARM
END:VEVENT
END:VCALENDAR

