BEGIN:VCALENDAR
VERSION:2.0
PRODID:-//YGAMETIME.com//YGT iCal Creator//EN
METHOD:PUBLISH
X-PUBLISHED-TTL:PT6H
REFRESH-INTERVAL;VALUE=DURATION:PT6H
CALSCALE:GREGORIAN
X-WR-CALNAME:YGAMETIME CALENDAR
BEGIN:VEVENT
UID:cheyenne-59438@ygametime.com
DTSTAMP:20160507T180000Z
DTSTART;TZID=America/Denver:20160507T120000
DURATION:PT0H60M0S
SUMMARY:Cardinals vs Panthers
DESCRIPTION:Heisman 5-7 Years Old | Football Fanatics\nThe Cheyenne Family YMCA\nCamp Day - No Games
URL;VALUE=URI:https://ygametime.com/branch/cheyenne/sports/2016-spring-football-fanatics/2291/?utm_medium=calendar&utm_source=team_cal&utm_content=league_url#game-59438
LOCATION:Miller Field 2 - North
BEGIN:VALARM
TRIGGER:-P2H
ACTION:DISPLAY
DESCRIPTION:Cardinals vs Panthers
END:VALARM
END:VEVENT
BEGIN:VEVENT
UID:cheyenne-59440@ygametime.com
DTSTAMP:20160514T180000Z
DTSTART;TZID=America/Denver:20160514T120000
DURATION:PT0H60M0S
SUMMARY:Lions vs Cardinals
DESCRIPTION:Heisman 5-7 Years Old | Football Fanatics\nThe Cheyenne Family YMCA\n
URL;VALUE=URI:https://ygametime.com/branch/cheyenne/sports/2016-spring-football-fanatics/2291/?utm_medium=calendar&utm_source=team_cal&utm_content=league_url#game-59440
LOCATION:Miller Field 2 - North
BEGIN:VALARM
TRIGGER:-P2H
ACTION:DISPLAY
DESCRIPTION:Lions vs Cardinals
END:VALARM
END:VEVENT
BEGIN:VEVENT
UID:cheyenne-59442@ygametime.com
DTSTAMP:20160521T190000Z
DTSTART;TZID=America/Denver:20160521T130000
DURATION:PT0H60M0S
SUMMARY:Jets vs Cardinals
DESCRIPTION:Heisman 5-7 Years Old | Football Fanatics\nThe Cheyenne Family YMCA\nPictures after the game.
URL;VALUE=URI:https://ygametime.com/branch/cheyenne/sports/2016-spring-football-fanatics/2291/?utm_medium=calendar&utm_source=team_cal&utm_content=league_url#game-59442
LOCATION:Miller Field 2 - North
BEGIN:VALARM
TRIGGER:-P2H
ACTION:DISPLAY
DESCRIPTION:Jets vs Cardinals
END:VALARM
END:VEVENT
BEGIN:VEVENT
UID:cheyenne-59443@ygametime.com
DTSTAMP:20160604T190000Z
DTSTART;TZID=America/Denver:20160604T130000
DURATION:PT0H60M0S
SUMMARY:Cardinals vs Panthers
DESCRIPTION:Heisman 5-7 Years Old | Football Fanatics\nThe Cheyenne Family YMCA\n
URL;VALUE=URI:https://ygametime.com/branch/cheyenne/sports/2016-spring-football-fanatics/2291/?utm_medium=calendar&utm_source=team_cal&utm_content=league_url#game-59443
LOCATION:Miller Field 2 - North
BEGIN:VALARM
TRIGGER:-P2H
ACTION:DISPLAY
DESCRIPTION:Cardinals vs Panthers
END:VALARM
END:VEVENT
BEGIN:VEVENT
UID:cheyenne-59445@ygametime.com
DTSTAMP:20160611T180000Z
DTSTART;TZID=America/Denver:20160611T120000
DURATION:PT0H60M0S
SUMMARY:Lions vs Cardinals
DESCRIPTION:Heisman 5-7 Years Old | Football Fanatics\nThe Cheyenne Family YMCA\n
URL;VALUE=URI:https://ygametime.com/branch/cheyenne/sports/2016-spring-football-fanatics/2291/?utm_medium=calendar&utm_source=team_cal&utm_content=league_url#game-59445
LOCATION:Miller Field 2 - North
BEGIN:VALARM
TRIGGER:-P2H
ACTION:DISPLAY
DESCRIPTION:Lions vs Cardinals
END:VALARM
END:VEVENT
BEGIN:VEVENT
UID:cheyenne-59447@ygametime.com
DTSTAMP:20160618T190000Z
DTSTART;TZID=America/Denver:20160618T130000
DURATION:PT0H60M0S
SUMMARY:Jets vs Cardinals
DESCRIPTION:Heisman 5-7 Years Old | Football Fanatics\nThe Cheyenne Family YMCA\n
URL;VALUE=URI:https://ygametime.com/branch/cheyenne/sports/2016-spring-football-fanatics/2291/?utm_medium=calendar&utm_source=team_cal&utm_content=league_url#game-59447
LOCATION:Miller Field 2 - North
BEGIN:VALARM
TRIGGER:-P2H
ACTION:DISPLAY
DESCRIPTION:Jets vs Cardinals
END:VALARM
END:VEVENT
END:VCALENDAR

