BEGIN:VCALENDAR
VERSION:2.0
PRODID:-//YGAMETIME.com//YGT iCal Creator//EN
METHOD:PUBLISH
X-PUBLISHED-TTL:PT6H
REFRESH-INTERVAL;VALUE=DURATION:PT6H
CALSCALE:GREGORIAN
X-WR-CALNAME:YGAMETIME CALENDAR
BEGIN:VEVENT
UID:cheyenne-60261@ygametime.com
DTSTAMP:20160507T150000Z
DTSTART;TZID=America/Denver:20160507T090000
DURATION:PT0H60M0S
SUMMARY:Chaos vs Storm
DESCRIPTION:3-4 Years Old | Youth Outdoor Soccer\nThe Cheyenne Family YMCA\n
URL;VALUE=URI:https://ygametime.com/branch/cheyenne/sports/2016-spring-youth-outdoor-soccer/2293/?utm_medium=calendar&utm_source=team_cal&utm_content=league_url#game-60261
LOCATION:Sunrise Elementary - Field 1
BEGIN:VALARM
TRIGGER:-P2H
ACTION:DISPLAY
DESCRIPTION:Chaos vs Storm
END:VALARM
END:VEVENT
BEGIN:VEVENT
UID:cheyenne-60264@ygametime.com
DTSTAMP:20160514T150000Z
DTSTART;TZID=America/Denver:20160514T090000
DURATION:PT0H60M0S
SUMMARY:The Incredibles  vs Chaos
DESCRIPTION:3-4 Years Old | Youth Outdoor Soccer\nThe Cheyenne Family YMCA\n
URL;VALUE=URI:https://ygametime.com/branch/cheyenne/sports/2016-spring-youth-outdoor-soccer/2293/?utm_medium=calendar&utm_source=team_cal&utm_content=league_url#game-60264
LOCATION:Sunrise Elementary - Field 1
BEGIN:VALARM
TRIGGER:-P2H
ACTION:DISPLAY
DESCRIPTION:The Incredibles  vs Chaos
END:VALARM
END:VEVENT
BEGIN:VEVENT
UID:cheyenne-60926@ygametime.com
DTSTAMP:20160521T151000Z
DTSTART;TZID=America/Denver:20160521T091000
DURATION:PT0H10M0S
SUMMARY:Chaos vs -
DESCRIPTION:3-4 Years Old | Youth Outdoor Soccer\nThe Cheyenne Family YMCA\nPicture Day - No Games
URL;VALUE=URI:https://ygametime.com/branch/cheyenne/sports/2016-spring-youth-outdoor-soccer/2293/?utm_medium=calendar&utm_source=team_cal&utm_content=league_url#game-60926
LOCATION:Sunrise Elementary - Field 3
BEGIN:VALARM
TRIGGER:-P2H
ACTION:DISPLAY
DESCRIPTION:Chaos vs -
END:VALARM
END:VEVENT
BEGIN:VEVENT
UID:cheyenne-60267@ygametime.com
DTSTAMP:20160604T150000Z
DTSTART;TZID=America/Denver:20160604T090000
DURATION:PT0H60M0S
SUMMARY:Chaos vs Havoc
DESCRIPTION:3-4 Years Old | Youth Outdoor Soccer\nThe Cheyenne Family YMCA\n
URL;VALUE=URI:https://ygametime.com/branch/cheyenne/sports/2016-spring-youth-outdoor-soccer/2293/?utm_medium=calendar&utm_source=team_cal&utm_content=league_url#game-60267
LOCATION:Sunrise Elementary - Field 1
BEGIN:VALARM
TRIGGER:-P2H
ACTION:DISPLAY
DESCRIPTION:Chaos vs Havoc
END:VALARM
END:VEVENT
BEGIN:VEVENT
UID:cheyenne-60272@ygametime.com
DTSTAMP:20160611T150000Z
DTSTART;TZID=America/Denver:20160611T090000
DURATION:PT0H60M0S
SUMMARY:Everest vs Chaos
DESCRIPTION:3-4 Years Old | Youth Outdoor Soccer\nThe Cheyenne Family YMCA\n
URL;VALUE=URI:https://ygametime.com/branch/cheyenne/sports/2016-spring-youth-outdoor-soccer/2293/?utm_medium=calendar&utm_source=team_cal&utm_content=league_url#game-60272
LOCATION:Sunrise Elementary - Field 3
BEGIN:VALARM
TRIGGER:-P2H
ACTION:DISPLAY
DESCRIPTION:Everest vs Chaos
END:VALARM
END:VEVENT
BEGIN:VEVENT
UID:cheyenne-60273@ygametime.com
DTSTAMP:20160618T150000Z
DTSTART;TZID=America/Denver:20160618T090000
DURATION:PT0H60M0S
SUMMARY:Chaos vs Blaze
DESCRIPTION:3-4 Years Old | Youth Outdoor Soccer\nThe Cheyenne Family YMCA\n
URL;VALUE=URI:https://ygametime.com/branch/cheyenne/sports/2016-spring-youth-outdoor-soccer/2293/?utm_medium=calendar&utm_source=team_cal&utm_content=league_url#game-60273
LOCATION:Sunrise Elementary - Field 1
BEGIN:VALARM
TRIGGER:-P2H
ACTION:DISPLAY
DESCRIPTION:Chaos vs Blaze
END:VALARM
END:VEVENT
BEGIN:VEVENT
UID:cheyenne-60277@ygametime.com
DTSTAMP:20160625T150000Z
DTSTART;TZID=America/Denver:20160625T090000
DURATION:PT0H60M0S
SUMMARY:Chaos vs Storm
DESCRIPTION:3-4 Years Old | Youth Outdoor Soccer\nThe Cheyenne Family YMCA\n
URL;VALUE=URI:https://ygametime.com/branch/cheyenne/sports/2016-spring-youth-outdoor-soccer/2293/?utm_medium=calendar&utm_source=team_cal&utm_content=league_url#game-60277
LOCATION:Sunrise Elementary - Field 2
BEGIN:VALARM
TRIGGER:-P2H
ACTION:DISPLAY
DESCRIPTION:Chaos vs Storm
END:VALARM
END:VEVENT
END:VCALENDAR

