BEGIN:VCALENDAR
VERSION:2.0
PRODID:-//YGAMETIME.com//YGT iCal Creator//EN
METHOD:PUBLISH
X-PUBLISHED-TTL:PT6H
REFRESH-INTERVAL;VALUE=DURATION:PT6H
CALSCALE:GREGORIAN
X-WR-CALNAME:YGAMETIME CALENDAR
BEGIN:VEVENT
UID:cheyenne-59519@ygametime.com
DTSTAMP:20160507T160000Z
DTSTART;TZID=America/Denver:20160507T100000
DURATION:PT0H60M0S
SUMMARY:Bandits vs Ducks
DESCRIPTION:5-6 Years Old | Youth Outdoor Soccer\nThe Cheyenne Family YMCA\nCamp Day - No Games
URL;VALUE=URI:https://ygametime.com/branch/cheyenne/sports/2016-spring-youth-outdoor-soccer/2324/?utm_medium=calendar&utm_source=team_cal&utm_content=league_url#game-59519
LOCATION:Sunrise Elementary - Field 1
BEGIN:VALARM
TRIGGER:-P2H
ACTION:DISPLAY
DESCRIPTION:Bandits vs Ducks
END:VALARM
END:VEVENT
BEGIN:VEVENT
UID:cheyenne-59522@ygametime.com
DTSTAMP:20160514T160000Z
DTSTART;TZID=America/Denver:20160514T100000
DURATION:PT0H60M0S
SUMMARY:Rebels vs Bandits
DESCRIPTION:5-6 Years Old | Youth Outdoor Soccer\nThe Cheyenne Family YMCA\n
URL;VALUE=URI:https://ygametime.com/branch/cheyenne/sports/2016-spring-youth-outdoor-soccer/2324/?utm_medium=calendar&utm_source=team_cal&utm_content=league_url#game-59522
LOCATION:Sunrise Elementary - Field 2
BEGIN:VALARM
TRIGGER:-P2H
ACTION:DISPLAY
DESCRIPTION:Rebels vs Bandits
END:VALARM
END:VEVENT
BEGIN:VEVENT
UID:cheyenne-59540@ygametime.com
DTSTAMP:20160521T162000Z
DTSTART;TZID=America/Denver:20160521T102000
DURATION:PT0H10M0S
SUMMARY:Bandits vs -
DESCRIPTION:5-6 Years Old | Youth Outdoor Soccer\nThe Cheyenne Family YMCA\nPicture day - No Games
URL;VALUE=URI:https://ygametime.com/branch/cheyenne/sports/2016-spring-youth-outdoor-soccer/2324/?utm_medium=calendar&utm_source=team_cal&utm_content=league_url#game-59540
LOCATION:Sunrise Elementary - Field 3
BEGIN:VALARM
TRIGGER:-P2H
ACTION:DISPLAY
DESCRIPTION:Bandits vs -
END:VALARM
END:VEVENT
BEGIN:VEVENT
UID:cheyenne-59525@ygametime.com
DTSTAMP:20160604T160000Z
DTSTART;TZID=America/Denver:20160604T100000
DURATION:PT0H60M0S
SUMMARY:Bandits vs Fury
DESCRIPTION:5-6 Years Old | Youth Outdoor Soccer\nThe Cheyenne Family YMCA\n
URL;VALUE=URI:https://ygametime.com/branch/cheyenne/sports/2016-spring-youth-outdoor-soccer/2324/?utm_medium=calendar&utm_source=team_cal&utm_content=league_url#game-59525
LOCATION:Sunrise Elementary - Field 1
BEGIN:VALARM
TRIGGER:-P2H
ACTION:DISPLAY
DESCRIPTION:Bandits vs Fury
END:VALARM
END:VEVENT
BEGIN:VEVENT
UID:cheyenne-59530@ygametime.com
DTSTAMP:20160611T160000Z
DTSTART;TZID=America/Denver:20160611T100000
DURATION:PT0H60M0S
SUMMARY:Stars vs Bandits
DESCRIPTION:5-6 Years Old | Youth Outdoor Soccer\nThe Cheyenne Family YMCA\n
URL;VALUE=URI:https://ygametime.com/branch/cheyenne/sports/2016-spring-youth-outdoor-soccer/2324/?utm_medium=calendar&utm_source=team_cal&utm_content=league_url#game-59530
LOCATION:Sunrise Elementary - Field 3
BEGIN:VALARM
TRIGGER:-P2H
ACTION:DISPLAY
DESCRIPTION:Stars vs Bandits
END:VALARM
END:VEVENT
BEGIN:VEVENT
UID:cheyenne-59531@ygametime.com
DTSTAMP:20160618T160000Z
DTSTART;TZID=America/Denver:20160618T100000
DURATION:PT0H60M0S
SUMMARY:Bandits vs Aces
DESCRIPTION:5-6 Years Old | Youth Outdoor Soccer\nThe Cheyenne Family YMCA\n
URL;VALUE=URI:https://ygametime.com/branch/cheyenne/sports/2016-spring-youth-outdoor-soccer/2324/?utm_medium=calendar&utm_source=team_cal&utm_content=league_url#game-59531
LOCATION:Sunrise Elementary - Field 1
BEGIN:VALARM
TRIGGER:-P2H
ACTION:DISPLAY
DESCRIPTION:Bandits vs Aces
END:VALARM
END:VEVENT
BEGIN:VEVENT
UID:cheyenne-59535@ygametime.com
DTSTAMP:20160625T160000Z
DTSTART;TZID=America/Denver:20160625T100000
DURATION:PT0H60M0S
SUMMARY:Bandits vs Ducks
DESCRIPTION:5-6 Years Old | Youth Outdoor Soccer\nThe Cheyenne Family YMCA\n
URL;VALUE=URI:https://ygametime.com/branch/cheyenne/sports/2016-spring-youth-outdoor-soccer/2324/?utm_medium=calendar&utm_source=team_cal&utm_content=league_url#game-59535
LOCATION:Sunrise Elementary - Field 2
BEGIN:VALARM
TRIGGER:-P2H
ACTION:DISPLAY
DESCRIPTION:Bandits vs Ducks
END:VALARM
END:VEVENT
END:VCALENDAR

