BEGIN:VCALENDAR
VERSION:2.0
PRODID:-//YGAMETIME.com//YGT iCal Creator//EN
METHOD:PUBLISH
X-PUBLISHED-TTL:PT6H
REFRESH-INTERVAL;VALUE=DURATION:PT6H
CALSCALE:GREGORIAN
X-WR-CALNAME:YGAMETIME CALENDAR
BEGIN:VEVENT
UID:cheyenne-59520@ygametime.com
DTSTAMP:20160507T160000Z
DTSTART;TZID=America/Denver:20160507T100000
DURATION:PT0H60M0S
SUMMARY:Stars vs Fury
DESCRIPTION:5-6 Years Old | Youth Outdoor Soccer\nThe Cheyenne Family YMCA\nCamp Day - No Games
URL;VALUE=URI:https://ygametime.com/branch/cheyenne/sports/2016-spring-youth-outdoor-soccer/2324/?utm_medium=calendar&utm_source=team_cal&utm_content=league_url#game-59520
LOCATION:Sunrise Elementary - Field 2
BEGIN:VALARM
TRIGGER:-P2H
ACTION:DISPLAY
DESCRIPTION:Stars vs Fury
END:VALARM
END:VEVENT
BEGIN:VEVENT
UID:cheyenne-59524@ygametime.com
DTSTAMP:20160514T160000Z
DTSTART;TZID=America/Denver:20160514T100000
DURATION:PT0H60M0S
SUMMARY:Ducks vs Stars
DESCRIPTION:5-6 Years Old | Youth Outdoor Soccer\nThe Cheyenne Family YMCA\n
URL;VALUE=URI:https://ygametime.com/branch/cheyenne/sports/2016-spring-youth-outdoor-soccer/2324/?utm_medium=calendar&utm_source=team_cal&utm_content=league_url#game-59524
LOCATION:Sunrise Elementary - Field 1
BEGIN:VALARM
TRIGGER:-P2H
ACTION:DISPLAY
DESCRIPTION:Ducks vs Stars
END:VALARM
END:VEVENT
BEGIN:VEVENT
UID:cheyenne-59542@ygametime.com
DTSTAMP:20160521T164000Z
DTSTART;TZID=America/Denver:20160521T104000
DURATION:PT0H10M0S
SUMMARY:Stars vs -
DESCRIPTION:5-6 Years Old | Youth Outdoor Soccer\nThe Cheyenne Family YMCA\nPicture Day - No Games
URL;VALUE=URI:https://ygametime.com/branch/cheyenne/sports/2016-spring-youth-outdoor-soccer/2324/?utm_medium=calendar&utm_source=team_cal&utm_content=league_url#game-59542
LOCATION:Sunrise Elementary - Field 3
BEGIN:VALARM
TRIGGER:-P2H
ACTION:DISPLAY
DESCRIPTION:Stars vs -
END:VALARM
END:VEVENT
BEGIN:VEVENT
UID:cheyenne-59527@ygametime.com
DTSTAMP:20160604T160000Z
DTSTART;TZID=America/Denver:20160604T100000
DURATION:PT0H60M0S
SUMMARY:Aces vs Stars
DESCRIPTION:5-6 Years Old | Youth Outdoor Soccer\nThe Cheyenne Family YMCA\n
URL;VALUE=URI:https://ygametime.com/branch/cheyenne/sports/2016-spring-youth-outdoor-soccer/2324/?utm_medium=calendar&utm_source=team_cal&utm_content=league_url#game-59527
LOCATION:Sunrise Elementary - Field 2
BEGIN:VALARM
TRIGGER:-P2H
ACTION:DISPLAY
DESCRIPTION:Aces vs Stars
END:VALARM
END:VEVENT
BEGIN:VEVENT
UID:cheyenne-59530@ygametime.com
DTSTAMP:20160611T160000Z
DTSTART;TZID=America/Denver:20160611T100000
DURATION:PT0H60M0S
SUMMARY:Stars vs Bandits
DESCRIPTION:5-6 Years Old | Youth Outdoor Soccer\nThe Cheyenne Family YMCA\n
URL;VALUE=URI:https://ygametime.com/branch/cheyenne/sports/2016-spring-youth-outdoor-soccer/2324/?utm_medium=calendar&utm_source=team_cal&utm_content=league_url#game-59530
LOCATION:Sunrise Elementary - Field 3
BEGIN:VALARM
TRIGGER:-P2H
ACTION:DISPLAY
DESCRIPTION:Stars vs Bandits
END:VALARM
END:VEVENT
BEGIN:VEVENT
UID:cheyenne-59532@ygametime.com
DTSTAMP:20160618T160000Z
DTSTART;TZID=America/Denver:20160618T100000
DURATION:PT0H60M0S
SUMMARY:Rebels vs Stars
DESCRIPTION:5-6 Years Old | Youth Outdoor Soccer\nThe Cheyenne Family YMCA\n
URL;VALUE=URI:https://ygametime.com/branch/cheyenne/sports/2016-spring-youth-outdoor-soccer/2324/?utm_medium=calendar&utm_source=team_cal&utm_content=league_url#game-59532
LOCATION:Sunrise Elementary - Field 2
BEGIN:VALARM
TRIGGER:-P2H
ACTION:DISPLAY
DESCRIPTION:Rebels vs Stars
END:VALARM
END:VEVENT
BEGIN:VEVENT
UID:cheyenne-59536@ygametime.com
DTSTAMP:20160625T160000Z
DTSTART;TZID=America/Denver:20160625T100000
DURATION:PT0H60M0S
SUMMARY:Stars vs Fury
DESCRIPTION:5-6 Years Old | Youth Outdoor Soccer\nThe Cheyenne Family YMCA\n
URL;VALUE=URI:https://ygametime.com/branch/cheyenne/sports/2016-spring-youth-outdoor-soccer/2324/?utm_medium=calendar&utm_source=team_cal&utm_content=league_url#game-59536
LOCATION:Sunrise Elementary - Field 3
BEGIN:VALARM
TRIGGER:-P2H
ACTION:DISPLAY
DESCRIPTION:Stars vs Fury
END:VALARM
END:VEVENT
END:VCALENDAR

