BEGIN:VCALENDAR
VERSION:2.0
PRODID:-//YGAMETIME.com//YGT iCal Creator//EN
METHOD:PUBLISH
X-PUBLISHED-TTL:PT6H
REFRESH-INTERVAL;VALUE=DURATION:PT6H
CALSCALE:GREGORIAN
X-WR-CALNAME:YGAMETIME CALENDAR
BEGIN:VEVENT
UID:cheyenne-59521@ygametime.com
DTSTAMP:20160507T160000Z
DTSTART;TZID=America/Denver:20160507T100000
DURATION:PT0H60M0S
SUMMARY:Aces vs Rebels
DESCRIPTION:5-6 Years Old | Youth Outdoor Soccer\nThe Cheyenne Family YMCA\nCamp Day - No Games
URL;VALUE=URI:https://ygametime.com/branch/cheyenne/sports/2016-spring-youth-outdoor-soccer/2324/?utm_medium=calendar&utm_source=team_cal&utm_content=league_url#game-59521
LOCATION:Sunrise Elementary - Field 3
BEGIN:VALARM
TRIGGER:-P2H
ACTION:DISPLAY
DESCRIPTION:Aces vs Rebels
END:VALARM
END:VEVENT
BEGIN:VEVENT
UID:cheyenne-59522@ygametime.com
DTSTAMP:20160514T160000Z
DTSTART;TZID=America/Denver:20160514T100000
DURATION:PT0H60M0S
SUMMARY:Rebels vs Bandits
DESCRIPTION:5-6 Years Old | Youth Outdoor Soccer\nThe Cheyenne Family YMCA\n
URL;VALUE=URI:https://ygametime.com/branch/cheyenne/sports/2016-spring-youth-outdoor-soccer/2324/?utm_medium=calendar&utm_source=team_cal&utm_content=league_url#game-59522
LOCATION:Sunrise Elementary - Field 2
BEGIN:VALARM
TRIGGER:-P2H
ACTION:DISPLAY
DESCRIPTION:Rebels vs Bandits
END:VALARM
END:VEVENT
BEGIN:VEVENT
UID:cheyenne-59543@ygametime.com
DTSTAMP:20160521T165000Z
DTSTART;TZID=America/Denver:20160521T105000
DURATION:PT0H10M0S
SUMMARY:Rebels vs -
DESCRIPTION:5-6 Years Old | Youth Outdoor Soccer\nThe Cheyenne Family YMCA\nPicture Day - No Games
URL;VALUE=URI:https://ygametime.com/branch/cheyenne/sports/2016-spring-youth-outdoor-soccer/2324/?utm_medium=calendar&utm_source=team_cal&utm_content=league_url#game-59543
LOCATION:Sunrise Elementary - Field 3
BEGIN:VALARM
TRIGGER:-P2H
ACTION:DISPLAY
DESCRIPTION:Rebels vs -
END:VALARM
END:VEVENT
BEGIN:VEVENT
UID:cheyenne-59526@ygametime.com
DTSTAMP:20160604T160000Z
DTSTART;TZID=America/Denver:20160604T100000
DURATION:PT0H60M0S
SUMMARY:Rebels vs Ducks
DESCRIPTION:5-6 Years Old | Youth Outdoor Soccer\nThe Cheyenne Family YMCA\n
URL;VALUE=URI:https://ygametime.com/branch/cheyenne/sports/2016-spring-youth-outdoor-soccer/2324/?utm_medium=calendar&utm_source=team_cal&utm_content=league_url#game-59526
LOCATION:Sunrise Elementary - Field 3
BEGIN:VALARM
TRIGGER:-P2H
ACTION:DISPLAY
DESCRIPTION:Rebels vs Ducks
END:VALARM
END:VEVENT
BEGIN:VEVENT
UID:cheyenne-59529@ygametime.com
DTSTAMP:20160611T160000Z
DTSTART;TZID=America/Denver:20160611T100000
DURATION:PT0H60M0S
SUMMARY:Fury vs Rebels
DESCRIPTION:5-6 Years Old | Youth Outdoor Soccer\nThe Cheyenne Family YMCA\n
URL;VALUE=URI:https://ygametime.com/branch/cheyenne/sports/2016-spring-youth-outdoor-soccer/2324/?utm_medium=calendar&utm_source=team_cal&utm_content=league_url#game-59529
LOCATION:Sunrise Elementary - Field 2
BEGIN:VALARM
TRIGGER:-P2H
ACTION:DISPLAY
DESCRIPTION:Fury vs Rebels
END:VALARM
END:VEVENT
BEGIN:VEVENT
UID:cheyenne-59532@ygametime.com
DTSTAMP:20160618T160000Z
DTSTART;TZID=America/Denver:20160618T100000
DURATION:PT0H60M0S
SUMMARY:Rebels vs Stars
DESCRIPTION:5-6 Years Old | Youth Outdoor Soccer\nThe Cheyenne Family YMCA\n
URL;VALUE=URI:https://ygametime.com/branch/cheyenne/sports/2016-spring-youth-outdoor-soccer/2324/?utm_medium=calendar&utm_source=team_cal&utm_content=league_url#game-59532
LOCATION:Sunrise Elementary - Field 2
BEGIN:VALARM
TRIGGER:-P2H
ACTION:DISPLAY
DESCRIPTION:Rebels vs Stars
END:VALARM
END:VEVENT
BEGIN:VEVENT
UID:cheyenne-59534@ygametime.com
DTSTAMP:20160625T160000Z
DTSTART;TZID=America/Denver:20160625T100000
DURATION:PT0H60M0S
SUMMARY:Aces vs Rebels
DESCRIPTION:5-6 Years Old | Youth Outdoor Soccer\nThe Cheyenne Family YMCA\n
URL;VALUE=URI:https://ygametime.com/branch/cheyenne/sports/2016-spring-youth-outdoor-soccer/2324/?utm_medium=calendar&utm_source=team_cal&utm_content=league_url#game-59534
LOCATION:Sunrise Elementary - Field 1
BEGIN:VALARM
TRIGGER:-P2H
ACTION:DISPLAY
DESCRIPTION:Aces vs Rebels
END:VALARM
END:VEVENT
END:VCALENDAR

