BEGIN:VCALENDAR
VERSION:2.0
PRODID:-//YGAMETIME.com//YGT iCal Creator//EN
METHOD:PUBLISH
X-PUBLISHED-TTL:PT6H
REFRESH-INTERVAL;VALUE=DURATION:PT6H
CALSCALE:GREGORIAN
X-WR-CALNAME:YGAMETIME CALENDAR
BEGIN:VEVENT
UID:cheyenne-59544@ygametime.com
DTSTAMP:20160507T170000Z
DTSTART;TZID=America/Denver:20160507T110000
DURATION:PT0H60M0S
SUMMARY:Predators vs Combat
DESCRIPTION:7-9 Years Old | Youth Outdoor Soccer\nThe Cheyenne Family YMCA\nCamp Day - No Games
URL;VALUE=URI:https://ygametime.com/branch/cheyenne/sports/2016-spring-youth-outdoor-soccer/2330/?utm_medium=calendar&utm_source=team_cal&utm_content=league_url#game-59544
LOCATION:Sunrise Elementary - Field 1
BEGIN:VALARM
TRIGGER:-P2H
ACTION:DISPLAY
DESCRIPTION:Predators vs Combat
END:VALARM
END:VEVENT
BEGIN:VEVENT
UID:cheyenne-59546@ygametime.com
DTSTAMP:20160514T170000Z
DTSTART;TZID=America/Denver:20160514T110000
DURATION:PT0H60M0S
SUMMARY:Maverick vs Predators
DESCRIPTION:7-9 Years Old | Youth Outdoor Soccer\nThe Cheyenne Family YMCA\n
URL;VALUE=URI:https://ygametime.com/branch/cheyenne/sports/2016-spring-youth-outdoor-soccer/2330/?utm_medium=calendar&utm_source=team_cal&utm_content=league_url#game-59546
LOCATION:Sunrise Elementary - Field 1
BEGIN:VALARM
TRIGGER:-P2H
ACTION:DISPLAY
DESCRIPTION:Maverick vs Predators
END:VALARM
END:VEVENT
BEGIN:VEVENT
UID:cheyenne-59559@ygametime.com
DTSTAMP:20160521T172000Z
DTSTART;TZID=America/Denver:20160521T112000
DURATION:PT0H10M0S
SUMMARY:Predators vs -
DESCRIPTION:7-9 Years Old | Youth Outdoor Soccer\nThe Cheyenne Family YMCA\n
URL;VALUE=URI:https://ygametime.com/branch/cheyenne/sports/2016-spring-youth-outdoor-soccer/2330/?utm_medium=calendar&utm_source=team_cal&utm_content=league_url#game-59559
LOCATION:Sunrise Elementary - Field 3
BEGIN:VALARM
TRIGGER:-P2H
ACTION:DISPLAY
DESCRIPTION:Predators vs -
END:VALARM
END:VEVENT
BEGIN:VEVENT
UID:cheyenne-59549@ygametime.com
DTSTAMP:20160604T170000Z
DTSTART;TZID=America/Denver:20160604T110000
DURATION:PT0H60M0S
SUMMARY:Predators vs Rampage
DESCRIPTION:7-9 Years Old | Youth Outdoor Soccer\nThe Cheyenne Family YMCA\n
URL;VALUE=URI:https://ygametime.com/branch/cheyenne/sports/2016-spring-youth-outdoor-soccer/2330/?utm_medium=calendar&utm_source=team_cal&utm_content=league_url#game-59549
LOCATION:Sunrise Elementary - Field 2
BEGIN:VALARM
TRIGGER:-P2H
ACTION:DISPLAY
DESCRIPTION:Predators vs Rampage
END:VALARM
END:VEVENT
BEGIN:VEVENT
UID:cheyenne-59551@ygametime.com
DTSTAMP:20160611T170000Z
DTSTART;TZID=America/Denver:20160611T110000
DURATION:PT0H60M0S
SUMMARY:Predators vs Combat
DESCRIPTION:7-9 Years Old | Youth Outdoor Soccer\nThe Cheyenne Family YMCA\n
URL;VALUE=URI:https://ygametime.com/branch/cheyenne/sports/2016-spring-youth-outdoor-soccer/2330/?utm_medium=calendar&utm_source=team_cal&utm_content=league_url#game-59551
LOCATION:Sunrise Elementary - Field 2
BEGIN:VALARM
TRIGGER:-P2H
ACTION:DISPLAY
DESCRIPTION:Predators vs Combat
END:VALARM
END:VEVENT
BEGIN:VEVENT
UID:cheyenne-59553@ygametime.com
DTSTAMP:20160618T170000Z
DTSTART;TZID=America/Denver:20160618T110000
DURATION:PT0H60M0S
SUMMARY:Maverick vs Predators
DESCRIPTION:7-9 Years Old | Youth Outdoor Soccer\nThe Cheyenne Family YMCA\n
URL;VALUE=URI:https://ygametime.com/branch/cheyenne/sports/2016-spring-youth-outdoor-soccer/2330/?utm_medium=calendar&utm_source=team_cal&utm_content=league_url#game-59553
LOCATION:Sunrise Elementary - Field 2
BEGIN:VALARM
TRIGGER:-P2H
ACTION:DISPLAY
DESCRIPTION:Maverick vs Predators
END:VALARM
END:VEVENT
BEGIN:VEVENT
UID:cheyenne-59554@ygametime.com
DTSTAMP:20160625T170000Z
DTSTART;TZID=America/Denver:20160625T110000
DURATION:PT0H60M0S
SUMMARY:Predators vs Rampage
DESCRIPTION:7-9 Years Old | Youth Outdoor Soccer\nThe Cheyenne Family YMCA\n
URL;VALUE=URI:https://ygametime.com/branch/cheyenne/sports/2016-spring-youth-outdoor-soccer/2330/?utm_medium=calendar&utm_source=team_cal&utm_content=league_url#game-59554
LOCATION:Sunrise Elementary - Field 1
BEGIN:VALARM
TRIGGER:-P2H
ACTION:DISPLAY
DESCRIPTION:Predators vs Rampage
END:VALARM
END:VEVENT
END:VCALENDAR

