BEGIN:VCALENDAR
VERSION:2.0
PRODID:-//YGAMETIME.com//YGT iCal Creator//EN
METHOD:PUBLISH
X-PUBLISHED-TTL:PT6H
REFRESH-INTERVAL;VALUE=DURATION:PT6H
CALSCALE:GREGORIAN
X-WR-CALNAME:YGAMETIME CALENDAR
BEGIN:VEVENT
UID:cheyenne-60263@ygametime.com
DTSTAMP:20160507T150000Z
DTSTART;TZID=America/Denver:20160507T090000
DURATION:PT0H60M0S
SUMMARY:Blaze vs The Incredibles 
DESCRIPTION:3-4 Years Old | Youth Outdoor Soccer\nThe Cheyenne Family YMCA\n
URL;VALUE=URI:https://ygametime.com/branch/cheyenne/sports/2016-spring-youth-outdoor-soccer/2293/?utm_medium=calendar&utm_source=team_cal&utm_content=league_url#game-60263
LOCATION:Sunrise Elementary - Field 2
BEGIN:VALARM
TRIGGER:-P2H
ACTION:DISPLAY
DESCRIPTION:Blaze vs The Incredibles 
END:VALARM
END:VEVENT
BEGIN:VEVENT
UID:cheyenne-60264@ygametime.com
DTSTAMP:20160514T150000Z
DTSTART;TZID=America/Denver:20160514T090000
DURATION:PT0H60M0S
SUMMARY:The Incredibles  vs Chaos
DESCRIPTION:3-4 Years Old | Youth Outdoor Soccer\nThe Cheyenne Family YMCA\n
URL;VALUE=URI:https://ygametime.com/branch/cheyenne/sports/2016-spring-youth-outdoor-soccer/2293/?utm_medium=calendar&utm_source=team_cal&utm_content=league_url#game-60264
LOCATION:Sunrise Elementary - Field 1
BEGIN:VALARM
TRIGGER:-P2H
ACTION:DISPLAY
DESCRIPTION:The Incredibles  vs Chaos
END:VALARM
END:VEVENT
BEGIN:VEVENT
UID:cheyenne-60930@ygametime.com
DTSTAMP:20160521T155000Z
DTSTART;TZID=America/Denver:20160521T095000
DURATION:PT0H10M0S
SUMMARY:The Incredibles  vs -
DESCRIPTION:3-4 Years Old | Youth Outdoor Soccer\nThe Cheyenne Family YMCA\nPicture Day - No Games
URL;VALUE=URI:https://ygametime.com/branch/cheyenne/sports/2016-spring-youth-outdoor-soccer/2293/?utm_medium=calendar&utm_source=team_cal&utm_content=league_url#game-60930
LOCATION:Sunrise Elementary - Field 3
BEGIN:VALARM
TRIGGER:-P2H
ACTION:DISPLAY
DESCRIPTION:The Incredibles  vs -
END:VALARM
END:VEVENT
BEGIN:VEVENT
UID:cheyenne-60268@ygametime.com
DTSTAMP:20160604T150000Z
DTSTART;TZID=America/Denver:20160604T090000
DURATION:PT0H60M0S
SUMMARY:The Incredibles  vs Storm
DESCRIPTION:3-4 Years Old | Youth Outdoor Soccer\nThe Cheyenne Family YMCA\n
URL;VALUE=URI:https://ygametime.com/branch/cheyenne/sports/2016-spring-youth-outdoor-soccer/2293/?utm_medium=calendar&utm_source=team_cal&utm_content=league_url#game-60268
LOCATION:Sunrise Elementary - Field 2
BEGIN:VALARM
TRIGGER:-P2H
ACTION:DISPLAY
DESCRIPTION:The Incredibles  vs Storm
END:VALARM
END:VEVENT
BEGIN:VEVENT
UID:cheyenne-60271@ygametime.com
DTSTAMP:20160611T150000Z
DTSTART;TZID=America/Denver:20160611T090000
DURATION:PT0H60M0S
SUMMARY:Havoc vs The Incredibles 
DESCRIPTION:3-4 Years Old | Youth Outdoor Soccer\nThe Cheyenne Family YMCA\n
URL;VALUE=URI:https://ygametime.com/branch/cheyenne/sports/2016-spring-youth-outdoor-soccer/2293/?utm_medium=calendar&utm_source=team_cal&utm_content=league_url#game-60271
LOCATION:Sunrise Elementary - Field 2
BEGIN:VALARM
TRIGGER:-P2H
ACTION:DISPLAY
DESCRIPTION:Havoc vs The Incredibles 
END:VALARM
END:VEVENT
BEGIN:VEVENT
UID:cheyenne-60274@ygametime.com
DTSTAMP:20160618T150000Z
DTSTART;TZID=America/Denver:20160618T090000
DURATION:PT0H60M0S
SUMMARY:The Incredibles  vs Everest
DESCRIPTION:3-4 Years Old | Youth Outdoor Soccer\nThe Cheyenne Family YMCA\n
URL;VALUE=URI:https://ygametime.com/branch/cheyenne/sports/2016-spring-youth-outdoor-soccer/2293/?utm_medium=calendar&utm_source=team_cal&utm_content=league_url#game-60274
LOCATION:Sunrise Elementary - Field 2
BEGIN:VALARM
TRIGGER:-P2H
ACTION:DISPLAY
DESCRIPTION:The Incredibles  vs Everest
END:VALARM
END:VEVENT
BEGIN:VEVENT
UID:cheyenne-60276@ygametime.com
DTSTAMP:20160625T150000Z
DTSTART;TZID=America/Denver:20160625T090000
DURATION:PT0H60M0S
SUMMARY:Blaze vs The Incredibles 
DESCRIPTION:3-4 Years Old | Youth Outdoor Soccer\nThe Cheyenne Family YMCA\n
URL;VALUE=URI:https://ygametime.com/branch/cheyenne/sports/2016-spring-youth-outdoor-soccer/2293/?utm_medium=calendar&utm_source=team_cal&utm_content=league_url#game-60276
LOCATION:Sunrise Elementary - Field 1
BEGIN:VALARM
TRIGGER:-P2H
ACTION:DISPLAY
DESCRIPTION:Blaze vs The Incredibles 
END:VALARM
END:VEVENT
END:VCALENDAR

