BEGIN:VCALENDAR
VERSION:2.0
PRODID:-//YGAMETIME.com//YGT iCal Creator//EN
METHOD:PUBLISH
X-PUBLISHED-TTL:PT6H
REFRESH-INTERVAL;VALUE=DURATION:PT6H
CALSCALE:GREGORIAN
X-WR-CALNAME:YGAMETIME CALENDAR
BEGIN:VEVENT
UID:cheyenne-62024@ygametime.com
DTSTAMP:20160607T233000Z
DTSTART;TZID=America/Denver:20160607T173000
DURATION:PT0H60M0S
SUMMARY:Blue Jays vs Diamondbacks
DESCRIPTION:3-4 Years Old | T-Ball\nThe Cheyenne Family YMCA\n
URL;VALUE=URI:https://ygametime.com/branch/cheyenne/sports/2016-summer-t-ball/2501/?utm_medium=calendar&utm_source=team_cal&utm_content=league_url#game-62024
LOCATION:Sunrise Elementary - Field 2
BEGIN:VALARM
TRIGGER:-P2H
ACTION:DISPLAY
DESCRIPTION:Blue Jays vs Diamondbacks
END:VALARM
END:VEVENT
BEGIN:VEVENT
UID:cheyenne-62025@ygametime.com
DTSTAMP:20160609T233000Z
DTSTART;TZID=America/Denver:20160609T173000
DURATION:PT0H60M0S
SUMMARY:Diamondbacks vs Cheyanimals
DESCRIPTION:3-4 Years Old | T-Ball\nThe Cheyenne Family YMCA\n
URL;VALUE=URI:https://ygametime.com/branch/cheyenne/sports/2016-summer-t-ball/2501/?utm_medium=calendar&utm_source=team_cal&utm_content=league_url#game-62025
LOCATION:Sunrise Elementary - Field 2
BEGIN:VALARM
TRIGGER:-P2H
ACTION:DISPLAY
DESCRIPTION:Diamondbacks vs Cheyanimals
END:VALARM
END:VEVENT
BEGIN:VEVENT
UID:cheyenne-62027@ygametime.com
DTSTAMP:20160614T233000Z
DTSTART;TZID=America/Denver:20160614T173000
DURATION:PT0H60M0S
SUMMARY:Diamondbacks vs Raptors
DESCRIPTION:3-4 Years Old | T-Ball\nThe Cheyenne Family YMCA\n
URL;VALUE=URI:https://ygametime.com/branch/cheyenne/sports/2016-summer-t-ball/2501/?utm_medium=calendar&utm_source=team_cal&utm_content=league_url#game-62027
LOCATION:Sunrise Elementary - Field 2
BEGIN:VALARM
TRIGGER:-P2H
ACTION:DISPLAY
DESCRIPTION:Diamondbacks vs Raptors
END:VALARM
END:VEVENT
BEGIN:VEVENT
UID:cheyenne-62029@ygametime.com
DTSTAMP:20160616T233000Z
DTSTART;TZID=America/Denver:20160616T173000
DURATION:PT0H60M0S
SUMMARY:Blue Jays vs Diamondbacks
DESCRIPTION:3-4 Years Old | T-Ball\nThe Cheyenne Family YMCA\n 
URL;VALUE=URI:https://ygametime.com/branch/cheyenne/sports/2016-summer-t-ball/2501/?utm_medium=calendar&utm_source=team_cal&utm_content=league_url#game-62029
LOCATION:Sunrise Elementary - Field 1
BEGIN:VALARM
TRIGGER:-P2H
ACTION:DISPLAY
DESCRIPTION:Blue Jays vs Diamondbacks
END:VALARM
END:VEVENT
BEGIN:VEVENT
UID:cheyenne-62032@ygametime.com
DTSTAMP:20160621T233000Z
DTSTART;TZID=America/Denver:20160621T173000
DURATION:PT0H60M0S
SUMMARY:Diamondbacks vs Cheyanimals
DESCRIPTION:3-4 Years Old | T-Ball\nThe Cheyenne Family YMCA\n
URL;VALUE=URI:https://ygametime.com/branch/cheyenne/sports/2016-summer-t-ball/2501/?utm_medium=calendar&utm_source=team_cal&utm_content=league_url#game-62032
LOCATION:Sunrise Elementary - Field 2
BEGIN:VALARM
TRIGGER:-P2H
ACTION:DISPLAY
DESCRIPTION:Diamondbacks vs Cheyanimals
END:VALARM
END:VEVENT
BEGIN:VEVENT
UID:cheyenne-62034@ygametime.com
DTSTAMP:20160623T233000Z
DTSTART;TZID=America/Denver:20160623T173000
DURATION:PT0H60M0S
SUMMARY:Diamondbacks vs Raptors
DESCRIPTION:3-4 Years Old | T-Ball\nThe Cheyenne Family YMCA\nPicture Day -See Coach
URL;VALUE=URI:https://ygametime.com/branch/cheyenne/sports/2016-summer-t-ball/2501/?utm_medium=calendar&utm_source=team_cal&utm_content=league_url#game-62034
LOCATION:Sunrise Elementary - Field 2
BEGIN:VALARM
TRIGGER:-P2H
ACTION:DISPLAY
DESCRIPTION:Diamondbacks vs Raptors
END:VALARM
END:VEVENT
BEGIN:VEVENT
UID:cheyenne-62036@ygametime.com
DTSTAMP:20160628T233000Z
DTSTART;TZID=America/Denver:20160628T173000
DURATION:PT0H60M0S
SUMMARY:Blue Jays vs Diamondbacks
DESCRIPTION:3-4 Years Old | T-Ball\nThe Cheyenne Family YMCA\n
URL;VALUE=URI:https://ygametime.com/branch/cheyenne/sports/2016-summer-t-ball/2501/?utm_medium=calendar&utm_source=team_cal&utm_content=league_url#game-62036
LOCATION:Sunrise Elementary - Field 1
BEGIN:VALARM
TRIGGER:-P2H
ACTION:DISPLAY
DESCRIPTION:Blue Jays vs Diamondbacks
END:VALARM
END:VEVENT
BEGIN:VEVENT
UID:cheyenne-62037@ygametime.com
DTSTAMP:20160630T233000Z
DTSTART;TZID=America/Denver:20160630T173000
DURATION:PT0H60M0S
SUMMARY:Diamondbacks vs Cheyanimals
DESCRIPTION:3-4 Years Old | T-Ball\nThe Cheyenne Family YMCA\n
URL;VALUE=URI:https://ygametime.com/branch/cheyenne/sports/2016-summer-t-ball/2501/?utm_medium=calendar&utm_source=team_cal&utm_content=league_url#game-62037
LOCATION:Sunrise Elementary - Field 2
BEGIN:VALARM
TRIGGER:-P2H
ACTION:DISPLAY
DESCRIPTION:Diamondbacks vs Cheyanimals
END:VALARM
END:VEVENT
BEGIN:VEVENT
UID:cheyenne-62039@ygametime.com
DTSTAMP:20160705T233000Z
DTSTART;TZID=America/Denver:20160705T173000
DURATION:PT0H60M0S
SUMMARY:Diamondbacks vs Raptors
DESCRIPTION:3-4 Years Old | T-Ball\nThe Cheyenne Family YMCA\n
URL;VALUE=URI:https://ygametime.com/branch/cheyenne/sports/2016-summer-t-ball/2501/?utm_medium=calendar&utm_source=team_cal&utm_content=league_url#game-62039
LOCATION:Sunrise Elementary - Field 1
BEGIN:VALARM
TRIGGER:-P2H
ACTION:DISPLAY
DESCRIPTION:Diamondbacks vs Raptors
END:VALARM
END:VEVENT
BEGIN:VEVENT
UID:cheyenne-62041@ygametime.com
DTSTAMP:20160707T233000Z
DTSTART;TZID=America/Denver:20160707T173000
DURATION:PT0H60M0S
SUMMARY:Blue Jays vs Diamondbacks
DESCRIPTION:3-4 Years Old | T-Ball\nThe Cheyenne Family YMCA\n
URL;VALUE=URI:https://ygametime.com/branch/cheyenne/sports/2016-summer-t-ball/2501/?utm_medium=calendar&utm_source=team_cal&utm_content=league_url#game-62041
LOCATION:Sunrise Elementary - Field 1
BEGIN:VALARM
TRIGGER:-P2H
ACTION:DISPLAY
DESCRIPTION:Blue Jays vs Diamondbacks
END:VALARM
END:VEVENT
BEGIN:VEVENT
UID:cheyenne-62044@ygametime.com
DTSTAMP:20160713T000000Z
DTSTART;TZID=America/Denver:20160712T180000
DURATION:PT0H60M0S
SUMMARY:Diamondbacks vs Cheyanimals
DESCRIPTION:3-4 Years Old | T-Ball\nThe Cheyenne Family YMCA\nAll-star Game - Note Field and Time
URL;VALUE=URI:https://ygametime.com/branch/cheyenne/sports/2016-summer-t-ball/2501/?utm_medium=calendar&utm_source=team_cal&utm_content=league_url#game-62044
LOCATION:Pride Park - West
BEGIN:VALARM
TRIGGER:-P2H
ACTION:DISPLAY
DESCRIPTION:Diamondbacks vs Cheyanimals
END:VALARM
END:VEVENT
END:VCALENDAR

