BEGIN:VCALENDAR
VERSION:2.0
PRODID:-//YGAMETIME.com//YGT iCal Creator//EN
METHOD:PUBLISH
X-PUBLISHED-TTL:PT6H
REFRESH-INTERVAL;VALUE=DURATION:PT6H
CALSCALE:GREGORIAN
X-WR-CALNAME:YGAMETIME CALENDAR
BEGIN:VEVENT
UID:cheyenne-62500@ygametime.com
DTSTAMP:20160608T003000Z
DTSTART;TZID=America/Denver:20160607T183000
DURATION:PT0H60M0S
SUMMARY:Seals vs Nuggets
DESCRIPTION:5-8 Years Old | T-Ball\nThe Cheyenne Family YMCA\n
URL;VALUE=URI:https://ygametime.com/branch/cheyenne/sports/2016-summer-t-ball/2527/?utm_medium=calendar&utm_source=team_cal&utm_content=league_url#game-62500
LOCATION:Sunrise Elementary - Field 3
BEGIN:VALARM
TRIGGER:-P2H
ACTION:DISPLAY
DESCRIPTION:Seals vs Nuggets
END:VALARM
END:VEVENT
BEGIN:VEVENT
UID:cheyenne-62502@ygametime.com
DTSTAMP:20160610T003000Z
DTSTART;TZID=America/Denver:20160609T183000
DURATION:PT0H60M0S
SUMMARY:Lanterns vs Seals
DESCRIPTION:5-8 Years Old | T-Ball\nThe Cheyenne Family YMCA\n
URL;VALUE=URI:https://ygametime.com/branch/cheyenne/sports/2016-summer-t-ball/2527/?utm_medium=calendar&utm_source=team_cal&utm_content=league_url#game-62502
LOCATION:Sunrise Elementary - Field 3
BEGIN:VALARM
TRIGGER:-P2H
ACTION:DISPLAY
DESCRIPTION:Lanterns vs Seals
END:VALARM
END:VEVENT
BEGIN:VEVENT
UID:cheyenne-62506@ygametime.com
DTSTAMP:20160615T003000Z
DTSTART;TZID=America/Denver:20160614T183000
DURATION:PT0H60M0S
SUMMARY:Seals vs Tigers
DESCRIPTION:5-8 Years Old | T-Ball\nThe Cheyenne Family YMCA\n
URL;VALUE=URI:https://ygametime.com/branch/cheyenne/sports/2016-summer-t-ball/2527/?utm_medium=calendar&utm_source=team_cal&utm_content=league_url#game-62506
LOCATION:Sunrise Elementary - Field 2
BEGIN:VALARM
TRIGGER:-P2H
ACTION:DISPLAY
DESCRIPTION:Seals vs Tigers
END:VALARM
END:VEVENT
BEGIN:VEVENT
UID:cheyenne-62507@ygametime.com
DTSTAMP:20160617T003000Z
DTSTART;TZID=America/Denver:20160616T183000
DURATION:PT0H60M0S
SUMMARY:Robins vs Seals
DESCRIPTION:5-8 Years Old | T-Ball\nThe Cheyenne Family YMCA\n
URL;VALUE=URI:https://ygametime.com/branch/cheyenne/sports/2016-summer-t-ball/2527/?utm_medium=calendar&utm_source=team_cal&utm_content=league_url#game-62507
LOCATION:Sunrise Elementary - Field 2
BEGIN:VALARM
TRIGGER:-P2H
ACTION:DISPLAY
DESCRIPTION:Robins vs Seals
END:VALARM
END:VEVENT
BEGIN:VEVENT
UID:cheyenne-62510@ygametime.com
DTSTAMP:20160622T003000Z
DTSTART;TZID=America/Denver:20160621T183000
DURATION:PT0H60M0S
SUMMARY:Rockets vs Seals
DESCRIPTION:5-8 Years Old | T-Ball\nThe Cheyenne Family YMCA\n
URL;VALUE=URI:https://ygametime.com/branch/cheyenne/sports/2016-summer-t-ball/2527/?utm_medium=calendar&utm_source=team_cal&utm_content=league_url#game-62510
LOCATION:Sunrise Elementary - Field 1
BEGIN:VALARM
TRIGGER:-P2H
ACTION:DISPLAY
DESCRIPTION:Rockets vs Seals
END:VALARM
END:VEVENT
BEGIN:VEVENT
UID:cheyenne-62513@ygametime.com
DTSTAMP:20160624T003000Z
DTSTART;TZID=America/Denver:20160623T183000
DURATION:PT0H60M0S
SUMMARY:Seals vs Nuggets
DESCRIPTION:5-8 Years Old | T-Ball\nThe Cheyenne Family YMCA\nPicture Day -See Coach
URL;VALUE=URI:https://ygametime.com/branch/cheyenne/sports/2016-summer-t-ball/2527/?utm_medium=calendar&utm_source=team_cal&utm_content=league_url#game-62513
LOCATION:Sunrise Elementary - Field 2
BEGIN:VALARM
TRIGGER:-P2H
ACTION:DISPLAY
DESCRIPTION:Seals vs Nuggets
END:VALARM
END:VEVENT
BEGIN:VEVENT
UID:cheyenne-62518@ygametime.com
DTSTAMP:20160629T003000Z
DTSTART;TZID=America/Denver:20160628T183000
DURATION:PT0H60M0S
SUMMARY:Lanterns vs Seals
DESCRIPTION:5-8 Years Old | T-Ball\nThe Cheyenne Family YMCA\n
URL;VALUE=URI:https://ygametime.com/branch/cheyenne/sports/2016-summer-t-ball/2527/?utm_medium=calendar&utm_source=team_cal&utm_content=league_url#game-62518
LOCATION:Sunrise Elementary - Field 3
BEGIN:VALARM
TRIGGER:-P2H
ACTION:DISPLAY
DESCRIPTION:Lanterns vs Seals
END:VALARM
END:VEVENT
BEGIN:VEVENT
UID:cheyenne-62519@ygametime.com
DTSTAMP:20160701T003000Z
DTSTART;TZID=America/Denver:20160630T183000
DURATION:PT0H60M0S
SUMMARY:Seals vs Tigers
DESCRIPTION:5-8 Years Old | T-Ball\nThe Cheyenne Family YMCA\n
URL;VALUE=URI:https://ygametime.com/branch/cheyenne/sports/2016-summer-t-ball/2527/?utm_medium=calendar&utm_source=team_cal&utm_content=league_url#game-62519
LOCATION:Sunrise Elementary - Field 1
BEGIN:VALARM
TRIGGER:-P2H
ACTION:DISPLAY
DESCRIPTION:Seals vs Tigers
END:VALARM
END:VEVENT
BEGIN:VEVENT
UID:cheyenne-62523@ygametime.com
DTSTAMP:20160706T003000Z
DTSTART;TZID=America/Denver:20160705T183000
DURATION:PT0H60M0S
SUMMARY:Robins vs Seals
DESCRIPTION:5-8 Years Old | T-Ball\nThe Cheyenne Family YMCA\n
URL;VALUE=URI:https://ygametime.com/branch/cheyenne/sports/2016-summer-t-ball/2527/?utm_medium=calendar&utm_source=team_cal&utm_content=league_url#game-62523
LOCATION:Sunrise Elementary - Field 1
BEGIN:VALARM
TRIGGER:-P2H
ACTION:DISPLAY
DESCRIPTION:Robins vs Seals
END:VALARM
END:VEVENT
BEGIN:VEVENT
UID:cheyenne-62526@ygametime.com
DTSTAMP:20160708T003000Z
DTSTART;TZID=America/Denver:20160707T183000
DURATION:PT0H60M0S
SUMMARY:Rockets vs Seals
DESCRIPTION:5-8 Years Old | T-Ball\nThe Cheyenne Family YMCA\n
URL;VALUE=URI:https://ygametime.com/branch/cheyenne/sports/2016-summer-t-ball/2527/?utm_medium=calendar&utm_source=team_cal&utm_content=league_url#game-62526
LOCATION:Sunrise Elementary - Field 3
BEGIN:VALARM
TRIGGER:-P2H
ACTION:DISPLAY
DESCRIPTION:Rockets vs Seals
END:VALARM
END:VEVENT
BEGIN:VEVENT
UID:cheyenne-62531@ygametime.com
DTSTAMP:20160715T003000Z
DTSTART;TZID=America/Denver:20160714T183000
DURATION:PT0H60M0S
SUMMARY:Lanterns vs Seals
DESCRIPTION:5-8 Years Old | T-Ball\nThe Cheyenne Family YMCA\n
URL;VALUE=URI:https://ygametime.com/branch/cheyenne/sports/2016-summer-t-ball/2527/?utm_medium=calendar&utm_source=team_cal&utm_content=league_url#game-62531
LOCATION:Pride Park - East
BEGIN:VALARM
TRIGGER:-P2H
ACTION:DISPLAY
DESCRIPTION:Lanterns vs Seals
END:VALARM
END:VEVENT
END:VCALENDAR

