BEGIN:VCALENDAR
VERSION:2.0
PRODID:-//YGAMETIME.com//YGT iCal Creator//EN
METHOD:PUBLISH
X-PUBLISHED-TTL:PT6H
REFRESH-INTERVAL;VALUE=DURATION:PT6H
CALSCALE:GREGORIAN
X-WR-CALNAME:YGAMETIME CALENDAR
BEGIN:VEVENT
UID:cheyenne-62498@ygametime.com
DTSTAMP:20160608T003000Z
DTSTART;TZID=America/Denver:20160607T183000
DURATION:PT0H60M0S
SUMMARY:Rockets vs Robins
DESCRIPTION:5-8 Years Old | T-Ball\nThe Cheyenne Family YMCA\n
URL;VALUE=URI:https://ygametime.com/branch/cheyenne/sports/2016-summer-t-ball/2527/?utm_medium=calendar&utm_source=team_cal&utm_content=league_url#game-62498
LOCATION:Sunrise Elementary - Field 1
BEGIN:VALARM
TRIGGER:-P2H
ACTION:DISPLAY
DESCRIPTION:Rockets vs Robins
END:VALARM
END:VEVENT
BEGIN:VEVENT
UID:cheyenne-62501@ygametime.com
DTSTAMP:20160610T003000Z
DTSTART;TZID=America/Denver:20160609T183000
DURATION:PT0H60M0S
SUMMARY:Nuggets vs Rockets
DESCRIPTION:5-8 Years Old | T-Ball\nThe Cheyenne Family YMCA\n
URL;VALUE=URI:https://ygametime.com/branch/cheyenne/sports/2016-summer-t-ball/2527/?utm_medium=calendar&utm_source=team_cal&utm_content=league_url#game-62501
LOCATION:Sunrise Elementary - Field 2
BEGIN:VALARM
TRIGGER:-P2H
ACTION:DISPLAY
DESCRIPTION:Nuggets vs Rockets
END:VALARM
END:VEVENT
BEGIN:VEVENT
UID:cheyenne-62504@ygametime.com
DTSTAMP:20160615T003000Z
DTSTART;TZID=America/Denver:20160614T183000
DURATION:PT0H60M0S
SUMMARY:Rockets vs Lanterns
DESCRIPTION:5-8 Years Old | T-Ball\nThe Cheyenne Family YMCA\n
URL;VALUE=URI:https://ygametime.com/branch/cheyenne/sports/2016-summer-t-ball/2527/?utm_medium=calendar&utm_source=team_cal&utm_content=league_url#game-62504
LOCATION:Sunrise Elementary - Field 3
BEGIN:VALARM
TRIGGER:-P2H
ACTION:DISPLAY
DESCRIPTION:Rockets vs Lanterns
END:VALARM
END:VEVENT
BEGIN:VEVENT
UID:cheyenne-62509@ygametime.com
DTSTAMP:20160617T003000Z
DTSTART;TZID=America/Denver:20160616T183000
DURATION:PT0H60M0S
SUMMARY:Tigers vs Rockets
DESCRIPTION:5-8 Years Old | T-Ball\nThe Cheyenne Family YMCA\n
URL;VALUE=URI:https://ygametime.com/branch/cheyenne/sports/2016-summer-t-ball/2527/?utm_medium=calendar&utm_source=team_cal&utm_content=league_url#game-62509
LOCATION:Sunrise Elementary - Field 1
BEGIN:VALARM
TRIGGER:-P2H
ACTION:DISPLAY
DESCRIPTION:Tigers vs Rockets
END:VALARM
END:VEVENT
BEGIN:VEVENT
UID:cheyenne-62510@ygametime.com
DTSTAMP:20160622T003000Z
DTSTART;TZID=America/Denver:20160621T183000
DURATION:PT0H60M0S
SUMMARY:Rockets vs Seals
DESCRIPTION:5-8 Years Old | T-Ball\nThe Cheyenne Family YMCA\n
URL;VALUE=URI:https://ygametime.com/branch/cheyenne/sports/2016-summer-t-ball/2527/?utm_medium=calendar&utm_source=team_cal&utm_content=league_url#game-62510
LOCATION:Sunrise Elementary - Field 1
BEGIN:VALARM
TRIGGER:-P2H
ACTION:DISPLAY
DESCRIPTION:Rockets vs Seals
END:VALARM
END:VEVENT
BEGIN:VEVENT
UID:cheyenne-62514@ygametime.com
DTSTAMP:20160624T003000Z
DTSTART;TZID=America/Denver:20160623T183000
DURATION:PT0H60M0S
SUMMARY:Rockets vs Robins
DESCRIPTION:5-8 Years Old | T-Ball\nThe Cheyenne Family YMCA\nPicture Day -See Coach
URL;VALUE=URI:https://ygametime.com/branch/cheyenne/sports/2016-summer-t-ball/2527/?utm_medium=calendar&utm_source=team_cal&utm_content=league_url#game-62514
LOCATION:Sunrise Elementary - Field 3
BEGIN:VALARM
TRIGGER:-P2H
ACTION:DISPLAY
DESCRIPTION:Rockets vs Robins
END:VALARM
END:VEVENT
BEGIN:VEVENT
UID:cheyenne-62517@ygametime.com
DTSTAMP:20160629T003000Z
DTSTART;TZID=America/Denver:20160628T183000
DURATION:PT0H60M0S
SUMMARY:Nuggets vs Rockets
DESCRIPTION:5-8 Years Old | T-Ball\nThe Cheyenne Family YMCA\n
URL;VALUE=URI:https://ygametime.com/branch/cheyenne/sports/2016-summer-t-ball/2527/?utm_medium=calendar&utm_source=team_cal&utm_content=league_url#game-62517
LOCATION:Sunrise Elementary - Field 1
BEGIN:VALARM
TRIGGER:-P2H
ACTION:DISPLAY
DESCRIPTION:Nuggets vs Rockets
END:VALARM
END:VEVENT
BEGIN:VEVENT
UID:cheyenne-62520@ygametime.com
DTSTAMP:20160701T003000Z
DTSTART;TZID=America/Denver:20160630T183000
DURATION:PT0H60M0S
SUMMARY:Rockets vs Lanterns
DESCRIPTION:5-8 Years Old | T-Ball\nThe Cheyenne Family YMCA\n
URL;VALUE=URI:https://ygametime.com/branch/cheyenne/sports/2016-summer-t-ball/2527/?utm_medium=calendar&utm_source=team_cal&utm_content=league_url#game-62520
LOCATION:Sunrise Elementary - Field 3
BEGIN:VALARM
TRIGGER:-P2H
ACTION:DISPLAY
DESCRIPTION:Rockets vs Lanterns
END:VALARM
END:VEVENT
BEGIN:VEVENT
UID:cheyenne-62522@ygametime.com
DTSTAMP:20160706T003000Z
DTSTART;TZID=America/Denver:20160705T183000
DURATION:PT0H60M0S
SUMMARY:Tigers vs Rockets
DESCRIPTION:5-8 Years Old | T-Ball\nThe Cheyenne Family YMCA\n
URL;VALUE=URI:https://ygametime.com/branch/cheyenne/sports/2016-summer-t-ball/2527/?utm_medium=calendar&utm_source=team_cal&utm_content=league_url#game-62522
LOCATION:Sunrise Elementary - Field 2
BEGIN:VALARM
TRIGGER:-P2H
ACTION:DISPLAY
DESCRIPTION:Tigers vs Rockets
END:VALARM
END:VEVENT
BEGIN:VEVENT
UID:cheyenne-62526@ygametime.com
DTSTAMP:20160708T003000Z
DTSTART;TZID=America/Denver:20160707T183000
DURATION:PT0H60M0S
SUMMARY:Rockets vs Seals
DESCRIPTION:5-8 Years Old | T-Ball\nThe Cheyenne Family YMCA\n
URL;VALUE=URI:https://ygametime.com/branch/cheyenne/sports/2016-summer-t-ball/2527/?utm_medium=calendar&utm_source=team_cal&utm_content=league_url#game-62526
LOCATION:Sunrise Elementary - Field 3
BEGIN:VALARM
TRIGGER:-P2H
ACTION:DISPLAY
DESCRIPTION:Rockets vs Seals
END:VALARM
END:VEVENT
BEGIN:VEVENT
UID:cheyenne-62533@ygametime.com
DTSTAMP:20160715T003000Z
DTSTART;TZID=America/Denver:20160714T183000
DURATION:PT0H60M0S
SUMMARY:Nuggets vs Rockets
DESCRIPTION:5-8 Years Old | T-Ball\nThe Cheyenne Family YMCA\n
URL;VALUE=URI:https://ygametime.com/branch/cheyenne/sports/2016-summer-t-ball/2527/?utm_medium=calendar&utm_source=team_cal&utm_content=league_url#game-62533
LOCATION:Pride Park - West
BEGIN:VALARM
TRIGGER:-P2H
ACTION:DISPLAY
DESCRIPTION:Nuggets vs Rockets
END:VALARM
END:VEVENT
END:VCALENDAR

