BEGIN:VCALENDAR
VERSION:2.0
PRODID:-//YGAMETIME.com//YGT iCal Creator//EN
METHOD:PUBLISH
X-PUBLISHED-TTL:PT6H
REFRESH-INTERVAL;VALUE=DURATION:PT6H
CALSCALE:GREGORIAN
X-WR-CALNAME:YGAMETIME CALENDAR
BEGIN:VTIMEZONE
TZID:America/Chicago
X-LIC-LOCATION:America/Chicago
BEGIN:DAYLIGHT
TZOFFSETFROM:-0600
TZOFFSETTO:-0500
TZNAME:CDT
DTSTART:19700308T020000
RRULE:FREQ=YEARLY;BYMONTH=3;BYDAY=2SU
END:DAYLIGHT
BEGIN:STANDARD
TZOFFSETFROM:-0500
TZOFFSETTO:-0600
TZNAME:CST
DTSTART:19701101T020000
RRULE:FREQ=YEARLY;BYMONTH=11;BYDAY=1SU
END:STANDARD
END:VTIMEZONE
BEGIN:VEVENT
UID:dmymca-577163@ygametime.com
DTSTAMP:20251203T013000Z
DTSTART;TZID=America/Chicago:20251202T193000
DURATION:PT0H60M0S
SUMMARY:515 Elite vs WDM Vipers
DESCRIPTION:Metro Basketball League- 9th and 10th Grade | Metro League Basketball\nYMCA of Greater Des Moines\n
URL;VALUE=URI:https://ygametime.com/branch/dmymca/sports/2025-winter-metro-league-basketball/24804/?utm_medium=calendar&utm_source=team_cal&utm_content=league_url#game-577163
LOCATION:Grubb YMCA
BEGIN:VALARM
TRIGGER:-P2H
ACTION:DISPLAY
DESCRIPTION:515 Elite vs WDM Vipers
END:VALARM
END:VEVENT
BEGIN:VEVENT
UID:dmymca-577172@ygametime.com
DTSTAMP:20251210T033000Z
DTSTART;TZID=America/Chicago:20251209T213000
DURATION:PT0H60M0S
SUMMARY:Riders vs 515 Elite
DESCRIPTION:Metro Basketball League- 9th and 10th Grade | Metro League Basketball\nYMCA of Greater Des Moines\n
URL;VALUE=URI:https://ygametime.com/branch/dmymca/sports/2025-winter-metro-league-basketball/24804/?utm_medium=calendar&utm_source=team_cal&utm_content=league_url#game-577172
LOCATION:Grubb YMCA
BEGIN:VALARM
TRIGGER:-P2H
ACTION:DISPLAY
DESCRIPTION:Riders vs 515 Elite
END:VALARM
END:VEVENT
BEGIN:VEVENT
UID:dmymca-577185@ygametime.com
DTSTAMP:20251216T223000Z
DTSTART;TZID=America/Chicago:20251216T163000
DURATION:PT0H60M0S
SUMMARY:515 Elite vs Drizzy Drake Elite
DESCRIPTION:Metro Basketball League- 9th and 10th Grade | Metro League Basketball\nYMCA of Greater Des Moines\n
URL;VALUE=URI:https://ygametime.com/branch/dmymca/sports/2025-winter-metro-league-basketball/24804/?utm_medium=calendar&utm_source=team_cal&utm_content=league_url#game-577185
LOCATION:Grubb YMCA
BEGIN:VALARM
TRIGGER:-P2H
ACTION:DISPLAY
DESCRIPTION:515 Elite vs Drizzy Drake Elite
END:VALARM
END:VEVENT
BEGIN:VEVENT
UID:dmymca-577208@ygametime.com
DTSTAMP:20260106T223000Z
DTSTART;TZID=America/Chicago:20260106T163000
DURATION:PT0H60M0S
SUMMARY:Ragoon Academy vs 515 Elite
DESCRIPTION:Metro Basketball League- 9th and 10th Grade | Metro League Basketball\nYMCA of Greater Des Moines\n
URL;VALUE=URI:https://ygametime.com/branch/dmymca/sports/2025-winter-metro-league-basketball/24804/?utm_medium=calendar&utm_source=team_cal&utm_content=league_url#game-577208
LOCATION:Grubb YMCA
BEGIN:VALARM
TRIGGER:-P2H
ACTION:DISPLAY
DESCRIPTION:Ragoon Academy vs 515 Elite
END:VALARM
END:VEVENT
BEGIN:VEVENT
UID:dmymca-577217@ygametime.com
DTSTAMP:20260113T223000Z
DTSTART;TZID=America/Chicago:20260113T163000
DURATION:PT0H60M0S
SUMMARY:515 Elite vs Gamahs
DESCRIPTION:Metro Basketball League- 9th and 10th Grade | Metro League Basketball\nYMCA of Greater Des Moines\n
URL;VALUE=URI:https://ygametime.com/branch/dmymca/sports/2025-winter-metro-league-basketball/24804/?utm_medium=calendar&utm_source=team_cal&utm_content=league_url#game-577217
LOCATION:Grubb YMCA
BEGIN:VALARM
TRIGGER:-P2H
ACTION:DISPLAY
DESCRIPTION:515 Elite vs Gamahs
END:VALARM
END:VEVENT
BEGIN:VEVENT
UID:dmymca-577226@ygametime.com
DTSTAMP:20260120T223000Z
DTSTART;TZID=America/Chicago:20260120T163000
DURATION:PT0H60M0S
SUMMARY:Free Agents vs 515 Elite
DESCRIPTION:Metro Basketball League- 9th and 10th Grade | Metro League Basketball\nYMCA of Greater Des Moines\n
URL;VALUE=URI:https://ygametime.com/branch/dmymca/sports/2025-winter-metro-league-basketball/24804/?utm_medium=calendar&utm_source=team_cal&utm_content=league_url#game-577226
LOCATION:Grubb YMCA
BEGIN:VALARM
TRIGGER:-P2H
ACTION:DISPLAY
DESCRIPTION:Free Agents vs 515 Elite
END:VALARM
END:VEVENT
BEGIN:VEVENT
UID:dmymca-577235@ygametime.com
DTSTAMP:20260128T003000Z
DTSTART;TZID=America/Chicago:20260127T183000
DURATION:PT0H60M0S
SUMMARY:515 Elite vs CBG Slammers
DESCRIPTION:Metro Basketball League- 9th and 10th Grade | Metro League Basketball\nYMCA of Greater Des Moines\n
URL;VALUE=URI:https://ygametime.com/branch/dmymca/sports/2025-winter-metro-league-basketball/24804/?utm_medium=calendar&utm_source=team_cal&utm_content=league_url#game-577235
LOCATION:Grubb YMCA
BEGIN:VALARM
TRIGGER:-P2H
ACTION:DISPLAY
DESCRIPTION:515 Elite vs CBG Slammers
END:VALARM
END:VEVENT
BEGIN:VEVENT
UID:dmymca-577252@ygametime.com
DTSTAMP:20260204T033000Z
DTSTART;TZID=America/Chicago:20260203T213000
DURATION:PT0H60M0S
SUMMARY:SEP Elite vs 515 Elite
DESCRIPTION:Metro Basketball League- 9th and 10th Grade | Metro League Basketball\nYMCA of Greater Des Moines\n
URL;VALUE=URI:https://ygametime.com/branch/dmymca/sports/2025-winter-metro-league-basketball/24804/?utm_medium=calendar&utm_source=team_cal&utm_content=league_url#game-577252
LOCATION:Grubb YMCA
BEGIN:VALARM
TRIGGER:-P2H
ACTION:DISPLAY
DESCRIPTION:SEP Elite vs 515 Elite
END:VALARM
END:VEVENT
BEGIN:VEVENT
UID:dmymca-577190@ygametime.com
DTSTAMP:20260210T223000Z
DTSTART;TZID=America/Chicago:20260210T163000
DURATION:PT0H60M0S
SUMMARY:FTC Elite vs 515 Elite
DESCRIPTION:Metro Basketball League- 9th and 10th Grade | Metro League Basketball\nYMCA of Greater Des Moines\n
URL;VALUE=URI:https://ygametime.com/branch/dmymca/sports/2025-winter-metro-league-basketball/24804/?utm_medium=calendar&utm_source=team_cal&utm_content=league_url#game-577190
LOCATION:Grubb YMCA
BEGIN:VALARM
TRIGGER:-P2H
ACTION:DISPLAY
DESCRIPTION:FTC Elite vs 515 Elite
END:VALARM
END:VEVENT
BEGIN:VEVENT
UID:dmymca-577199@ygametime.com
DTSTAMP:20260217T223000Z
DTSTART;TZID=America/Chicago:20260217T163000
DURATION:PT0H60M0S
SUMMARY:515 Elite vs Drizzy Drake Elite
DESCRIPTION:Metro Basketball League- 9th and 10th Grade | Metro League Basketball\nYMCA of Greater Des Moines\n
URL;VALUE=URI:https://ygametime.com/branch/dmymca/sports/2025-winter-metro-league-basketball/24804/?utm_medium=calendar&utm_source=team_cal&utm_content=league_url#game-577199
LOCATION:Grubb YMCA
BEGIN:VALARM
TRIGGER:-P2H
ACTION:DISPLAY
DESCRIPTION:515 Elite vs Drizzy Drake Elite
END:VALARM
END:VEVENT
END:VCALENDAR

