BEGIN:VCALENDAR
VERSION:2.0
PRODID:-//YGAMETIME.com//YGT iCal Creator//EN
METHOD:PUBLISH
X-PUBLISHED-TTL:PT6H
REFRESH-INTERVAL;VALUE=DURATION:PT6H
CALSCALE:GREGORIAN
X-WR-CALNAME:YGAMETIME CALENDAR
BEGIN:VTIMEZONE
TZID:America/Chicago
X-LIC-LOCATION:America/Chicago
BEGIN:DAYLIGHT
TZOFFSETFROM:-0600
TZOFFSETTO:-0500
TZNAME:CDT
DTSTART:19700308T020000
RRULE:FREQ=YEARLY;BYMONTH=3;BYDAY=2SU
END:DAYLIGHT
BEGIN:STANDARD
TZOFFSETFROM:-0500
TZOFFSETTO:-0600
TZNAME:CST
DTSTART:19701101T020000
RRULE:FREQ=YEARLY;BYMONTH=11;BYDAY=1SU
END:STANDARD
END:VTIMEZONE
BEGIN:VEVENT
UID:dmymca-577168@ygametime.com
DTSTAMP:20251203T033000Z
DTSTART;TZID=America/Chicago:20251202T213000
DURATION:PT0H60M0S
SUMMARY:Duke Dennis Elite vs Gamahs
DESCRIPTION:Metro Basketball League- 9th and 10th Grade | Metro League Basketball\nYMCA of Greater Des Moines\n
URL;VALUE=URI:https://ygametime.com/branch/dmymca/sports/2025-winter-metro-league-basketball/24804/?utm_medium=calendar&utm_source=team_cal&utm_content=league_url#game-577168
LOCATION:Grubb YMCA
BEGIN:VALARM
TRIGGER:-P2H
ACTION:DISPLAY
DESCRIPTION:Duke Dennis Elite vs Gamahs
END:VALARM
END:VEVENT
BEGIN:VEVENT
UID:dmymca-577175@ygametime.com
DTSTAMP:20251210T013000Z
DTSTART;TZID=America/Chicago:20251209T193000
DURATION:PT0H60M0S
SUMMARY:Free Agents vs Duke Dennis Elite
DESCRIPTION:Metro Basketball League- 9th and 10th Grade | Metro League Basketball\nYMCA of Greater Des Moines\n
URL;VALUE=URI:https://ygametime.com/branch/dmymca/sports/2025-winter-metro-league-basketball/24804/?utm_medium=calendar&utm_source=team_cal&utm_content=league_url#game-577175
LOCATION:Grubb YMCA
BEGIN:VALARM
TRIGGER:-P2H
ACTION:DISPLAY
DESCRIPTION:Free Agents vs Duke Dennis Elite
END:VALARM
END:VEVENT
BEGIN:VEVENT
UID:dmymca-577182@ygametime.com
DTSTAMP:20251216T233000Z
DTSTART;TZID=America/Chicago:20251216T173000
DURATION:PT0H60M0S
SUMMARY:Duke Dennis Elite vs CBG Slammers
DESCRIPTION:Metro Basketball League- 9th and 10th Grade | Metro League Basketball\nYMCA of Greater Des Moines\n
URL;VALUE=URI:https://ygametime.com/branch/dmymca/sports/2025-winter-metro-league-basketball/24804/?utm_medium=calendar&utm_source=team_cal&utm_content=league_url#game-577182
LOCATION:Grubb YMCA
BEGIN:VALARM
TRIGGER:-P2H
ACTION:DISPLAY
DESCRIPTION:Duke Dennis Elite vs CBG Slammers
END:VALARM
END:VEVENT
BEGIN:VEVENT
UID:dmymca-577212@ygametime.com
DTSTAMP:20260107T023000Z
DTSTART;TZID=America/Chicago:20260106T203000
DURATION:PT0H60M0S
SUMMARY:WDM Vipers vs Duke Dennis Elite
DESCRIPTION:Metro Basketball League- 9th and 10th Grade | Metro League Basketball\nYMCA of Greater Des Moines\n
URL;VALUE=URI:https://ygametime.com/branch/dmymca/sports/2025-winter-metro-league-basketball/24804/?utm_medium=calendar&utm_source=team_cal&utm_content=league_url#game-577212
LOCATION:Grubb YMCA
BEGIN:VALARM
TRIGGER:-P2H
ACTION:DISPLAY
DESCRIPTION:WDM Vipers vs Duke Dennis Elite
END:VALARM
END:VEVENT
BEGIN:VEVENT
UID:dmymca-577221@ygametime.com
DTSTAMP:20260114T023000Z
DTSTART;TZID=America/Chicago:20260113T203000
DURATION:PT0H60M0S
SUMMARY:FTC Elite vs Duke Dennis Elite
DESCRIPTION:Metro Basketball League- 9th and 10th Grade | Metro League Basketball\nYMCA of Greater Des Moines\n
URL;VALUE=URI:https://ygametime.com/branch/dmymca/sports/2025-winter-metro-league-basketball/24804/?utm_medium=calendar&utm_source=team_cal&utm_content=league_url#game-577221
LOCATION:Grubb YMCA
BEGIN:VALARM
TRIGGER:-P2H
ACTION:DISPLAY
DESCRIPTION:FTC Elite vs Duke Dennis Elite
END:VALARM
END:VEVENT
BEGIN:VEVENT
UID:dmymca-577230@ygametime.com
DTSTAMP:20260121T023000Z
DTSTART;TZID=America/Chicago:20260120T203000
DURATION:PT0H60M0S
SUMMARY:Duke Dennis Elite vs Mike Hess Elite
DESCRIPTION:Metro Basketball League- 9th and 10th Grade | Metro League Basketball\nYMCA of Greater Des Moines\n
URL;VALUE=URI:https://ygametime.com/branch/dmymca/sports/2025-winter-metro-league-basketball/24804/?utm_medium=calendar&utm_source=team_cal&utm_content=league_url#game-577230
LOCATION:Grubb YMCA
BEGIN:VALARM
TRIGGER:-P2H
ACTION:DISPLAY
DESCRIPTION:Duke Dennis Elite vs Mike Hess Elite
END:VALARM
END:VEVENT
BEGIN:VEVENT
UID:dmymca-577239@ygametime.com
DTSTAMP:20260128T023000Z
DTSTART;TZID=America/Chicago:20260127T203000
DURATION:PT0H60M0S
SUMMARY:BTA Academy vs Duke Dennis Elite
DESCRIPTION:Metro Basketball League- 9th and 10th Grade | Metro League Basketball\nYMCA of Greater Des Moines\n
URL;VALUE=URI:https://ygametime.com/branch/dmymca/sports/2025-winter-metro-league-basketball/24804/?utm_medium=calendar&utm_source=team_cal&utm_content=league_url#game-577239
LOCATION:Grubb YMCA
BEGIN:VALARM
TRIGGER:-P2H
ACTION:DISPLAY
DESCRIPTION:BTA Academy vs Duke Dennis Elite
END:VALARM
END:VEVENT
BEGIN:VEVENT
UID:dmymca-577247@ygametime.com
DTSTAMP:20260204T013000Z
DTSTART;TZID=America/Chicago:20260203T193000
DURATION:PT0H60M0S
SUMMARY:Gamahs vs Duke Dennis Elite
DESCRIPTION:Metro Basketball League- 9th and 10th Grade | Metro League Basketball\nYMCA of Greater Des Moines\n
URL;VALUE=URI:https://ygametime.com/branch/dmymca/sports/2025-winter-metro-league-basketball/24804/?utm_medium=calendar&utm_source=team_cal&utm_content=league_url#game-577247
LOCATION:Grubb YMCA
BEGIN:VALARM
TRIGGER:-P2H
ACTION:DISPLAY
DESCRIPTION:Gamahs vs Duke Dennis Elite
END:VALARM
END:VEVENT
BEGIN:VEVENT
UID:dmymca-577198@ygametime.com
DTSTAMP:20260211T223000Z
DTSTART;TZID=America/Chicago:20260211T163000
DURATION:PT0H60M0S
SUMMARY:SEP Elite vs Duke Dennis Elite
DESCRIPTION:Metro Basketball League- 9th and 10th Grade | Metro League Basketball\nYMCA of Greater Des Moines\n
URL;VALUE=URI:https://ygametime.com/branch/dmymca/sports/2025-winter-metro-league-basketball/24804/?utm_medium=calendar&utm_source=team_cal&utm_content=league_url#game-577198
LOCATION:Grubb YMCA
BEGIN:VALARM
TRIGGER:-P2H
ACTION:DISPLAY
DESCRIPTION:SEP Elite vs Duke Dennis Elite
END:VALARM
END:VEVENT
BEGIN:VEVENT
UID:dmymca-577205@ygametime.com
DTSTAMP:20260218T233000Z
DTSTART;TZID=America/Chicago:20260218T173000
DURATION:PT0H60M0S
SUMMARY:Duke Dennis Elite vs Cookie King Elite
DESCRIPTION:Metro Basketball League- 9th and 10th Grade | Metro League Basketball\nYMCA of Greater Des Moines\n
URL;VALUE=URI:https://ygametime.com/branch/dmymca/sports/2025-winter-metro-league-basketball/24804/?utm_medium=calendar&utm_source=team_cal&utm_content=league_url#game-577205
LOCATION:Grubb YMCA
BEGIN:VALARM
TRIGGER:-P2H
ACTION:DISPLAY
DESCRIPTION:Duke Dennis Elite vs Cookie King Elite
END:VALARM
END:VEVENT
END:VCALENDAR

