BEGIN:VCALENDAR
VERSION:2.0
PRODID:-//YGAMETIME.com//YGT iCal Creator//EN
METHOD:PUBLISH
X-PUBLISHED-TTL:PT6H
REFRESH-INTERVAL;VALUE=DURATION:PT6H
CALSCALE:GREGORIAN
X-WR-CALNAME:YGAMETIME CALENDAR
BEGIN:VTIMEZONE
TZID:America/Chicago
X-LIC-LOCATION:America/Chicago
BEGIN:DAYLIGHT
TZOFFSETFROM:-0600
TZOFFSETTO:-0500
TZNAME:CDT
DTSTART:19700308T020000
RRULE:FREQ=YEARLY;BYMONTH=3;BYDAY=2SU
END:DAYLIGHT
BEGIN:STANDARD
TZOFFSETFROM:-0500
TZOFFSETTO:-0600
TZNAME:CST
DTSTART:19701101T020000
RRULE:FREQ=YEARLY;BYMONTH=11;BYDAY=1SU
END:STANDARD
END:VTIMEZONE
BEGIN:VEVENT
UID:dmymca-577266@ygametime.com
DTSTAMP:20251206T170000Z
DTSTART;TZID=America/Chicago:20251206T110000
DURATION:PT0H60M0S
SUMMARY:Midwest Magic vs Gunna Gooners
DESCRIPTION:Metro Basketball League- 11th and 12th Grade | Metro League Basketball\nYMCA of Greater Des Moines\n
URL;VALUE=URI:https://ygametime.com/branch/dmymca/sports/2025-winter-metro-league-basketball/24805/?utm_medium=calendar&utm_source=team_cal&utm_content=league_url#game-577266
LOCATION:Grubb YMCA
BEGIN:VALARM
TRIGGER:-P2H
ACTION:DISPLAY
DESCRIPTION:Midwest Magic vs Gunna Gooners
END:VALARM
END:VEVENT
BEGIN:VEVENT
UID:dmymca-577278@ygametime.com
DTSTAMP:20251212T023000Z
DTSTART;TZID=America/Chicago:20251211T203000
DURATION:PT0H60M0S
SUMMARY:Ball Busters vs Midwest Magic
DESCRIPTION:Metro Basketball League- 11th and 12th Grade | Metro League Basketball\nYMCA of Greater Des Moines\n
URL;VALUE=URI:https://ygametime.com/branch/dmymca/sports/2025-winter-metro-league-basketball/24805/?utm_medium=calendar&utm_source=team_cal&utm_content=league_url#game-577278
LOCATION:Grubb YMCA
BEGIN:VALARM
TRIGGER:-P2H
ACTION:DISPLAY
DESCRIPTION:Ball Busters vs Midwest Magic
END:VALARM
END:VEVENT
BEGIN:VEVENT
UID:dmymca-577290@ygametime.com
DTSTAMP:20251219T003000Z
DTSTART;TZID=America/Chicago:20251218T183000
DURATION:PT0H60M0S
SUMMARY:Midwest Magic vs Bird Elite
DESCRIPTION:Metro Basketball League- 11th and 12th Grade | Metro League Basketball\nYMCA of Greater Des Moines\n
URL;VALUE=URI:https://ygametime.com/branch/dmymca/sports/2025-winter-metro-league-basketball/24805/?utm_medium=calendar&utm_source=team_cal&utm_content=league_url#game-577290
LOCATION:Grubb YMCA
BEGIN:VALARM
TRIGGER:-P2H
ACTION:DISPLAY
DESCRIPTION:Midwest Magic vs Bird Elite
END:VALARM
END:VEVENT
BEGIN:VEVENT
UID:dmymca-577314@ygametime.com
DTSTAMP:20260108T033000Z
DTSTART;TZID=America/Chicago:20260107T213000
DURATION:PT0H60M0S
SUMMARY:Midwest Magic vs W.D.O
DESCRIPTION:Metro Basketball League- 11th and 12th Grade | Metro League Basketball\nYMCA of Greater Des Moines\n
URL;VALUE=URI:https://ygametime.com/branch/dmymca/sports/2025-winter-metro-league-basketball/24805/?utm_medium=calendar&utm_source=team_cal&utm_content=league_url#game-577314
LOCATION:Grubb YMCA
BEGIN:VALARM
TRIGGER:-P2H
ACTION:DISPLAY
DESCRIPTION:Midwest Magic vs W.D.O
END:VALARM
END:VEVENT
BEGIN:VEVENT
UID:dmymca-577302@ygametime.com
DTSTAMP:20260115T223000Z
DTSTART;TZID=America/Chicago:20260115T163000
DURATION:PT0H60M0S
SUMMARY:Oppenhoopers vs Midwest Magic
DESCRIPTION:Metro Basketball League- 11th and 12th Grade | Metro League Basketball\nYMCA of Greater Des Moines\n
URL;VALUE=URI:https://ygametime.com/branch/dmymca/sports/2025-winter-metro-league-basketball/24805/?utm_medium=calendar&utm_source=team_cal&utm_content=league_url#game-577302
LOCATION:Grubb YMCA
BEGIN:VALARM
TRIGGER:-P2H
ACTION:DISPLAY
DESCRIPTION:Oppenhoopers vs Midwest Magic
END:VALARM
END:VEVENT
END:VCALENDAR

