BEGIN:VCALENDAR
VERSION:2.0
PRODID:-//YGAMETIME.com//YGT iCal Creator//EN
METHOD:PUBLISH
X-PUBLISHED-TTL:PT6H
REFRESH-INTERVAL;VALUE=DURATION:PT6H
CALSCALE:GREGORIAN
X-WR-CALNAME:YGAMETIME CALENDAR
BEGIN:VTIMEZONE
TZID:America/Chicago
X-LIC-LOCATION:America/Chicago
BEGIN:DAYLIGHT
TZOFFSETFROM:-0600
TZOFFSETTO:-0500
TZNAME:CDT
DTSTART:19700308T020000
RRULE:FREQ=YEARLY;BYMONTH=3;BYDAY=2SU
END:DAYLIGHT
BEGIN:STANDARD
TZOFFSETFROM:-0500
TZOFFSETTO:-0600
TZNAME:CST
DTSTART:19701101T020000
RRULE:FREQ=YEARLY;BYMONTH=11;BYDAY=1SU
END:STANDARD
END:VTIMEZONE
BEGIN:VEVENT
UID:dmymca-577262@ygametime.com
DTSTAMP:20251205T003000Z
DTSTART;TZID=America/Chicago:20251204T183000
DURATION:PT0H60M0S
SUMMARY:FTC Elite vs Bird Elite
DESCRIPTION:Metro Basketball League- 11th and 12th Grade | Metro League Basketball\nYMCA of Greater Des Moines\n
URL;VALUE=URI:https://ygametime.com/branch/dmymca/sports/2025-winter-metro-league-basketball/24805/?utm_medium=calendar&utm_source=team_cal&utm_content=league_url#game-577262
LOCATION:Grubb YMCA
BEGIN:VALARM
TRIGGER:-P2H
ACTION:DISPLAY
DESCRIPTION:FTC Elite vs Bird Elite
END:VALARM
END:VEVENT
BEGIN:VEVENT
UID:dmymca-577274@ygametime.com
DTSTAMP:20251211T223000Z
DTSTART;TZID=America/Chicago:20251211T163000
DURATION:PT0H60M0S
SUMMARY:Oppenhoopers vs FTC Elite
DESCRIPTION:Metro Basketball League- 11th and 12th Grade | Metro League Basketball\nYMCA of Greater Des Moines\n
URL;VALUE=URI:https://ygametime.com/branch/dmymca/sports/2025-winter-metro-league-basketball/24805/?utm_medium=calendar&utm_source=team_cal&utm_content=league_url#game-577274
LOCATION:Grubb YMCA
BEGIN:VALARM
TRIGGER:-P2H
ACTION:DISPLAY
DESCRIPTION:Oppenhoopers vs FTC Elite
END:VALARM
END:VEVENT
BEGIN:VEVENT
UID:dmymca-577286@ygametime.com
DTSTAMP:20251218T033000Z
DTSTART;TZID=America/Chicago:20251217T213000
DURATION:PT0H60M0S
SUMMARY:FTC Elite vs W.D.O
DESCRIPTION:Metro Basketball League- 11th and 12th Grade | Metro League Basketball\nYMCA of Greater Des Moines\n
URL;VALUE=URI:https://ygametime.com/branch/dmymca/sports/2025-winter-metro-league-basketball/24805/?utm_medium=calendar&utm_source=team_cal&utm_content=league_url#game-577286
LOCATION:Grubb YMCA
BEGIN:VALARM
TRIGGER:-P2H
ACTION:DISPLAY
DESCRIPTION:FTC Elite vs W.D.O
END:VALARM
END:VEVENT
BEGIN:VEVENT
UID:dmymca-577310@ygametime.com
DTSTAMP:20260110T150000Z
DTSTART;TZID=America/Chicago:20260110T090000
DURATION:PT0H60M0S
SUMMARY:FTC Elite vs Butter Chicken Elite
DESCRIPTION:Metro Basketball League- 11th and 12th Grade | Metro League Basketball\nYMCA of Greater Des Moines\n
URL;VALUE=URI:https://ygametime.com/branch/dmymca/sports/2025-winter-metro-league-basketball/24805/?utm_medium=calendar&utm_source=team_cal&utm_content=league_url#game-577310
LOCATION:Grubb YMCA
BEGIN:VALARM
TRIGGER:-P2H
ACTION:DISPLAY
DESCRIPTION:FTC Elite vs Butter Chicken Elite
END:VALARM
END:VEVENT
BEGIN:VEVENT
UID:dmymca-577298@ygametime.com
DTSTAMP:20260115T013000Z
DTSTART;TZID=America/Chicago:20260114T193000
DURATION:PT0H60M0S
SUMMARY:Busty Boyz vs FTC Elite
DESCRIPTION:Metro Basketball League- 11th and 12th Grade | Metro League Basketball\nYMCA of Greater Des Moines\n
URL;VALUE=URI:https://ygametime.com/branch/dmymca/sports/2025-winter-metro-league-basketball/24805/?utm_medium=calendar&utm_source=team_cal&utm_content=league_url#game-577298
LOCATION:Grubb YMCA
BEGIN:VALARM
TRIGGER:-P2H
ACTION:DISPLAY
DESCRIPTION:Busty Boyz vs FTC Elite
END:VALARM
END:VEVENT
END:VCALENDAR

