BEGIN:VCALENDAR
VERSION:2.0
PRODID:-//YGAMETIME.com//YGT iCal Creator//EN
METHOD:PUBLISH
X-PUBLISHED-TTL:PT6H
REFRESH-INTERVAL;VALUE=DURATION:PT6H
CALSCALE:GREGORIAN
X-WR-CALNAME:YGAMETIME CALENDAR
BEGIN:VTIMEZONE
TZID:America/Chicago
X-LIC-LOCATION:America/Chicago
BEGIN:DAYLIGHT
TZOFFSETFROM:-0600
TZOFFSETTO:-0500
TZNAME:CDT
DTSTART:19700308T020000
RRULE:FREQ=YEARLY;BYMONTH=3;BYDAY=2SU
END:DAYLIGHT
BEGIN:STANDARD
TZOFFSETFROM:-0500
TZOFFSETTO:-0600
TZNAME:CST
DTSTART:19701101T020000
RRULE:FREQ=YEARLY;BYMONTH=11;BYDAY=1SU
END:STANDARD
END:VTIMEZONE
BEGIN:VEVENT
UID:dmymca-577261@ygametime.com
DTSTAMP:20251204T233000Z
DTSTART;TZID=America/Chicago:20251204T173000
DURATION:PT0H60M0S
SUMMARY:John Brown Elite vs Empty the Register
DESCRIPTION:Metro Basketball League- 11th and 12th Grade | Metro League Basketball\nYMCA of Greater Des Moines\n
URL;VALUE=URI:https://ygametime.com/branch/dmymca/sports/2025-winter-metro-league-basketball/24805/?utm_medium=calendar&utm_source=team_cal&utm_content=league_url#game-577261
LOCATION:Grubb YMCA
BEGIN:VALARM
TRIGGER:-P2H
ACTION:DISPLAY
DESCRIPTION:John Brown Elite vs Empty the Register
END:VALARM
END:VEVENT
BEGIN:VEVENT
UID:dmymca-577273@ygametime.com
DTSTAMP:20251213T160000Z
DTSTART;TZID=America/Chicago:20251213T100000
DURATION:PT0H60M0S
SUMMARY:Empty the Register vs The Jelkers
DESCRIPTION:Metro Basketball League- 11th and 12th Grade | Metro League Basketball\nYMCA of Greater Des Moines\n
URL;VALUE=URI:https://ygametime.com/branch/dmymca/sports/2025-winter-metro-league-basketball/24805/?utm_medium=calendar&utm_source=team_cal&utm_content=league_url#game-577273
LOCATION:Grubb YMCA
BEGIN:VALARM
TRIGGER:-P2H
ACTION:DISPLAY
DESCRIPTION:Empty the Register vs The Jelkers
END:VALARM
END:VEVENT
BEGIN:VEVENT
UID:dmymca-577285@ygametime.com
DTSTAMP:20251218T023000Z
DTSTART;TZID=America/Chicago:20251217T203000
DURATION:PT0H60M0S
SUMMARY:Wailings Woods Warriors vs Empty the Register
DESCRIPTION:Metro Basketball League- 11th and 12th Grade | Metro League Basketball\nYMCA of Greater Des Moines\n
URL;VALUE=URI:https://ygametime.com/branch/dmymca/sports/2025-winter-metro-league-basketball/24805/?utm_medium=calendar&utm_source=team_cal&utm_content=league_url#game-577285
LOCATION:Grubb YMCA
BEGIN:VALARM
TRIGGER:-P2H
ACTION:DISPLAY
DESCRIPTION:Wailings Woods Warriors vs Empty the Register
END:VALARM
END:VEVENT
BEGIN:VEVENT
UID:dmymca-577309@ygametime.com
DTSTAMP:20260110T170000Z
DTSTART;TZID=America/Chicago:20260110T110000
DURATION:PT0H60M0S
SUMMARY:Wiggle Elite vs Empty the Register
DESCRIPTION:Metro Basketball League- 11th and 12th Grade | Metro League Basketball\nYMCA of Greater Des Moines\n
URL;VALUE=URI:https://ygametime.com/branch/dmymca/sports/2025-winter-metro-league-basketball/24805/?utm_medium=calendar&utm_source=team_cal&utm_content=league_url#game-577309
LOCATION:Grubb YMCA
BEGIN:VALARM
TRIGGER:-P2H
ACTION:DISPLAY
DESCRIPTION:Wiggle Elite vs Empty the Register
END:VALARM
END:VEVENT
BEGIN:VEVENT
UID:dmymca-577297@ygametime.com
DTSTAMP:20260117T160000Z
DTSTART;TZID=America/Chicago:20260117T100000
DURATION:PT0H60M0S
SUMMARY:Empty the Register vs Wu Tang
DESCRIPTION:Metro Basketball League- 11th and 12th Grade | Metro League Basketball\nYMCA of Greater Des Moines\n
URL;VALUE=URI:https://ygametime.com/branch/dmymca/sports/2025-winter-metro-league-basketball/24805/?utm_medium=calendar&utm_source=team_cal&utm_content=league_url#game-577297
LOCATION:Grubb YMCA
BEGIN:VALARM
TRIGGER:-P2H
ACTION:DISPLAY
DESCRIPTION:Empty the Register vs Wu Tang
END:VALARM
END:VEVENT
END:VCALENDAR

