BEGIN:VCALENDAR
VERSION:2.0
PRODID:-//YGAMETIME.com//YGT iCal Creator//EN
METHOD:PUBLISH
X-PUBLISHED-TTL:PT6H
REFRESH-INTERVAL;VALUE=DURATION:PT6H
CALSCALE:GREGORIAN
X-WR-CALNAME:YGAMETIME CALENDAR
BEGIN:VTIMEZONE
TZID:America/Chicago
X-LIC-LOCATION:America/Chicago
BEGIN:DAYLIGHT
TZOFFSETFROM:-0600
TZOFFSETTO:-0500
TZNAME:CDT
DTSTART:19700308T020000
RRULE:FREQ=YEARLY;BYMONTH=3;BYDAY=2SU
END:DAYLIGHT
BEGIN:STANDARD
TZOFFSETFROM:-0500
TZOFFSETTO:-0600
TZNAME:CST
DTSTART:19701101T020000
RRULE:FREQ=YEARLY;BYMONTH=11;BYDAY=1SU
END:STANDARD
END:VTIMEZONE
BEGIN:VEVENT
UID:dmymca-577258@ygametime.com
DTSTAMP:20251204T033000Z
DTSTART;TZID=America/Chicago:20251203T213000
DURATION:PT0H60M0S
SUMMARY:Ballaholics vs W.D.O
DESCRIPTION:Metro Basketball League- 11th and 12th Grade | Metro League Basketball\nYMCA of Greater Des Moines\n
URL;VALUE=URI:https://ygametime.com/branch/dmymca/sports/2025-winter-metro-league-basketball/24805/?utm_medium=calendar&utm_source=team_cal&utm_content=league_url#game-577258
LOCATION:Grubb YMCA
BEGIN:VALARM
TRIGGER:-P2H
ACTION:DISPLAY
DESCRIPTION:Ballaholics vs W.D.O
END:VALARM
END:VEVENT
BEGIN:VEVENT
UID:dmymca-577270@ygametime.com
DTSTAMP:20251211T013000Z
DTSTART;TZID=America/Chicago:20251210T193000
DURATION:PT0H60M0S
SUMMARY:Busty Boyz vs Ballaholics
DESCRIPTION:Metro Basketball League- 11th and 12th Grade | Metro League Basketball\nYMCA of Greater Des Moines\n
URL;VALUE=URI:https://ygametime.com/branch/dmymca/sports/2025-winter-metro-league-basketball/24805/?utm_medium=calendar&utm_source=team_cal&utm_content=league_url#game-577270
LOCATION:Grubb YMCA
BEGIN:VALARM
TRIGGER:-P2H
ACTION:DISPLAY
DESCRIPTION:Busty Boyz vs Ballaholics
END:VALARM
END:VEVENT
BEGIN:VEVENT
UID:dmymca-577282@ygametime.com
DTSTAMP:20251220T150000Z
DTSTART;TZID=America/Chicago:20251220T090000
DURATION:PT0H60M0S
SUMMARY:Ballaholics vs Butter Chicken Elite
DESCRIPTION:Metro Basketball League- 11th and 12th Grade | Metro League Basketball\nYMCA of Greater Des Moines\n
URL;VALUE=URI:https://ygametime.com/branch/dmymca/sports/2025-winter-metro-league-basketball/24805/?utm_medium=calendar&utm_source=team_cal&utm_content=league_url#game-577282
LOCATION:Grubb YMCA
BEGIN:VALARM
TRIGGER:-P2H
ACTION:DISPLAY
DESCRIPTION:Ballaholics vs Butter Chicken Elite
END:VALARM
END:VEVENT
BEGIN:VEVENT
UID:dmymca-577320@ygametime.com
DTSTAMP:20260109T023000Z
DTSTART;TZID=America/Chicago:20260108T203000
DURATION:PT0H60M0S
SUMMARY:Ballaholics vs Brent Faiyaz Elite
DESCRIPTION:Metro Basketball League- 11th and 12th Grade | Metro League Basketball\nYMCA of Greater Des Moines\n
URL;VALUE=URI:https://ygametime.com/branch/dmymca/sports/2025-winter-metro-league-basketball/24805/?utm_medium=calendar&utm_source=team_cal&utm_content=league_url#game-577320
LOCATION:Grubb YMCA
BEGIN:VALARM
TRIGGER:-P2H
ACTION:DISPLAY
DESCRIPTION:Ballaholics vs Brent Faiyaz Elite
END:VALARM
END:VEVENT
BEGIN:VEVENT
UID:dmymca-577308@ygametime.com
DTSTAMP:20260117T150000Z
DTSTART;TZID=America/Chicago:20260117T090000
DURATION:PT0H60M0S
SUMMARY:CKMBT vs Ballaholics
DESCRIPTION:Metro Basketball League- 11th and 12th Grade | Metro League Basketball\nYMCA of Greater Des Moines\n
URL;VALUE=URI:https://ygametime.com/branch/dmymca/sports/2025-winter-metro-league-basketball/24805/?utm_medium=calendar&utm_source=team_cal&utm_content=league_url#game-577308
LOCATION:Grubb YMCA
BEGIN:VALARM
TRIGGER:-P2H
ACTION:DISPLAY
DESCRIPTION:CKMBT vs Ballaholics
END:VALARM
END:VEVENT
END:VCALENDAR

