BEGIN:VCALENDAR
VERSION:2.0
PRODID:-//YGAMETIME.com//YGT iCal Creator//EN
METHOD:PUBLISH
X-PUBLISHED-TTL:PT6H
REFRESH-INTERVAL;VALUE=DURATION:PT6H
CALSCALE:GREGORIAN
X-WR-CALNAME:YGAMETIME CALENDAR
BEGIN:VTIMEZONE
TZID:America/Chicago
X-LIC-LOCATION:America/Chicago
BEGIN:DAYLIGHT
TZOFFSETFROM:-0600
TZOFFSETTO:-0500
TZNAME:CDT
DTSTART:19700308T020000
RRULE:FREQ=YEARLY;BYMONTH=3;BYDAY=2SU
END:DAYLIGHT
BEGIN:STANDARD
TZOFFSETFROM:-0500
TZOFFSETTO:-0600
TZNAME:CST
DTSTART:19701101T020000
RRULE:FREQ=YEARLY;BYMONTH=11;BYDAY=1SU
END:STANDARD
END:VTIMEZONE
BEGIN:VEVENT
UID:dmymca-577266@ygametime.com
DTSTAMP:20251206T170000Z
DTSTART;TZID=America/Chicago:20251206T110000
DURATION:PT0H60M0S
SUMMARY:Midwest Magic vs Gunna Gooners
DESCRIPTION:Metro Basketball League- 11th and 12th Grade | Metro League Basketball\nYMCA of Greater Des Moines\n
URL;VALUE=URI:https://ygametime.com/branch/dmymca/sports/2025-winter-metro-league-basketball/24805/?utm_medium=calendar&utm_source=team_cal&utm_content=league_url#game-577266
LOCATION:Grubb YMCA
BEGIN:VALARM
TRIGGER:-P2H
ACTION:DISPLAY
DESCRIPTION:Midwest Magic vs Gunna Gooners
END:VALARM
END:VEVENT
BEGIN:VEVENT
UID:dmymca-577279@ygametime.com
DTSTAMP:20251212T033000Z
DTSTART;TZID=America/Chicago:20251211T213000
DURATION:PT0H60M0S
SUMMARY:Gunna Gooners vs YBG
DESCRIPTION:Metro Basketball League- 11th and 12th Grade | Metro League Basketball\nYMCA of Greater Des Moines\n
URL;VALUE=URI:https://ygametime.com/branch/dmymca/sports/2025-winter-metro-league-basketball/24805/?utm_medium=calendar&utm_source=team_cal&utm_content=league_url#game-577279
LOCATION:Grubb YMCA
BEGIN:VALARM
TRIGGER:-P2H
ACTION:DISPLAY
DESCRIPTION:Gunna Gooners vs YBG
END:VALARM
END:VEVENT
BEGIN:VEVENT
UID:dmymca-577292@ygametime.com
DTSTAMP:20251219T023000Z
DTSTART;TZID=America/Chicago:20251218T203000
DURATION:PT0H60M0S
SUMMARY:Knee Surgery Elite vs Gunna Gooners
DESCRIPTION:Metro Basketball League- 11th and 12th Grade | Metro League Basketball\nYMCA of Greater Des Moines\n
URL;VALUE=URI:https://ygametime.com/branch/dmymca/sports/2025-winter-metro-league-basketball/24805/?utm_medium=calendar&utm_source=team_cal&utm_content=league_url#game-577292
LOCATION:Grubb YMCA
BEGIN:VALARM
TRIGGER:-P2H
ACTION:DISPLAY
DESCRIPTION:Knee Surgery Elite vs Gunna Gooners
END:VALARM
END:VEVENT
BEGIN:VEVENT
UID:dmymca-577316@ygametime.com
DTSTAMP:20260108T223000Z
DTSTART;TZID=America/Chicago:20260108T163000
DURATION:PT0H60M0S
SUMMARY:John Brown Elite vs Gunna Gooners
DESCRIPTION:Metro Basketball League- 11th and 12th Grade | Metro League Basketball\nYMCA of Greater Des Moines\n
URL;VALUE=URI:https://ygametime.com/branch/dmymca/sports/2025-winter-metro-league-basketball/24805/?utm_medium=calendar&utm_source=team_cal&utm_content=league_url#game-577316
LOCATION:Grubb YMCA
BEGIN:VALARM
TRIGGER:-P2H
ACTION:DISPLAY
DESCRIPTION:John Brown Elite vs Gunna Gooners
END:VALARM
END:VEVENT
BEGIN:VEVENT
UID:dmymca-577324@ygametime.com
DTSTAMP:20260115T003000Z
DTSTART;TZID=America/Chicago:20260114T183000
DURATION:PT0H60M0S
SUMMARY:Gunna Gooners vs CKE
DESCRIPTION:Metro Basketball League- 11th and 12th Grade | Metro League Basketball\nYMCA of Greater Des Moines\n
URL;VALUE=URI:https://ygametime.com/branch/dmymca/sports/2025-winter-metro-league-basketball/24805/?utm_medium=calendar&utm_source=team_cal&utm_content=league_url#game-577324
LOCATION:Grubb YMCA
BEGIN:VALARM
TRIGGER:-P2H
ACTION:DISPLAY
DESCRIPTION:Gunna Gooners vs CKE
END:VALARM
END:VEVENT
END:VCALENDAR

