BEGIN:VCALENDAR
VERSION:2.0
PRODID:-//YGAMETIME.com//YGT iCal Creator//EN
METHOD:PUBLISH
X-PUBLISHED-TTL:PT6H
REFRESH-INTERVAL;VALUE=DURATION:PT6H
CALSCALE:GREGORIAN
X-WR-CALNAME:YGAMETIME CALENDAR
BEGIN:VTIMEZONE
TZID:America/Chicago
X-LIC-LOCATION:America/Chicago
BEGIN:DAYLIGHT
TZOFFSETFROM:-0600
TZOFFSETTO:-0500
TZNAME:CDT
DTSTART:19700308T020000
RRULE:FREQ=YEARLY;BYMONTH=3;BYDAY=2SU
END:DAYLIGHT
BEGIN:STANDARD
TZOFFSETFROM:-0500
TZOFFSETTO:-0600
TZNAME:CST
DTSTART:19701101T020000
RRULE:FREQ=YEARLY;BYMONTH=11;BYDAY=1SU
END:STANDARD
END:VTIMEZONE
BEGIN:VEVENT
UID:dmymca-577265@ygametime.com
DTSTAMP:20251205T033000Z
DTSTART;TZID=America/Chicago:20251204T213000
DURATION:PT0H60M0S
SUMMARY:Knee Surgery Elite vs JTown Buckets
DESCRIPTION:Metro Basketball League- 11th and 12th Grade | Metro League Basketball\nYMCA of Greater Des Moines\nForfeit
URL;VALUE=URI:https://ygametime.com/branch/dmymca/sports/2025-winter-metro-league-basketball/24805/?utm_medium=calendar&utm_source=team_cal&utm_content=league_url#game-577265
LOCATION:Grubb YMCA
BEGIN:VALARM
TRIGGER:-P2H
ACTION:DISPLAY
DESCRIPTION:Knee Surgery Elite vs JTown Buckets
END:VALARM
END:VEVENT
BEGIN:VEVENT
UID:dmymca-577292@ygametime.com
DTSTAMP:20251219T023000Z
DTSTART;TZID=America/Chicago:20251218T203000
DURATION:PT0H60M0S
SUMMARY:Knee Surgery Elite vs Gunna Gooners
DESCRIPTION:Metro Basketball League- 11th and 12th Grade | Metro League Basketball\nYMCA of Greater Des Moines\n
URL;VALUE=URI:https://ygametime.com/branch/dmymca/sports/2025-winter-metro-league-basketball/24805/?utm_medium=calendar&utm_source=team_cal&utm_content=league_url#game-577292
LOCATION:Grubb YMCA
BEGIN:VALARM
TRIGGER:-P2H
ACTION:DISPLAY
DESCRIPTION:Knee Surgery Elite vs Gunna Gooners
END:VALARM
END:VEVENT
BEGIN:VEVENT
UID:dmymca-577325@ygametime.com
DTSTAMP:20260108T003000Z
DTSTART;TZID=America/Chicago:20260107T183000
DURATION:PT0H60M0S
SUMMARY:CKE vs Knee Surgery Elite
DESCRIPTION:Metro Basketball League- 11th and 12th Grade | Metro League Basketball\nYMCA of Greater Des Moines\n
URL;VALUE=URI:https://ygametime.com/branch/dmymca/sports/2025-winter-metro-league-basketball/24805/?utm_medium=calendar&utm_source=team_cal&utm_content=league_url#game-577325
LOCATION:Grubb YMCA
BEGIN:VALARM
TRIGGER:-P2H
ACTION:DISPLAY
DESCRIPTION:CKE vs Knee Surgery Elite
END:VALARM
END:VEVENT
BEGIN:VEVENT
UID:dmymca-577317@ygametime.com
DTSTAMP:20260108T233000Z
DTSTART;TZID=America/Chicago:20260108T173000
DURATION:PT0H60M0S
SUMMARY:Knee Surgery Elite vs Bird Elite
DESCRIPTION:Metro Basketball League- 11th and 12th Grade | Metro League Basketball\nYMCA of Greater Des Moines\n
URL;VALUE=URI:https://ygametime.com/branch/dmymca/sports/2025-winter-metro-league-basketball/24805/?utm_medium=calendar&utm_source=team_cal&utm_content=league_url#game-577317
LOCATION:Grubb YMCA
BEGIN:VALARM
TRIGGER:-P2H
ACTION:DISPLAY
DESCRIPTION:Knee Surgery Elite vs Bird Elite
END:VALARM
END:VEVENT
BEGIN:VEVENT
UID:dmymca-577305@ygametime.com
DTSTAMP:20260116T013000Z
DTSTART;TZID=America/Chicago:20260115T193000
DURATION:PT0H60M0S
SUMMARY:Ball Busters vs Knee Surgery Elite
DESCRIPTION:Metro Basketball League- 11th and 12th Grade | Metro League Basketball\nYMCA of Greater Des Moines\n
URL;VALUE=URI:https://ygametime.com/branch/dmymca/sports/2025-winter-metro-league-basketball/24805/?utm_medium=calendar&utm_source=team_cal&utm_content=league_url#game-577305
LOCATION:Grubb YMCA
BEGIN:VALARM
TRIGGER:-P2H
ACTION:DISPLAY
DESCRIPTION:Ball Busters vs Knee Surgery Elite
END:VALARM
END:VEVENT
BEGIN:VEVENT
UID:dmymca-577306@ygametime.com
DTSTAMP:20260116T023000Z
DTSTART;TZID=America/Chicago:20260115T203000
DURATION:PT0H60M0S
SUMMARY:Risk Takers vs Knee Surgery Elite
DESCRIPTION:Metro Basketball League- 11th and 12th Grade | Metro League Basketball\nYMCA of Greater Des Moines\n
URL;VALUE=URI:https://ygametime.com/branch/dmymca/sports/2025-winter-metro-league-basketball/24805/?utm_medium=calendar&utm_source=team_cal&utm_content=league_url#game-577306
LOCATION:Grubb YMCA
BEGIN:VALARM
TRIGGER:-P2H
ACTION:DISPLAY
DESCRIPTION:Risk Takers vs Knee Surgery Elite
END:VALARM
END:VEVENT
END:VCALENDAR

