BEGIN:VCALENDAR
VERSION:2.0
PRODID:-//YGAMETIME.com//YGT iCal Creator//EN
METHOD:PUBLISH
X-PUBLISHED-TTL:PT6H
REFRESH-INTERVAL;VALUE=DURATION:PT6H
CALSCALE:GREGORIAN
X-WR-CALNAME:YGAMETIME CALENDAR
BEGIN:VTIMEZONE
TZID:America/Chicago
X-LIC-LOCATION:America/Chicago
BEGIN:DAYLIGHT
TZOFFSETFROM:-0600
TZOFFSETTO:-0500
TZNAME:CDT
DTSTART:19700308T020000
RRULE:FREQ=YEARLY;BYMONTH=3;BYDAY=2SU
END:DAYLIGHT
BEGIN:STANDARD
TZOFFSETFROM:-0500
TZOFFSETTO:-0600
TZNAME:CST
DTSTART:19701101T020000
RRULE:FREQ=YEARLY;BYMONTH=11;BYDAY=1SU
END:STANDARD
END:VTIMEZONE
BEGIN:VEVENT
UID:dmymca-577165@ygametime.com
DTSTAMP:20251203T003000Z
DTSTART;TZID=America/Chicago:20251202T183000
DURATION:PT0H60M0S
SUMMARY:Agartians vs Riders
DESCRIPTION:Metro Basketball League- 9th and 10th Grade | Metro League Basketball\nYMCA of Greater Des Moines\n
URL;VALUE=URI:https://ygametime.com/branch/dmymca/sports/2025-winter-metro-league-basketball/24804/?utm_medium=calendar&utm_source=team_cal&utm_content=league_url#game-577165
LOCATION:Grubb YMCA
BEGIN:VALARM
TRIGGER:-P2H
ACTION:DISPLAY
DESCRIPTION:Agartians vs Riders
END:VALARM
END:VEVENT
BEGIN:VEVENT
UID:dmymca-577172@ygametime.com
DTSTAMP:20251210T033000Z
DTSTART;TZID=America/Chicago:20251209T213000
DURATION:PT0H60M0S
SUMMARY:Riders vs 515 Elite
DESCRIPTION:Metro Basketball League- 9th and 10th Grade | Metro League Basketball\nYMCA of Greater Des Moines\n
URL;VALUE=URI:https://ygametime.com/branch/dmymca/sports/2025-winter-metro-league-basketball/24804/?utm_medium=calendar&utm_source=team_cal&utm_content=league_url#game-577172
LOCATION:Grubb YMCA
BEGIN:VALARM
TRIGGER:-P2H
ACTION:DISPLAY
DESCRIPTION:Riders vs 515 Elite
END:VALARM
END:VEVENT
BEGIN:VEVENT
UID:dmymca-577188@ygametime.com
DTSTAMP:20251217T233000Z
DTSTART;TZID=America/Chicago:20251217T173000
DURATION:PT0H60M0S
SUMMARY:Riders vs WDM Vipers
DESCRIPTION:Metro Basketball League- 9th and 10th Grade | Metro League Basketball\nYMCA of Greater Des Moines\n
URL;VALUE=URI:https://ygametime.com/branch/dmymca/sports/2025-winter-metro-league-basketball/24804/?utm_medium=calendar&utm_source=team_cal&utm_content=league_url#game-577188
LOCATION:Grubb YMCA
BEGIN:VALARM
TRIGGER:-P2H
ACTION:DISPLAY
DESCRIPTION:Riders vs WDM Vipers
END:VALARM
END:VEVENT
BEGIN:VEVENT
UID:dmymca-577215@ygametime.com
DTSTAMP:20260107T003000Z
DTSTART;TZID=America/Chicago:20260106T183000
DURATION:PT0H60M0S
SUMMARY:Drizzy Drake Elite vs Riders
DESCRIPTION:Metro Basketball League- 9th and 10th Grade | Metro League Basketball\nYMCA of Greater Des Moines\n
URL;VALUE=URI:https://ygametime.com/branch/dmymca/sports/2025-winter-metro-league-basketball/24804/?utm_medium=calendar&utm_source=team_cal&utm_content=league_url#game-577215
LOCATION:Grubb YMCA
BEGIN:VALARM
TRIGGER:-P2H
ACTION:DISPLAY
DESCRIPTION:Drizzy Drake Elite vs Riders
END:VALARM
END:VEVENT
BEGIN:VEVENT
UID:dmymca-577224@ygametime.com
DTSTAMP:20260114T033000Z
DTSTART;TZID=America/Chicago:20260113T213000
DURATION:PT0H60M0S
SUMMARY:Riders vs Ragoon Academy
DESCRIPTION:Metro Basketball League- 9th and 10th Grade | Metro League Basketball\nYMCA of Greater Des Moines\n
URL;VALUE=URI:https://ygametime.com/branch/dmymca/sports/2025-winter-metro-league-basketball/24804/?utm_medium=calendar&utm_source=team_cal&utm_content=league_url#game-577224
LOCATION:Grubb YMCA
BEGIN:VALARM
TRIGGER:-P2H
ACTION:DISPLAY
DESCRIPTION:Riders vs Ragoon Academy
END:VALARM
END:VEVENT
BEGIN:VEVENT
UID:dmymca-577233@ygametime.com
DTSTAMP:20260121T233000Z
DTSTART;TZID=America/Chicago:20260121T173000
DURATION:PT0H60M0S
SUMMARY:Gamahs vs Riders
DESCRIPTION:Metro Basketball League- 9th and 10th Grade | Metro League Basketball\nYMCA of Greater Des Moines\n
URL;VALUE=URI:https://ygametime.com/branch/dmymca/sports/2025-winter-metro-league-basketball/24804/?utm_medium=calendar&utm_source=team_cal&utm_content=league_url#game-577233
LOCATION:Grubb YMCA
BEGIN:VALARM
TRIGGER:-P2H
ACTION:DISPLAY
DESCRIPTION:Gamahs vs Riders
END:VALARM
END:VEVENT
BEGIN:VEVENT
UID:dmymca-577242@ygametime.com
DTSTAMP:20260128T013000Z
DTSTART;TZID=America/Chicago:20260127T193000
DURATION:PT0H60M0S
SUMMARY:Riders vs Free Agents
DESCRIPTION:Metro Basketball League- 9th and 10th Grade | Metro League Basketball\nYMCA of Greater Des Moines\n
URL;VALUE=URI:https://ygametime.com/branch/dmymca/sports/2025-winter-metro-league-basketball/24804/?utm_medium=calendar&utm_source=team_cal&utm_content=league_url#game-577242
LOCATION:Grubb YMCA
BEGIN:VALARM
TRIGGER:-P2H
ACTION:DISPLAY
DESCRIPTION:Riders vs Free Agents
END:VALARM
END:VEVENT
BEGIN:VEVENT
UID:dmymca-577251@ygametime.com
DTSTAMP:20260204T023000Z
DTSTART;TZID=America/Chicago:20260203T203000
DURATION:PT0H60M0S
SUMMARY:CBG Slammers vs Riders
DESCRIPTION:Metro Basketball League- 9th and 10th Grade | Metro League Basketball\nYMCA of Greater Des Moines\n
URL;VALUE=URI:https://ygametime.com/branch/dmymca/sports/2025-winter-metro-league-basketball/24804/?utm_medium=calendar&utm_source=team_cal&utm_content=league_url#game-577251
LOCATION:Grubb YMCA
BEGIN:VALARM
TRIGGER:-P2H
ACTION:DISPLAY
DESCRIPTION:CBG Slammers vs Riders
END:VALARM
END:VEVENT
BEGIN:VEVENT
UID:dmymca-577197@ygametime.com
DTSTAMP:20260210T233000Z
DTSTART;TZID=America/Chicago:20260210T173000
DURATION:PT0H60M0S
SUMMARY:Hoyt Hoopers vs Riders
DESCRIPTION:Metro Basketball League- 9th and 10th Grade | Metro League Basketball\nYMCA of Greater Des Moines\n
URL;VALUE=URI:https://ygametime.com/branch/dmymca/sports/2025-winter-metro-league-basketball/24804/?utm_medium=calendar&utm_source=team_cal&utm_content=league_url#game-577197
LOCATION:Grubb YMCA
BEGIN:VALARM
TRIGGER:-P2H
ACTION:DISPLAY
DESCRIPTION:Hoyt Hoopers vs Riders
END:VALARM
END:VEVENT
BEGIN:VEVENT
UID:dmymca-577203@ygametime.com
DTSTAMP:20260218T023000Z
DTSTART;TZID=America/Chicago:20260217T203000
DURATION:PT0H60M0S
SUMMARY:Riders vs Gamahs
DESCRIPTION:Metro Basketball League- 9th and 10th Grade | Metro League Basketball\nYMCA of Greater Des Moines\n
URL;VALUE=URI:https://ygametime.com/branch/dmymca/sports/2025-winter-metro-league-basketball/24804/?utm_medium=calendar&utm_source=team_cal&utm_content=league_url#game-577203
LOCATION:Grubb YMCA
BEGIN:VALARM
TRIGGER:-P2H
ACTION:DISPLAY
DESCRIPTION:Riders vs Gamahs
END:VALARM
END:VEVENT
END:VCALENDAR

