BEGIN:VCALENDAR
VERSION:2.0
PRODID:-//YGAMETIME.com//YGT iCal Creator//EN
METHOD:PUBLISH
X-PUBLISHED-TTL:PT6H
REFRESH-INTERVAL;VALUE=DURATION:PT6H
CALSCALE:GREGORIAN
X-WR-CALNAME:YGAMETIME CALENDAR
BEGIN:VTIMEZONE
TZID:America/Chicago
X-LIC-LOCATION:America/Chicago
BEGIN:DAYLIGHT
TZOFFSETFROM:-0600
TZOFFSETTO:-0500
TZNAME:CDT
DTSTART:19700308T020000
RRULE:FREQ=YEARLY;BYMONTH=3;BYDAY=2SU
END:DAYLIGHT
BEGIN:STANDARD
TZOFFSETFROM:-0500
TZOFFSETTO:-0600
TZNAME:CST
DTSTART:19701101T020000
RRULE:FREQ=YEARLY;BYMONTH=11;BYDAY=1SU
END:STANDARD
END:VTIMEZONE
BEGIN:VEVENT
UID:dmymca-577163@ygametime.com
DTSTAMP:20251203T013000Z
DTSTART;TZID=America/Chicago:20251202T193000
DURATION:PT0H60M0S
SUMMARY:515 Elite vs WDM Vipers
DESCRIPTION:Metro Basketball League- 9th and 10th Grade | Metro League Basketball\nYMCA of Greater Des Moines\n
URL;VALUE=URI:https://ygametime.com/branch/dmymca/sports/2025-winter-metro-league-basketball/24804/?utm_medium=calendar&utm_source=team_cal&utm_content=league_url#game-577163
LOCATION:Grubb YMCA
BEGIN:VALARM
TRIGGER:-P2H
ACTION:DISPLAY
DESCRIPTION:515 Elite vs WDM Vipers
END:VALARM
END:VEVENT
BEGIN:VEVENT
UID:dmymca-577180@ygametime.com
DTSTAMP:20251211T003000Z
DTSTART;TZID=America/Chicago:20251210T183000
DURATION:PT0H60M0S
SUMMARY:WDM Vipers vs SEP Elite
DESCRIPTION:Metro Basketball League- 9th and 10th Grade | Metro League Basketball\nYMCA of Greater Des Moines\n
URL;VALUE=URI:https://ygametime.com/branch/dmymca/sports/2025-winter-metro-league-basketball/24804/?utm_medium=calendar&utm_source=team_cal&utm_content=league_url#game-577180
LOCATION:Grubb YMCA
BEGIN:VALARM
TRIGGER:-P2H
ACTION:DISPLAY
DESCRIPTION:WDM Vipers vs SEP Elite
END:VALARM
END:VEVENT
BEGIN:VEVENT
UID:dmymca-577188@ygametime.com
DTSTAMP:20251217T233000Z
DTSTART;TZID=America/Chicago:20251217T173000
DURATION:PT0H60M0S
SUMMARY:Riders vs WDM Vipers
DESCRIPTION:Metro Basketball League- 9th and 10th Grade | Metro League Basketball\nYMCA of Greater Des Moines\n
URL;VALUE=URI:https://ygametime.com/branch/dmymca/sports/2025-winter-metro-league-basketball/24804/?utm_medium=calendar&utm_source=team_cal&utm_content=league_url#game-577188
LOCATION:Grubb YMCA
BEGIN:VALARM
TRIGGER:-P2H
ACTION:DISPLAY
DESCRIPTION:Riders vs WDM Vipers
END:VALARM
END:VEVENT
BEGIN:VEVENT
UID:dmymca-577212@ygametime.com
DTSTAMP:20260107T023000Z
DTSTART;TZID=America/Chicago:20260106T203000
DURATION:PT0H60M0S
SUMMARY:WDM Vipers vs Duke Dennis Elite
DESCRIPTION:Metro Basketball League- 9th and 10th Grade | Metro League Basketball\nYMCA of Greater Des Moines\n
URL;VALUE=URI:https://ygametime.com/branch/dmymca/sports/2025-winter-metro-league-basketball/24804/?utm_medium=calendar&utm_source=team_cal&utm_content=league_url#game-577212
LOCATION:Grubb YMCA
BEGIN:VALARM
TRIGGER:-P2H
ACTION:DISPLAY
DESCRIPTION:WDM Vipers vs Duke Dennis Elite
END:VALARM
END:VEVENT
BEGIN:VEVENT
UID:dmymca-577218@ygametime.com
DTSTAMP:20260113T233000Z
DTSTART;TZID=America/Chicago:20260113T173000
DURATION:PT0H60M0S
SUMMARY:WDM Vipers vs CBG Slammers
DESCRIPTION:Metro Basketball League- 9th and 10th Grade | Metro League Basketball\nYMCA of Greater Des Moines\n
URL;VALUE=URI:https://ygametime.com/branch/dmymca/sports/2025-winter-metro-league-basketball/24804/?utm_medium=calendar&utm_source=team_cal&utm_content=league_url#game-577218
LOCATION:Grubb YMCA
BEGIN:VALARM
TRIGGER:-P2H
ACTION:DISPLAY
DESCRIPTION:WDM Vipers vs CBG Slammers
END:VALARM
END:VEVENT
BEGIN:VEVENT
UID:dmymca-577228@ygametime.com
DTSTAMP:20260121T003000Z
DTSTART;TZID=America/Chicago:20260120T183000
DURATION:PT0H60M0S
SUMMARY:WDM Vipers vs FTC Elite
DESCRIPTION:Metro Basketball League- 9th and 10th Grade | Metro League Basketball\nYMCA of Greater Des Moines\n
URL;VALUE=URI:https://ygametime.com/branch/dmymca/sports/2025-winter-metro-league-basketball/24804/?utm_medium=calendar&utm_source=team_cal&utm_content=league_url#game-577228
LOCATION:Grubb YMCA
BEGIN:VALARM
TRIGGER:-P2H
ACTION:DISPLAY
DESCRIPTION:WDM Vipers vs FTC Elite
END:VALARM
END:VEVENT
BEGIN:VEVENT
UID:dmymca-577236@ygametime.com
DTSTAMP:20260127T233000Z
DTSTART;TZID=America/Chicago:20260127T173000
DURATION:PT0H60M0S
SUMMARY:Drizzy Drake Elite vs WDM Vipers
DESCRIPTION:Metro Basketball League- 9th and 10th Grade | Metro League Basketball\nYMCA of Greater Des Moines\n
URL;VALUE=URI:https://ygametime.com/branch/dmymca/sports/2025-winter-metro-league-basketball/24804/?utm_medium=calendar&utm_source=team_cal&utm_content=league_url#game-577236
LOCATION:Grubb YMCA
BEGIN:VALARM
TRIGGER:-P2H
ACTION:DISPLAY
DESCRIPTION:Drizzy Drake Elite vs WDM Vipers
END:VALARM
END:VEVENT
BEGIN:VEVENT
UID:dmymca-577244@ygametime.com
DTSTAMP:20260203T223000Z
DTSTART;TZID=America/Chicago:20260203T163000
DURATION:PT0H60M0S
SUMMARY:WDM Vipers vs Mike Hess Elite
DESCRIPTION:Metro Basketball League- 9th and 10th Grade | Metro League Basketball\nYMCA of Greater Des Moines\n
URL;VALUE=URI:https://ygametime.com/branch/dmymca/sports/2025-winter-metro-league-basketball/24804/?utm_medium=calendar&utm_source=team_cal&utm_content=league_url#game-577244
LOCATION:Grubb YMCA
BEGIN:VALARM
TRIGGER:-P2H
ACTION:DISPLAY
DESCRIPTION:WDM Vipers vs Mike Hess Elite
END:VALARM
END:VEVENT
BEGIN:VEVENT
UID:dmymca-577196@ygametime.com
DTSTAMP:20260211T233000Z
DTSTART;TZID=America/Chicago:20260211T173000
DURATION:PT0H60M0S
SUMMARY:WDM Vipers vs Cookie King Elite
DESCRIPTION:Metro Basketball League- 9th and 10th Grade | Metro League Basketball\nYMCA of Greater Des Moines\n
URL;VALUE=URI:https://ygametime.com/branch/dmymca/sports/2025-winter-metro-league-basketball/24804/?utm_medium=calendar&utm_source=team_cal&utm_content=league_url#game-577196
LOCATION:Grubb YMCA
BEGIN:VALARM
TRIGGER:-P2H
ACTION:DISPLAY
DESCRIPTION:WDM Vipers vs Cookie King Elite
END:VALARM
END:VEVENT
BEGIN:VEVENT
UID:dmymca-577204@ygametime.com
DTSTAMP:20260218T033000Z
DTSTART;TZID=America/Chicago:20260217T213000
DURATION:PT0H60M0S
SUMMARY:Hoyt Hoopers vs WDM Vipers
DESCRIPTION:Metro Basketball League- 9th and 10th Grade | Metro League Basketball\nYMCA of Greater Des Moines\n
URL;VALUE=URI:https://ygametime.com/branch/dmymca/sports/2025-winter-metro-league-basketball/24804/?utm_medium=calendar&utm_source=team_cal&utm_content=league_url#game-577204
LOCATION:Grubb YMCA
BEGIN:VALARM
TRIGGER:-P2H
ACTION:DISPLAY
DESCRIPTION:Hoyt Hoopers vs WDM Vipers
END:VALARM
END:VEVENT
END:VCALENDAR

