BEGIN:VCALENDAR
VERSION:2.0
PRODID:-//YGAMETIME.com//YGT iCal Creator//EN
METHOD:PUBLISH
X-PUBLISHED-TTL:PT6H
REFRESH-INTERVAL;VALUE=DURATION:PT6H
CALSCALE:GREGORIAN
X-WR-CALNAME:YGAMETIME CALENDAR
BEGIN:VTIMEZONE
TZID:America/Chicago
X-LIC-LOCATION:America/Chicago
BEGIN:DAYLIGHT
TZOFFSETFROM:-0600
TZOFFSETTO:-0500
TZNAME:CDT
DTSTART:19700308T020000
RRULE:FREQ=YEARLY;BYMONTH=3;BYDAY=2SU
END:DAYLIGHT
BEGIN:STANDARD
TZOFFSETFROM:-0500
TZOFFSETTO:-0600
TZNAME:CST
DTSTART:19701101T020000
RRULE:FREQ=YEARLY;BYMONTH=11;BYDAY=1SU
END:STANDARD
END:VTIMEZONE
BEGIN:VEVENT
UID:dmymca-577170@ygametime.com
DTSTAMP:20251204T003000Z
DTSTART;TZID=America/Chicago:20251203T183000
DURATION:PT0H60M0S
SUMMARY:FTC Elite vs Ragoon Academy
DESCRIPTION:Metro Basketball League- 9th and 10th Grade | Metro League Basketball\nYMCA of Greater Des Moines\n
URL;VALUE=URI:https://ygametime.com/branch/dmymca/sports/2025-winter-metro-league-basketball/24804/?utm_medium=calendar&utm_source=team_cal&utm_content=league_url#game-577170
LOCATION:Grubb YMCA
BEGIN:VALARM
TRIGGER:-P2H
ACTION:DISPLAY
DESCRIPTION:FTC Elite vs Ragoon Academy
END:VALARM
END:VEVENT
BEGIN:VEVENT
UID:dmymca-577179@ygametime.com
DTSTAMP:20251210T003000Z
DTSTART;TZID=America/Chicago:20251209T183000
DURATION:PT0H60M0S
SUMMARY:Ragoon Academy vs Mike Hess Elite
DESCRIPTION:Metro Basketball League- 9th and 10th Grade | Metro League Basketball\nYMCA of Greater Des Moines\n
URL;VALUE=URI:https://ygametime.com/branch/dmymca/sports/2025-winter-metro-league-basketball/24804/?utm_medium=calendar&utm_source=team_cal&utm_content=league_url#game-577179
LOCATION:Grubb YMCA
BEGIN:VALARM
TRIGGER:-P2H
ACTION:DISPLAY
DESCRIPTION:Ragoon Academy vs Mike Hess Elite
END:VALARM
END:VEVENT
BEGIN:VEVENT
UID:dmymca-577187@ygametime.com
DTSTAMP:20251217T223000Z
DTSTART;TZID=America/Chicago:20251217T163000
DURATION:PT0H60M0S
SUMMARY:BTA Academy vs Ragoon Academy
DESCRIPTION:Metro Basketball League- 9th and 10th Grade | Metro League Basketball\nYMCA of Greater Des Moines\n
URL;VALUE=URI:https://ygametime.com/branch/dmymca/sports/2025-winter-metro-league-basketball/24804/?utm_medium=calendar&utm_source=team_cal&utm_content=league_url#game-577187
LOCATION:Grubb YMCA
BEGIN:VALARM
TRIGGER:-P2H
ACTION:DISPLAY
DESCRIPTION:BTA Academy vs Ragoon Academy
END:VALARM
END:VEVENT
BEGIN:VEVENT
UID:dmymca-577208@ygametime.com
DTSTAMP:20260106T223000Z
DTSTART;TZID=America/Chicago:20260106T163000
DURATION:PT0H60M0S
SUMMARY:Ragoon Academy vs 515 Elite
DESCRIPTION:Metro Basketball League- 9th and 10th Grade | Metro League Basketball\nYMCA of Greater Des Moines\n
URL;VALUE=URI:https://ygametime.com/branch/dmymca/sports/2025-winter-metro-league-basketball/24804/?utm_medium=calendar&utm_source=team_cal&utm_content=league_url#game-577208
LOCATION:Grubb YMCA
BEGIN:VALARM
TRIGGER:-P2H
ACTION:DISPLAY
DESCRIPTION:Ragoon Academy vs 515 Elite
END:VALARM
END:VEVENT
BEGIN:VEVENT
UID:dmymca-577224@ygametime.com
DTSTAMP:20260114T033000Z
DTSTART;TZID=America/Chicago:20260113T213000
DURATION:PT0H60M0S
SUMMARY:Riders vs Ragoon Academy
DESCRIPTION:Metro Basketball League- 9th and 10th Grade | Metro League Basketball\nYMCA of Greater Des Moines\n
URL;VALUE=URI:https://ygametime.com/branch/dmymca/sports/2025-winter-metro-league-basketball/24804/?utm_medium=calendar&utm_source=team_cal&utm_content=league_url#game-577224
LOCATION:Grubb YMCA
BEGIN:VALARM
TRIGGER:-P2H
ACTION:DISPLAY
DESCRIPTION:Riders vs Ragoon Academy
END:VALARM
END:VEVENT
BEGIN:VEVENT
UID:dmymca-577231@ygametime.com
DTSTAMP:20260121T033000Z
DTSTART;TZID=America/Chicago:20260120T213000
DURATION:PT0H60M0S
SUMMARY:Ragoon Academy vs Hoyt Hoopers
DESCRIPTION:Metro Basketball League- 9th and 10th Grade | Metro League Basketball\nYMCA of Greater Des Moines\n
URL;VALUE=URI:https://ygametime.com/branch/dmymca/sports/2025-winter-metro-league-basketball/24804/?utm_medium=calendar&utm_source=team_cal&utm_content=league_url#game-577231
LOCATION:Grubb YMCA
BEGIN:VALARM
TRIGGER:-P2H
ACTION:DISPLAY
DESCRIPTION:Ragoon Academy vs Hoyt Hoopers
END:VALARM
END:VEVENT
BEGIN:VEVENT
UID:dmymca-577241@ygametime.com
DTSTAMP:20260128T233000Z
DTSTART;TZID=America/Chicago:20260128T173000
DURATION:PT0H60M0S
SUMMARY:Ragoon Academy vs Cookie King Elite
DESCRIPTION:Metro Basketball League- 9th and 10th Grade | Metro League Basketball\nYMCA of Greater Des Moines\n
URL;VALUE=URI:https://ygametime.com/branch/dmymca/sports/2025-winter-metro-league-basketball/24804/?utm_medium=calendar&utm_source=team_cal&utm_content=league_url#game-577241
LOCATION:Grubb YMCA
BEGIN:VALARM
TRIGGER:-P2H
ACTION:DISPLAY
DESCRIPTION:Ragoon Academy vs Cookie King Elite
END:VALARM
END:VEVENT
BEGIN:VEVENT
UID:dmymca-577245@ygametime.com
DTSTAMP:20260203T233000Z
DTSTART;TZID=America/Chicago:20260203T173000
DURATION:PT0H60M0S
SUMMARY:Ragoon Academy vs Drizzy Drake Elite
DESCRIPTION:Metro Basketball League- 9th and 10th Grade | Metro League Basketball\nYMCA of Greater Des Moines\n
URL;VALUE=URI:https://ygametime.com/branch/dmymca/sports/2025-winter-metro-league-basketball/24804/?utm_medium=calendar&utm_source=team_cal&utm_content=league_url#game-577245
LOCATION:Grubb YMCA
BEGIN:VALARM
TRIGGER:-P2H
ACTION:DISPLAY
DESCRIPTION:Ragoon Academy vs Drizzy Drake Elite
END:VALARM
END:VEVENT
BEGIN:VEVENT
UID:dmymca-577194@ygametime.com
DTSTAMP:20260211T023000Z
DTSTART;TZID=America/Chicago:20260210T203000
DURATION:PT0H60M0S
SUMMARY:Ragoon Academy vs CBG Slammers
DESCRIPTION:Metro Basketball League- 9th and 10th Grade | Metro League Basketball\nYMCA of Greater Des Moines\n
URL;VALUE=URI:https://ygametime.com/branch/dmymca/sports/2025-winter-metro-league-basketball/24804/?utm_medium=calendar&utm_source=team_cal&utm_content=league_url#game-577194
LOCATION:Grubb YMCA
BEGIN:VALARM
TRIGGER:-P2H
ACTION:DISPLAY
DESCRIPTION:Ragoon Academy vs CBG Slammers
END:VALARM
END:VEVENT
BEGIN:VEVENT
UID:dmymca-577201@ygametime.com
DTSTAMP:20260218T003000Z
DTSTART;TZID=America/Chicago:20260217T183000
DURATION:PT0H60M0S
SUMMARY:Agartians vs Ragoon Academy
DESCRIPTION:Metro Basketball League- 9th and 10th Grade | Metro League Basketball\nYMCA of Greater Des Moines\n
URL;VALUE=URI:https://ygametime.com/branch/dmymca/sports/2025-winter-metro-league-basketball/24804/?utm_medium=calendar&utm_source=team_cal&utm_content=league_url#game-577201
LOCATION:Grubb YMCA
BEGIN:VALARM
TRIGGER:-P2H
ACTION:DISPLAY
DESCRIPTION:Agartians vs Ragoon Academy
END:VALARM
END:VEVENT
END:VCALENDAR

