BEGIN:VCALENDAR
VERSION:2.0
PRODID:-//YGAMETIME.com//YGT iCal Creator//EN
METHOD:PUBLISH
X-PUBLISHED-TTL:PT6H
REFRESH-INTERVAL;VALUE=DURATION:PT6H
CALSCALE:GREGORIAN
X-WR-CALNAME:YGAMETIME CALENDAR
BEGIN:VTIMEZONE
TZID:America/Chicago
X-LIC-LOCATION:America/Chicago
BEGIN:DAYLIGHT
TZOFFSETFROM:-0600
TZOFFSETTO:-0500
TZNAME:CDT
DTSTART:19700308T020000
RRULE:FREQ=YEARLY;BYMONTH=3;BYDAY=2SU
END:DAYLIGHT
BEGIN:STANDARD
TZOFFSETFROM:-0500
TZOFFSETTO:-0600
TZNAME:CST
DTSTART:19701101T020000
RRULE:FREQ=YEARLY;BYMONTH=11;BYDAY=1SU
END:STANDARD
END:VTIMEZONE
BEGIN:VEVENT
UID:dmymca-577260@ygametime.com
DTSTAMP:20251204T223000Z
DTSTART;TZID=America/Chicago:20251204T163000
DURATION:PT0H60M0S
SUMMARY:Dunkademics vs Oppenhoopers
DESCRIPTION:Metro Basketball League- 11th and 12th Grade | Metro League Basketball\nYMCA of Greater Des Moines\n
URL;VALUE=URI:https://ygametime.com/branch/dmymca/sports/2025-winter-metro-league-basketball/24805/?utm_medium=calendar&utm_source=team_cal&utm_content=league_url#game-577260
LOCATION:Grubb YMCA
BEGIN:VALARM
TRIGGER:-P2H
ACTION:DISPLAY
DESCRIPTION:Dunkademics vs Oppenhoopers
END:VALARM
END:VEVENT
BEGIN:VEVENT
UID:dmymca-577274@ygametime.com
DTSTAMP:20251211T223000Z
DTSTART;TZID=America/Chicago:20251211T163000
DURATION:PT0H60M0S
SUMMARY:Oppenhoopers vs FTC Elite
DESCRIPTION:Metro Basketball League- 11th and 12th Grade | Metro League Basketball\nYMCA of Greater Des Moines\n
URL;VALUE=URI:https://ygametime.com/branch/dmymca/sports/2025-winter-metro-league-basketball/24805/?utm_medium=calendar&utm_source=team_cal&utm_content=league_url#game-577274
LOCATION:Grubb YMCA
BEGIN:VALARM
TRIGGER:-P2H
ACTION:DISPLAY
DESCRIPTION:Oppenhoopers vs FTC Elite
END:VALARM
END:VEVENT
BEGIN:VEVENT
UID:dmymca-577288@ygametime.com
DTSTAMP:20251218T223000Z
DTSTART;TZID=America/Chicago:20251218T163000
DURATION:PT0H60M0S
SUMMARY:Irish Spring Green vs Oppenhoopers
DESCRIPTION:Metro Basketball League- 11th and 12th Grade | Metro League Basketball\nYMCA of Greater Des Moines\n
URL;VALUE=URI:https://ygametime.com/branch/dmymca/sports/2025-winter-metro-league-basketball/24805/?utm_medium=calendar&utm_source=team_cal&utm_content=league_url#game-577288
LOCATION:Grubb YMCA
BEGIN:VALARM
TRIGGER:-P2H
ACTION:DISPLAY
DESCRIPTION:Irish Spring Green vs Oppenhoopers
END:VALARM
END:VEVENT
BEGIN:VEVENT
UID:dmymca-577315@ygametime.com
DTSTAMP:20260110T180000Z
DTSTART;TZID=America/Chicago:20260110T120000
DURATION:PT0H60M0S
SUMMARY:YBG vs Oppenhoopers
DESCRIPTION:Metro Basketball League- 11th and 12th Grade | Metro League Basketball\nYMCA of Greater Des Moines\n
URL;VALUE=URI:https://ygametime.com/branch/dmymca/sports/2025-winter-metro-league-basketball/24805/?utm_medium=calendar&utm_source=team_cal&utm_content=league_url#game-577315
LOCATION:Grubb YMCA
BEGIN:VALARM
TRIGGER:-P2H
ACTION:DISPLAY
DESCRIPTION:YBG vs Oppenhoopers
END:VALARM
END:VEVENT
BEGIN:VEVENT
UID:dmymca-577302@ygametime.com
DTSTAMP:20260115T223000Z
DTSTART;TZID=America/Chicago:20260115T163000
DURATION:PT0H60M0S
SUMMARY:Oppenhoopers vs Midwest Magic
DESCRIPTION:Metro Basketball League- 11th and 12th Grade | Metro League Basketball\nYMCA of Greater Des Moines\n
URL;VALUE=URI:https://ygametime.com/branch/dmymca/sports/2025-winter-metro-league-basketball/24805/?utm_medium=calendar&utm_source=team_cal&utm_content=league_url#game-577302
LOCATION:Grubb YMCA
BEGIN:VALARM
TRIGGER:-P2H
ACTION:DISPLAY
DESCRIPTION:Oppenhoopers vs Midwest Magic
END:VALARM
END:VEVENT
END:VCALENDAR

