BEGIN:VCALENDAR
VERSION:2.0
PRODID:-//YGAMETIME.com//YGT iCal Creator//EN
METHOD:PUBLISH
X-PUBLISHED-TTL:PT6H
REFRESH-INTERVAL;VALUE=DURATION:PT6H
CALSCALE:GREGORIAN
X-WR-CALNAME:YGAMETIME CALENDAR
BEGIN:VTIMEZONE
TZID:America/Chicago
X-LIC-LOCATION:America/Chicago
BEGIN:DAYLIGHT
TZOFFSETFROM:-0600
TZOFFSETTO:-0500
TZNAME:CDT
DTSTART:19700308T020000
RRULE:FREQ=YEARLY;BYMONTH=3;BYDAY=2SU
END:DAYLIGHT
BEGIN:STANDARD
TZOFFSETFROM:-0500
TZOFFSETTO:-0600
TZNAME:CST
DTSTART:19701101T020000
RRULE:FREQ=YEARLY;BYMONTH=11;BYDAY=1SU
END:STANDARD
END:VTIMEZONE
BEGIN:VEVENT
UID:dmymca-577259@ygametime.com
DTSTAMP:20251206T180000Z
DTSTART;TZID=America/Chicago:20251206T120000
DURATION:PT0H60M0S
SUMMARY:The Jelkers vs Bricklayers
DESCRIPTION:Metro Basketball League- 11th and 12th Grade | Metro League Basketball\nYMCA of Greater Des Moines\n
URL;VALUE=URI:https://ygametime.com/branch/dmymca/sports/2025-winter-metro-league-basketball/24805/?utm_medium=calendar&utm_source=team_cal&utm_content=league_url#game-577259
LOCATION:Grubb YMCA
BEGIN:VALARM
TRIGGER:-P2H
ACTION:DISPLAY
DESCRIPTION:The Jelkers vs Bricklayers
END:VALARM
END:VEVENT
BEGIN:VEVENT
UID:dmymca-577273@ygametime.com
DTSTAMP:20251213T160000Z
DTSTART;TZID=America/Chicago:20251213T100000
DURATION:PT0H60M0S
SUMMARY:Empty the Register vs The Jelkers
DESCRIPTION:Metro Basketball League- 11th and 12th Grade | Metro League Basketball\nYMCA of Greater Des Moines\n
URL;VALUE=URI:https://ygametime.com/branch/dmymca/sports/2025-winter-metro-league-basketball/24805/?utm_medium=calendar&utm_source=team_cal&utm_content=league_url#game-577273
LOCATION:Grubb YMCA
BEGIN:VALARM
TRIGGER:-P2H
ACTION:DISPLAY
DESCRIPTION:Empty the Register vs The Jelkers
END:VALARM
END:VEVENT
BEGIN:VEVENT
UID:dmymca-577287@ygametime.com
DTSTAMP:20251220T180000Z
DTSTART;TZID=America/Chicago:20251220T120000
DURATION:PT0H60M0S
SUMMARY:The Jelkers vs Hood Ballers
DESCRIPTION:Metro Basketball League- 11th and 12th Grade | Metro League Basketball\nYMCA of Greater Des Moines\n
URL;VALUE=URI:https://ygametime.com/branch/dmymca/sports/2025-winter-metro-league-basketball/24805/?utm_medium=calendar&utm_source=team_cal&utm_content=league_url#game-577287
LOCATION:Grubb YMCA
BEGIN:VALARM
TRIGGER:-P2H
ACTION:DISPLAY
DESCRIPTION:The Jelkers vs Hood Ballers
END:VALARM
END:VEVENT
BEGIN:VEVENT
UID:dmymca-577304@ygametime.com
DTSTAMP:20260116T003000Z
DTSTART;TZID=America/Chicago:20260115T183000
DURATION:PT0H60M0S
SUMMARY:The Jelkers vs BiggerXthaplug
DESCRIPTION:Metro Basketball League- 11th and 12th Grade | Metro League Basketball\nYMCA of Greater Des Moines\n
URL;VALUE=URI:https://ygametime.com/branch/dmymca/sports/2025-winter-metro-league-basketball/24805/?utm_medium=calendar&utm_source=team_cal&utm_content=league_url#game-577304
LOCATION:Grubb YMCA
BEGIN:VALARM
TRIGGER:-P2H
ACTION:DISPLAY
DESCRIPTION:The Jelkers vs BiggerXthaplug
END:VALARM
END:VEVENT
BEGIN:VEVENT
UID:dmymca-577301@ygametime.com
DTSTAMP:20260117T180000Z
DTSTART;TZID=America/Chicago:20260117T120000
DURATION:PT0H60M0S
SUMMARY:JTown Buckets vs The Jelkers
DESCRIPTION:Metro Basketball League- 11th and 12th Grade | Metro League Basketball\nYMCA of Greater Des Moines\n
URL;VALUE=URI:https://ygametime.com/branch/dmymca/sports/2025-winter-metro-league-basketball/24805/?utm_medium=calendar&utm_source=team_cal&utm_content=league_url#game-577301
LOCATION:Grubb YMCA
BEGIN:VALARM
TRIGGER:-P2H
ACTION:DISPLAY
DESCRIPTION:JTown Buckets vs The Jelkers
END:VALARM
END:VEVENT
END:VCALENDAR

