BEGIN:VCALENDAR
VERSION:2.0
PRODID:-//YGAMETIME.com//YGT iCal Creator//EN
METHOD:PUBLISH
X-PUBLISHED-TTL:PT6H
REFRESH-INTERVAL;VALUE=DURATION:PT6H
CALSCALE:GREGORIAN
X-WR-CALNAME:YGAMETIME CALENDAR
BEGIN:VTIMEZONE
TZID:America/Chicago
X-LIC-LOCATION:America/Chicago
BEGIN:DAYLIGHT
TZOFFSETFROM:-0600
TZOFFSETTO:-0500
TZNAME:CDT
DTSTART:19700308T020000
RRULE:FREQ=YEARLY;BYMONTH=3;BYDAY=2SU
END:DAYLIGHT
BEGIN:STANDARD
TZOFFSETFROM:-0500
TZOFFSETTO:-0600
TZNAME:CST
DTSTART:19701101T020000
RRULE:FREQ=YEARLY;BYMONTH=11;BYDAY=1SU
END:STANDARD
END:VTIMEZONE
BEGIN:VEVENT
UID:dmymca-577257@ygametime.com
DTSTAMP:20251204T023000Z
DTSTART;TZID=America/Chicago:20251203T203000
DURATION:PT0H60M0S
SUMMARY:Wailings Woods Warriors vs Baby Oil Bandits
DESCRIPTION:Metro Basketball League- 11th and 12th Grade | Metro League Basketball\nYMCA of Greater Des Moines\n
URL;VALUE=URI:https://ygametime.com/branch/dmymca/sports/2025-winter-metro-league-basketball/24805/?utm_medium=calendar&utm_source=team_cal&utm_content=league_url#game-577257
LOCATION:Grubb YMCA
BEGIN:VALARM
TRIGGER:-P2H
ACTION:DISPLAY
DESCRIPTION:Wailings Woods Warriors vs Baby Oil Bandits
END:VALARM
END:VEVENT
BEGIN:VEVENT
UID:dmymca-577271@ygametime.com
DTSTAMP:20251211T023000Z
DTSTART;TZID=America/Chicago:20251210T203000
DURATION:PT0H60M0S
SUMMARY:Bricklayers vs Wailings Woods Warriors
DESCRIPTION:Metro Basketball League- 11th and 12th Grade | Metro League Basketball\nYMCA of Greater Des Moines\n
URL;VALUE=URI:https://ygametime.com/branch/dmymca/sports/2025-winter-metro-league-basketball/24805/?utm_medium=calendar&utm_source=team_cal&utm_content=league_url#game-577271
LOCATION:Grubb YMCA
BEGIN:VALARM
TRIGGER:-P2H
ACTION:DISPLAY
DESCRIPTION:Bricklayers vs Wailings Woods Warriors
END:VALARM
END:VEVENT
BEGIN:VEVENT
UID:dmymca-577285@ygametime.com
DTSTAMP:20251218T023000Z
DTSTART;TZID=America/Chicago:20251217T203000
DURATION:PT0H60M0S
SUMMARY:Wailings Woods Warriors vs Empty the Register
DESCRIPTION:Metro Basketball League- 11th and 12th Grade | Metro League Basketball\nYMCA of Greater Des Moines\n
URL;VALUE=URI:https://ygametime.com/branch/dmymca/sports/2025-winter-metro-league-basketball/24805/?utm_medium=calendar&utm_source=team_cal&utm_content=league_url#game-577285
LOCATION:Grubb YMCA
BEGIN:VALARM
TRIGGER:-P2H
ACTION:DISPLAY
DESCRIPTION:Wailings Woods Warriors vs Empty the Register
END:VALARM
END:VEVENT
BEGIN:VEVENT
UID:dmymca-577313@ygametime.com
DTSTAMP:20260108T023000Z
DTSTART;TZID=America/Chicago:20260107T203000
DURATION:PT0H60M0S
SUMMARY:Wailings Woods Warriors vs JTown Buckets
DESCRIPTION:Metro Basketball League- 11th and 12th Grade | Metro League Basketball\nYMCA of Greater Des Moines\n
URL;VALUE=URI:https://ygametime.com/branch/dmymca/sports/2025-winter-metro-league-basketball/24805/?utm_medium=calendar&utm_source=team_cal&utm_content=league_url#game-577313
LOCATION:Grubb YMCA
BEGIN:VALARM
TRIGGER:-P2H
ACTION:DISPLAY
DESCRIPTION:Wailings Woods Warriors vs JTown Buckets
END:VALARM
END:VEVENT
BEGIN:VEVENT
UID:dmymca-577299@ygametime.com
DTSTAMP:20260115T023000Z
DTSTART;TZID=America/Chicago:20260114T203000
DURATION:PT0H60M0S
SUMMARY:Hood Ballers vs Wailings Woods Warriors
DESCRIPTION:Metro Basketball League- 11th and 12th Grade | Metro League Basketball\nYMCA of Greater Des Moines\n
URL;VALUE=URI:https://ygametime.com/branch/dmymca/sports/2025-winter-metro-league-basketball/24805/?utm_medium=calendar&utm_source=team_cal&utm_content=league_url#game-577299
LOCATION:Grubb YMCA
BEGIN:VALARM
TRIGGER:-P2H
ACTION:DISPLAY
DESCRIPTION:Hood Ballers vs Wailings Woods Warriors
END:VALARM
END:VEVENT
END:VCALENDAR

