BEGIN:VCALENDAR
VERSION:2.0
PRODID:-//YGAMETIME.com//YGT iCal Creator//EN
METHOD:PUBLISH
X-PUBLISHED-TTL:PT6H
REFRESH-INTERVAL;VALUE=DURATION:PT6H
CALSCALE:GREGORIAN
X-WR-CALNAME:YGAMETIME CALENDAR
BEGIN:VTIMEZONE
TZID:America/Chicago
X-LIC-LOCATION:America/Chicago
BEGIN:DAYLIGHT
TZOFFSETFROM:-0600
TZOFFSETTO:-0500
TZNAME:CDT
DTSTART:19700308T020000
RRULE:FREQ=YEARLY;BYMONTH=3;BYDAY=2SU
END:DAYLIGHT
BEGIN:STANDARD
TZOFFSETFROM:-0500
TZOFFSETTO:-0600
TZNAME:CST
DTSTART:19701101T020000
RRULE:FREQ=YEARLY;BYMONTH=11;BYDAY=1SU
END:STANDARD
END:VTIMEZONE
BEGIN:VEVENT
UID:dmymca-577255@ygametime.com
DTSTAMP:20251206T160000Z
DTSTART;TZID=America/Chicago:20251206T100000
DURATION:PT0H60M0S
SUMMARY:Wu Tang vs Brent Faiyaz Elite
DESCRIPTION:Metro Basketball League- 11th and 12th Grade | Metro League Basketball\nYMCA of Greater Des Moines\n
URL;VALUE=URI:https://ygametime.com/branch/dmymca/sports/2025-winter-metro-league-basketball/24805/?utm_medium=calendar&utm_source=team_cal&utm_content=league_url#game-577255
LOCATION:Grubb YMCA
BEGIN:VALARM
TRIGGER:-P2H
ACTION:DISPLAY
DESCRIPTION:Wu Tang vs Brent Faiyaz Elite
END:VALARM
END:VEVENT
BEGIN:VEVENT
UID:dmymca-577268@ygametime.com
DTSTAMP:20251213T170000Z
DTSTART;TZID=America/Chicago:20251213T110000
DURATION:PT0H60M0S
SUMMARY:Butter Chicken Elite vs Wu Tang
DESCRIPTION:Metro Basketball League- 11th and 12th Grade | Metro League Basketball\nYMCA of Greater Des Moines\n
URL;VALUE=URI:https://ygametime.com/branch/dmymca/sports/2025-winter-metro-league-basketball/24805/?utm_medium=calendar&utm_source=team_cal&utm_content=league_url#game-577268
LOCATION:Grubb YMCA
BEGIN:VALARM
TRIGGER:-P2H
ACTION:DISPLAY
DESCRIPTION:Butter Chicken Elite vs Wu Tang
END:VALARM
END:VEVENT
BEGIN:VEVENT
UID:dmymca-577269@ygametime.com
DTSTAMP:20251213T180000Z
DTSTART;TZID=America/Chicago:20251213T120000
DURATION:PT0H60M0S
SUMMARY:Baby Oil Bandits vs Wu Tang
DESCRIPTION:Metro Basketball League- 11th and 12th Grade | Metro League Basketball\nYMCA of Greater Des Moines\n
URL;VALUE=URI:https://ygametime.com/branch/dmymca/sports/2025-winter-metro-league-basketball/24805/?utm_medium=calendar&utm_source=team_cal&utm_content=league_url#game-577269
LOCATION:Grubb YMCA
BEGIN:VALARM
TRIGGER:-P2H
ACTION:DISPLAY
DESCRIPTION:Baby Oil Bandits vs Wu Tang
END:VALARM
END:VEVENT
BEGIN:VEVENT
UID:dmymca-577283@ygametime.com
DTSTAMP:20251220T160000Z
DTSTART;TZID=America/Chicago:20251220T100000
DURATION:PT0H60M0S
SUMMARY:Wu Tang vs Bricklayers
DESCRIPTION:Metro Basketball League- 11th and 12th Grade | Metro League Basketball\nYMCA of Greater Des Moines\n
URL;VALUE=URI:https://ygametime.com/branch/dmymca/sports/2025-winter-metro-league-basketball/24805/?utm_medium=calendar&utm_source=team_cal&utm_content=league_url#game-577283
LOCATION:Grubb YMCA
BEGIN:VALARM
TRIGGER:-P2H
ACTION:DISPLAY
DESCRIPTION:Wu Tang vs Bricklayers
END:VALARM
END:VEVENT
BEGIN:VEVENT
UID:dmymca-577311@ygametime.com
DTSTAMP:20260110T140000Z
DTSTART;TZID=America/Chicago:20260110T080000
DURATION:PT0H60M0S
SUMMARY:Wu Tang vs Hood Ballers
DESCRIPTION:Metro Basketball League- 11th and 12th Grade | Metro League Basketball\nYMCA of Greater Des Moines\n
URL;VALUE=URI:https://ygametime.com/branch/dmymca/sports/2025-winter-metro-league-basketball/24805/?utm_medium=calendar&utm_source=team_cal&utm_content=league_url#game-577311
LOCATION:Grubb YMCA
BEGIN:VALARM
TRIGGER:-P2H
ACTION:DISPLAY
DESCRIPTION:Wu Tang vs Hood Ballers
END:VALARM
END:VEVENT
BEGIN:VEVENT
UID:dmymca-577297@ygametime.com
DTSTAMP:20260117T160000Z
DTSTART;TZID=America/Chicago:20260117T100000
DURATION:PT0H60M0S
SUMMARY:Empty the Register vs Wu Tang
DESCRIPTION:Metro Basketball League- 11th and 12th Grade | Metro League Basketball\nYMCA of Greater Des Moines\n
URL;VALUE=URI:https://ygametime.com/branch/dmymca/sports/2025-winter-metro-league-basketball/24805/?utm_medium=calendar&utm_source=team_cal&utm_content=league_url#game-577297
LOCATION:Grubb YMCA
BEGIN:VALARM
TRIGGER:-P2H
ACTION:DISPLAY
DESCRIPTION:Empty the Register vs Wu Tang
END:VALARM
END:VEVENT
END:VCALENDAR

