BEGIN:VCALENDAR
VERSION:2.0
PRODID:-//YGAMETIME.com//YGT iCal Creator//EN
METHOD:PUBLISH
X-PUBLISHED-TTL:PT6H
REFRESH-INTERVAL;VALUE=DURATION:PT6H
CALSCALE:GREGORIAN
X-WR-CALNAME:YGAMETIME CALENDAR
BEGIN:VTIMEZONE
TZID:America/Chicago
X-LIC-LOCATION:America/Chicago
BEGIN:DAYLIGHT
TZOFFSETFROM:-0600
TZOFFSETTO:-0500
TZNAME:CDT
DTSTART:19700308T020000
RRULE:FREQ=YEARLY;BYMONTH=3;BYDAY=2SU
END:DAYLIGHT
BEGIN:STANDARD
TZOFFSETFROM:-0500
TZOFFSETTO:-0600
TZNAME:CST
DTSTART:19701101T020000
RRULE:FREQ=YEARLY;BYMONTH=11;BYDAY=1SU
END:STANDARD
END:VTIMEZONE
BEGIN:VEVENT
UID:dmymca-577169@ygametime.com
DTSTAMP:20251203T233000Z
DTSTART;TZID=America/Chicago:20251203T173000
DURATION:PT0H60M0S
SUMMARY:BTA Academy vs Mike Hess Elite
DESCRIPTION:Metro Basketball League- 9th and 10th Grade | Metro League Basketball\nYMCA of Greater Des Moines\n
URL;VALUE=URI:https://ygametime.com/branch/dmymca/sports/2025-winter-metro-league-basketball/24804/?utm_medium=calendar&utm_source=team_cal&utm_content=league_url#game-577169
LOCATION:Grubb YMCA
BEGIN:VALARM
TRIGGER:-P2H
ACTION:DISPLAY
DESCRIPTION:BTA Academy vs Mike Hess Elite
END:VALARM
END:VEVENT
BEGIN:VEVENT
UID:dmymca-577178@ygametime.com
DTSTAMP:20251209T223000Z
DTSTART;TZID=America/Chicago:20251209T163000
DURATION:PT0H60M0S
SUMMARY:Drizzy Drake Elite vs BTA Academy
DESCRIPTION:Metro Basketball League- 9th and 10th Grade | Metro League Basketball\nYMCA of Greater Des Moines\n
URL;VALUE=URI:https://ygametime.com/branch/dmymca/sports/2025-winter-metro-league-basketball/24804/?utm_medium=calendar&utm_source=team_cal&utm_content=league_url#game-577178
LOCATION:Grubb YMCA
BEGIN:VALARM
TRIGGER:-P2H
ACTION:DISPLAY
DESCRIPTION:Drizzy Drake Elite vs BTA Academy
END:VALARM
END:VEVENT
BEGIN:VEVENT
UID:dmymca-577187@ygametime.com
DTSTAMP:20251217T223000Z
DTSTART;TZID=America/Chicago:20251217T163000
DURATION:PT0H60M0S
SUMMARY:BTA Academy vs Ragoon Academy
DESCRIPTION:Metro Basketball League- 9th and 10th Grade | Metro League Basketball\nYMCA of Greater Des Moines\n
URL;VALUE=URI:https://ygametime.com/branch/dmymca/sports/2025-winter-metro-league-basketball/24804/?utm_medium=calendar&utm_source=team_cal&utm_content=league_url#game-577187
LOCATION:Grubb YMCA
BEGIN:VALARM
TRIGGER:-P2H
ACTION:DISPLAY
DESCRIPTION:BTA Academy vs Ragoon Academy
END:VALARM
END:VEVENT
BEGIN:VEVENT
UID:dmymca-577209@ygametime.com
DTSTAMP:20260106T233000Z
DTSTART;TZID=America/Chicago:20260106T173000
DURATION:PT0H60M0S
SUMMARY:CBG Slammers vs BTA Academy
DESCRIPTION:Metro Basketball League- 9th and 10th Grade | Metro League Basketball\nYMCA of Greater Des Moines\n
URL;VALUE=URI:https://ygametime.com/branch/dmymca/sports/2025-winter-metro-league-basketball/24804/?utm_medium=calendar&utm_source=team_cal&utm_content=league_url#game-577209
LOCATION:Grubb YMCA
BEGIN:VALARM
TRIGGER:-P2H
ACTION:DISPLAY
DESCRIPTION:CBG Slammers vs BTA Academy
END:VALARM
END:VEVENT
BEGIN:VEVENT
UID:dmymca-577225@ygametime.com
DTSTAMP:20260114T223000Z
DTSTART;TZID=America/Chicago:20260114T163000
DURATION:PT0H60M0S
SUMMARY:BTA Academy vs SEP Elite
DESCRIPTION:Metro Basketball League- 9th and 10th Grade | Metro League Basketball\nYMCA of Greater Des Moines\n
URL;VALUE=URI:https://ygametime.com/branch/dmymca/sports/2025-winter-metro-league-basketball/24804/?utm_medium=calendar&utm_source=team_cal&utm_content=league_url#game-577225
LOCATION:Grubb YMCA
BEGIN:VALARM
TRIGGER:-P2H
ACTION:DISPLAY
DESCRIPTION:BTA Academy vs SEP Elite
END:VALARM
END:VEVENT
BEGIN:VEVENT
UID:dmymca-577234@ygametime.com
DTSTAMP:20260121T013000Z
DTSTART;TZID=America/Chicago:20260120T193000
DURATION:PT0H60M0S
SUMMARY:SEP Elite vs BTA Academy
DESCRIPTION:Metro Basketball League- 9th and 10th Grade | Metro League Basketball\nYMCA of Greater Des Moines\n
URL;VALUE=URI:https://ygametime.com/branch/dmymca/sports/2025-winter-metro-league-basketball/24804/?utm_medium=calendar&utm_source=team_cal&utm_content=league_url#game-577234
LOCATION:Grubb YMCA
BEGIN:VALARM
TRIGGER:-P2H
ACTION:DISPLAY
DESCRIPTION:SEP Elite vs BTA Academy
END:VALARM
END:VEVENT
BEGIN:VEVENT
UID:dmymca-577239@ygametime.com
DTSTAMP:20260128T023000Z
DTSTART;TZID=America/Chicago:20260127T203000
DURATION:PT0H60M0S
SUMMARY:BTA Academy vs Duke Dennis Elite
DESCRIPTION:Metro Basketball League- 9th and 10th Grade | Metro League Basketball\nYMCA of Greater Des Moines\n
URL;VALUE=URI:https://ygametime.com/branch/dmymca/sports/2025-winter-metro-league-basketball/24804/?utm_medium=calendar&utm_source=team_cal&utm_content=league_url#game-577239
LOCATION:Grubb YMCA
BEGIN:VALARM
TRIGGER:-P2H
ACTION:DISPLAY
DESCRIPTION:BTA Academy vs Duke Dennis Elite
END:VALARM
END:VEVENT
BEGIN:VEVENT
UID:dmymca-577246@ygametime.com
DTSTAMP:20260204T003000Z
DTSTART;TZID=America/Chicago:20260203T183000
DURATION:PT0H60M0S
SUMMARY:FTC Elite vs BTA Academy
DESCRIPTION:Metro Basketball League- 9th and 10th Grade | Metro League Basketball\nYMCA of Greater Des Moines\n
URL;VALUE=URI:https://ygametime.com/branch/dmymca/sports/2025-winter-metro-league-basketball/24804/?utm_medium=calendar&utm_source=team_cal&utm_content=league_url#game-577246
LOCATION:Grubb YMCA
BEGIN:VALARM
TRIGGER:-P2H
ACTION:DISPLAY
DESCRIPTION:FTC Elite vs BTA Academy
END:VALARM
END:VEVENT
BEGIN:VEVENT
UID:dmymca-577195@ygametime.com
DTSTAMP:20260211T033000Z
DTSTART;TZID=America/Chicago:20260210T213000
DURATION:PT0H60M0S
SUMMARY:Gamahs vs BTA Academy
DESCRIPTION:Metro Basketball League- 9th and 10th Grade | Metro League Basketball\nYMCA of Greater Des Moines\n
URL;VALUE=URI:https://ygametime.com/branch/dmymca/sports/2025-winter-metro-league-basketball/24804/?utm_medium=calendar&utm_source=team_cal&utm_content=league_url#game-577195
LOCATION:Grubb YMCA
BEGIN:VALARM
TRIGGER:-P2H
ACTION:DISPLAY
DESCRIPTION:Gamahs vs BTA Academy
END:VALARM
END:VEVENT
BEGIN:VEVENT
UID:dmymca-577202@ygametime.com
DTSTAMP:20260218T013000Z
DTSTART;TZID=America/Chicago:20260217T193000
DURATION:PT0H60M0S
SUMMARY:BTA Academy vs Free Agents
DESCRIPTION:Metro Basketball League- 9th and 10th Grade | Metro League Basketball\nYMCA of Greater Des Moines\n
URL;VALUE=URI:https://ygametime.com/branch/dmymca/sports/2025-winter-metro-league-basketball/24804/?utm_medium=calendar&utm_source=team_cal&utm_content=league_url#game-577202
LOCATION:Grubb YMCA
BEGIN:VALARM
TRIGGER:-P2H
ACTION:DISPLAY
DESCRIPTION:BTA Academy vs Free Agents
END:VALARM
END:VEVENT
END:VCALENDAR

