BEGIN:VCALENDAR
VERSION:2.0
PRODID:-//YGAMETIME.com//YGT iCal Creator//EN
METHOD:PUBLISH
X-PUBLISHED-TTL:PT6H
REFRESH-INTERVAL;VALUE=DURATION:PT6H
CALSCALE:GREGORIAN
X-WR-CALNAME:YGAMETIME CALENDAR
BEGIN:VTIMEZONE
TZID:America/Chicago
X-LIC-LOCATION:America/Chicago
BEGIN:DAYLIGHT
TZOFFSETFROM:-0600
TZOFFSETTO:-0500
TZNAME:CDT
DTSTART:19700308T020000
RRULE:FREQ=YEARLY;BYMONTH=3;BYDAY=2SU
END:DAYLIGHT
BEGIN:STANDARD
TZOFFSETFROM:-0500
TZOFFSETTO:-0600
TZNAME:CST
DTSTART:19701101T020000
RRULE:FREQ=YEARLY;BYMONTH=11;BYDAY=1SU
END:STANDARD
END:VTIMEZONE
BEGIN:VEVENT
UID:dmymca-577327@ygametime.com
DTSTAMP:20251206T190000Z
DTSTART;TZID=America/Chicago:20251206T130000
DURATION:PT0H60M0S
SUMMARY:CKE vs BiggerXthaplug
DESCRIPTION:Metro Basketball League- 11th and 12th Grade | Metro League Basketball\nYMCA of Greater Des Moines\n
URL;VALUE=URI:https://ygametime.com/branch/dmymca/sports/2025-winter-metro-league-basketball/24805/?utm_medium=calendar&utm_source=team_cal&utm_content=league_url#game-577327
LOCATION:Grubb YMCA
BEGIN:VALARM
TRIGGER:-P2H
ACTION:DISPLAY
DESCRIPTION:CKE vs BiggerXthaplug
END:VALARM
END:VEVENT
BEGIN:VEVENT
UID:dmymca-577280@ygametime.com
DTSTAMP:20251213T150000Z
DTSTART;TZID=America/Chicago:20251213T090000
DURATION:PT0H60M0S
SUMMARY:Risk Takers vs CKE
DESCRIPTION:Metro Basketball League- 11th and 12th Grade | Metro League Basketball\nYMCA of Greater Des Moines\n
URL;VALUE=URI:https://ygametime.com/branch/dmymca/sports/2025-winter-metro-league-basketball/24805/?utm_medium=calendar&utm_source=team_cal&utm_content=league_url#game-577280
LOCATION:Grubb YMCA
BEGIN:VALARM
TRIGGER:-P2H
ACTION:DISPLAY
DESCRIPTION:Risk Takers vs CKE
END:VALARM
END:VEVENT
BEGIN:VEVENT
UID:dmymca-577323@ygametime.com
DTSTAMP:20251218T003000Z
DTSTART;TZID=America/Chicago:20251217T183000
DURATION:PT0H60M0S
SUMMARY:CKE vs YBG
DESCRIPTION:Metro Basketball League- 11th and 12th Grade | Metro League Basketball\nYMCA of Greater Des Moines\n
URL;VALUE=URI:https://ygametime.com/branch/dmymca/sports/2025-winter-metro-league-basketball/24805/?utm_medium=calendar&utm_source=team_cal&utm_content=league_url#game-577323
LOCATION:Grubb YMCA
BEGIN:VALARM
TRIGGER:-P2H
ACTION:DISPLAY
DESCRIPTION:CKE vs YBG
END:VALARM
END:VEVENT
BEGIN:VEVENT
UID:dmymca-577325@ygametime.com
DTSTAMP:20260108T003000Z
DTSTART;TZID=America/Chicago:20260107T183000
DURATION:PT0H60M0S
SUMMARY:CKE vs Knee Surgery Elite
DESCRIPTION:Metro Basketball League- 11th and 12th Grade | Metro League Basketball\nYMCA of Greater Des Moines\n
URL;VALUE=URI:https://ygametime.com/branch/dmymca/sports/2025-winter-metro-league-basketball/24805/?utm_medium=calendar&utm_source=team_cal&utm_content=league_url#game-577325
LOCATION:Grubb YMCA
BEGIN:VALARM
TRIGGER:-P2H
ACTION:DISPLAY
DESCRIPTION:CKE vs Knee Surgery Elite
END:VALARM
END:VEVENT
BEGIN:VEVENT
UID:dmymca-577324@ygametime.com
DTSTAMP:20260115T003000Z
DTSTART;TZID=America/Chicago:20260114T183000
DURATION:PT0H60M0S
SUMMARY:Gunna Gooners vs CKE
DESCRIPTION:Metro Basketball League- 11th and 12th Grade | Metro League Basketball\nYMCA of Greater Des Moines\n
URL;VALUE=URI:https://ygametime.com/branch/dmymca/sports/2025-winter-metro-league-basketball/24805/?utm_medium=calendar&utm_source=team_cal&utm_content=league_url#game-577324
LOCATION:Grubb YMCA
BEGIN:VALARM
TRIGGER:-P2H
ACTION:DISPLAY
DESCRIPTION:Gunna Gooners vs CKE
END:VALARM
END:VEVENT
END:VCALENDAR

