BEGIN:VCALENDAR
VERSION:2.0
PRODID:-//YGAMETIME.com//YGT iCal Creator//EN
METHOD:PUBLISH
X-PUBLISHED-TTL:PT6H
REFRESH-INTERVAL;VALUE=DURATION:PT6H
CALSCALE:GREGORIAN
X-WR-CALNAME:YGAMETIME CALENDAR
BEGIN:VTIMEZONE
TZID:America/Chicago
X-LIC-LOCATION:America/Chicago
BEGIN:DAYLIGHT
TZOFFSETFROM:-0600
TZOFFSETTO:-0500
TZNAME:CDT
DTSTART:19700308T020000
RRULE:FREQ=YEARLY;BYMONTH=3;BYDAY=2SU
END:DAYLIGHT
BEGIN:STANDARD
TZOFFSETFROM:-0500
TZOFFSETTO:-0600
TZNAME:CST
DTSTART:19701101T020000
RRULE:FREQ=YEARLY;BYMONTH=11;BYDAY=1SU
END:STANDARD
END:VTIMEZONE
BEGIN:VEVENT
UID:dmymca-577254@ygametime.com
DTSTAMP:20251206T150000Z
DTSTART;TZID=America/Chicago:20251206T090000
DURATION:PT0H60M0S
SUMMARY:CKMBT vs Butter Chicken Elite
DESCRIPTION:Metro Basketball League- 11th and 12th Grade | Metro League Basketball\nYMCA of Greater Des Moines\n
URL;VALUE=URI:https://ygametime.com/branch/dmymca/sports/2025-winter-metro-league-basketball/24805/?utm_medium=calendar&utm_source=team_cal&utm_content=league_url#game-577254
LOCATION:Grubb YMCA
BEGIN:VALARM
TRIGGER:-P2H
ACTION:DISPLAY
DESCRIPTION:CKMBT vs Butter Chicken Elite
END:VALARM
END:VEVENT
BEGIN:VEVENT
UID:dmymca-577326@ygametime.com
DTSTAMP:20251213T190000Z
DTSTART;TZID=America/Chicago:20251213T130000
DURATION:PT0H60M0S
SUMMARY:CKMBT vs John Brown Elite
DESCRIPTION:Metro Basketball League- 11th and 12th Grade | Metro League Basketball\nYMCA of Greater Des Moines\n
URL;VALUE=URI:https://ygametime.com/branch/dmymca/sports/2025-winter-metro-league-basketball/24805/?utm_medium=calendar&utm_source=team_cal&utm_content=league_url#game-577326
LOCATION:Grubb YMCA
BEGIN:VALARM
TRIGGER:-P2H
ACTION:DISPLAY
DESCRIPTION:CKMBT vs John Brown Elite
END:VALARM
END:VEVENT
BEGIN:VEVENT
UID:dmymca-577294@ygametime.com
DTSTAMP:20251220T170000Z
DTSTART;TZID=America/Chicago:20251220T110000
DURATION:PT0H60M0S
SUMMARY:Bricklayers vs CKMBT
DESCRIPTION:Metro Basketball League- 11th and 12th Grade | Metro League Basketball\nYMCA of Greater Des Moines\n
URL;VALUE=URI:https://ygametime.com/branch/dmymca/sports/2025-winter-metro-league-basketball/24805/?utm_medium=calendar&utm_source=team_cal&utm_content=league_url#game-577294
LOCATION:Grubb YMCA
BEGIN:VALARM
TRIGGER:-P2H
ACTION:DISPLAY
DESCRIPTION:Bricklayers vs CKMBT
END:VALARM
END:VEVENT
BEGIN:VEVENT
UID:dmymca-577322@ygametime.com
DTSTAMP:20260110T160000Z
DTSTART;TZID=America/Chicago:20260110T100000
DURATION:PT0H60M0S
SUMMARY:Dunkademics vs CKMBT
DESCRIPTION:Metro Basketball League- 11th and 12th Grade | Metro League Basketball\nYMCA of Greater Des Moines\n
URL;VALUE=URI:https://ygametime.com/branch/dmymca/sports/2025-winter-metro-league-basketball/24805/?utm_medium=calendar&utm_source=team_cal&utm_content=league_url#game-577322
LOCATION:Grubb YMCA
BEGIN:VALARM
TRIGGER:-P2H
ACTION:DISPLAY
DESCRIPTION:Dunkademics vs CKMBT
END:VALARM
END:VEVENT
BEGIN:VEVENT
UID:dmymca-577308@ygametime.com
DTSTAMP:20260117T150000Z
DTSTART;TZID=America/Chicago:20260117T090000
DURATION:PT0H60M0S
SUMMARY:CKMBT vs Ballaholics
DESCRIPTION:Metro Basketball League- 11th and 12th Grade | Metro League Basketball\nYMCA of Greater Des Moines\n
URL;VALUE=URI:https://ygametime.com/branch/dmymca/sports/2025-winter-metro-league-basketball/24805/?utm_medium=calendar&utm_source=team_cal&utm_content=league_url#game-577308
LOCATION:Grubb YMCA
BEGIN:VALARM
TRIGGER:-P2H
ACTION:DISPLAY
DESCRIPTION:CKMBT vs Ballaholics
END:VALARM
END:VEVENT
END:VCALENDAR

