BEGIN:VCALENDAR
VERSION:2.0
PRODID:-//YGAMETIME.com//YGT iCal Creator//EN
METHOD:PUBLISH
X-PUBLISHED-TTL:PT6H
REFRESH-INTERVAL;VALUE=DURATION:PT6H
CALSCALE:GREGORIAN
X-WR-CALNAME:YGAMETIME CALENDAR
BEGIN:VTIMEZONE
TZID:America/Chicago
X-LIC-LOCATION:America/Chicago
BEGIN:DAYLIGHT
TZOFFSETFROM:-0600
TZOFFSETTO:-0500
TZNAME:CDT
DTSTART:19700308T020000
RRULE:FREQ=YEARLY;BYMONTH=3;BYDAY=2SU
END:DAYLIGHT
BEGIN:STANDARD
TZOFFSETFROM:-0500
TZOFFSETTO:-0600
TZNAME:CST
DTSTART:19701101T020000
RRULE:FREQ=YEARLY;BYMONTH=11;BYDAY=1SU
END:STANDARD
END:VTIMEZONE
BEGIN:VEVENT
UID:dmymca-588053@ygametime.com
DTSTAMP:20260124T190000Z
DTSTART;TZID=America/Chicago:20260124T130000
DURATION:PT0H60M0S
SUMMARY:Risk Takers vs Busty Boyz
DESCRIPTION:Metro League 11th and 12th Grade Division A | Metro League Basketball\nYMCA of Greater Des Moines\n
URL;VALUE=URI:https://ygametime.com/branch/dmymca/sports/2025-winter-metro-league-basketball/25383/?utm_medium=calendar&utm_source=team_cal&utm_content=league_url#game-588053
LOCATION:Grubb YMCA
BEGIN:VALARM
TRIGGER:-P2H
ACTION:DISPLAY
DESCRIPTION:Risk Takers vs Busty Boyz
END:VALARM
END:VEVENT
BEGIN:VEVENT
UID:dmymca-588061@ygametime.com
DTSTAMP:20260130T013000Z
DTSTART;TZID=America/Chicago:20260129T193000
DURATION:PT0H60M0S
SUMMARY:Busty Boyz vs Empty the Register
DESCRIPTION:Metro League 11th and 12th Grade Division A | Metro League Basketball\nYMCA of Greater Des Moines\n
URL;VALUE=URI:https://ygametime.com/branch/dmymca/sports/2025-winter-metro-league-basketball/25383/?utm_medium=calendar&utm_source=team_cal&utm_content=league_url#game-588061
LOCATION:Grubb YMCA
BEGIN:VALARM
TRIGGER:-P2H
ACTION:DISPLAY
DESCRIPTION:Busty Boyz vs Empty the Register
END:VALARM
END:VEVENT
BEGIN:VEVENT
UID:dmymca-588069@ygametime.com
DTSTAMP:20260207T170000Z
DTSTART;TZID=America/Chicago:20260207T110000
DURATION:PT0H60M0S
SUMMARY:Brent Faiyaz Elite vs Busty Boyz
DESCRIPTION:Metro League 11th and 12th Grade Division A | Metro League Basketball\nYMCA of Greater Des Moines\n
URL;VALUE=URI:https://ygametime.com/branch/dmymca/sports/2025-winter-metro-league-basketball/25383/?utm_medium=calendar&utm_source=team_cal&utm_content=league_url#game-588069
LOCATION:Grubb YMCA
BEGIN:VALARM
TRIGGER:-P2H
ACTION:DISPLAY
DESCRIPTION:Brent Faiyaz Elite vs Busty Boyz
END:VALARM
END:VEVENT
BEGIN:VEVENT
UID:dmymca-588077@ygametime.com
DTSTAMP:20260214T170000Z
DTSTART;TZID=America/Chicago:20260214T110000
DURATION:PT0H60M0S
SUMMARY:Busty Boyz vs Wiggle Elite
DESCRIPTION:Metro League 11th and 12th Grade Division A | Metro League Basketball\nYMCA of Greater Des Moines\n
URL;VALUE=URI:https://ygametime.com/branch/dmymca/sports/2025-winter-metro-league-basketball/25383/?utm_medium=calendar&utm_source=team_cal&utm_content=league_url#game-588077
LOCATION:Grubb YMCA
BEGIN:VALARM
TRIGGER:-P2H
ACTION:DISPLAY
DESCRIPTION:Busty Boyz vs Wiggle Elite
END:VALARM
END:VEVENT
BEGIN:VEVENT
UID:dmymca-588085@ygametime.com
DTSTAMP:20260221T180000Z
DTSTART;TZID=America/Chicago:20260221T120000
DURATION:PT0H60M0S
SUMMARY:W.D.O vs Busty Boyz
DESCRIPTION:Metro League 11th and 12th Grade Division A | Metro League Basketball\nYMCA of Greater Des Moines\n
URL;VALUE=URI:https://ygametime.com/branch/dmymca/sports/2025-winter-metro-league-basketball/25383/?utm_medium=calendar&utm_source=team_cal&utm_content=league_url#game-588085
LOCATION:Grubb YMCA
BEGIN:VALARM
TRIGGER:-P2H
ACTION:DISPLAY
DESCRIPTION:W.D.O vs Busty Boyz
END:VALARM
END:VEVENT
END:VCALENDAR

