BEGIN:VCALENDAR
VERSION:2.0
PRODID:-//YGAMETIME.com//YGT iCal Creator//EN
METHOD:PUBLISH
X-PUBLISHED-TTL:PT6H
REFRESH-INTERVAL;VALUE=DURATION:PT6H
CALSCALE:GREGORIAN
X-WR-CALNAME:YGAMETIME CALENDAR
BEGIN:VTIMEZONE
TZID:America/Chicago
X-LIC-LOCATION:America/Chicago
BEGIN:DAYLIGHT
TZOFFSETFROM:-0600
TZOFFSETTO:-0500
TZNAME:CDT
DTSTART:19700308T020000
RRULE:FREQ=YEARLY;BYMONTH=3;BYDAY=2SU
END:DAYLIGHT
BEGIN:STANDARD
TZOFFSETFROM:-0500
TZOFFSETTO:-0600
TZNAME:CST
DTSTART:19701101T020000
RRULE:FREQ=YEARLY;BYMONTH=11;BYDAY=1SU
END:STANDARD
END:VTIMEZONE
BEGIN:VEVENT
UID:dmymca-588018@ygametime.com
DTSTAMP:20260122T223000Z
DTSTART;TZID=America/Chicago:20260122T163000
DURATION:PT0H60M0S
SUMMARY:Dunkademics vs Oppenhoopers
DESCRIPTION:Metro League 11th and 12th Grade Division B | Metro League Basketball\nYMCA of Greater Des Moines\n
URL;VALUE=URI:https://ygametime.com/branch/dmymca/sports/2025-winter-metro-league-basketball/25384/?utm_medium=calendar&utm_source=team_cal&utm_content=league_url#game-588018
LOCATION:Grubb YMCA
BEGIN:VALARM
TRIGGER:-P2H
ACTION:DISPLAY
DESCRIPTION:Dunkademics vs Oppenhoopers
END:VALARM
END:VEVENT
BEGIN:VEVENT
UID:dmymca-588025@ygametime.com
DTSTAMP:20260129T003000Z
DTSTART;TZID=America/Chicago:20260128T183000
DURATION:PT0H60M0S
SUMMARY:Oppenhoopers vs Bricklayers
DESCRIPTION:Metro League 11th and 12th Grade Division B | Metro League Basketball\nYMCA of Greater Des Moines\n
URL;VALUE=URI:https://ygametime.com/branch/dmymca/sports/2025-winter-metro-league-basketball/25384/?utm_medium=calendar&utm_source=team_cal&utm_content=league_url#game-588025
LOCATION:Grubb YMCA
BEGIN:VALARM
TRIGGER:-P2H
ACTION:DISPLAY
DESCRIPTION:Oppenhoopers vs Bricklayers
END:VALARM
END:VEVENT
BEGIN:VEVENT
UID:dmymca-588031@ygametime.com
DTSTAMP:20260205T023000Z
DTSTART;TZID=America/Chicago:20260204T203000
DURATION:PT0H60M0S
SUMMARY:Ball Busters vs Oppenhoopers
DESCRIPTION:Metro League 11th and 12th Grade Division B | Metro League Basketball\nYMCA of Greater Des Moines\n
URL;VALUE=URI:https://ygametime.com/branch/dmymca/sports/2025-winter-metro-league-basketball/25384/?utm_medium=calendar&utm_source=team_cal&utm_content=league_url#game-588031
LOCATION:Grubb YMCA
BEGIN:VALARM
TRIGGER:-P2H
ACTION:DISPLAY
DESCRIPTION:Ball Busters vs Oppenhoopers
END:VALARM
END:VEVENT
BEGIN:VEVENT
UID:dmymca-588032@ygametime.com
DTSTAMP:20260205T033000Z
DTSTART;TZID=America/Chicago:20260204T213000
DURATION:PT0H60M0S
SUMMARY:Bird Elite vs Oppenhoopers
DESCRIPTION:Metro League 11th and 12th Grade Division B | Metro League Basketball\nYMCA of Greater Des Moines\n
URL;VALUE=URI:https://ygametime.com/branch/dmymca/sports/2025-winter-metro-league-basketball/25384/?utm_medium=calendar&utm_source=team_cal&utm_content=league_url#game-588032
LOCATION:Grubb YMCA
BEGIN:VALARM
TRIGGER:-P2H
ACTION:DISPLAY
DESCRIPTION:Bird Elite vs Oppenhoopers
END:VALARM
END:VEVENT
BEGIN:VEVENT
UID:dmymca-588039@ygametime.com
DTSTAMP:20260212T223000Z
DTSTART;TZID=America/Chicago:20260212T163000
DURATION:PT0H60M0S
SUMMARY:Oppenhoopers vs CKMBT
DESCRIPTION:Metro League 11th and 12th Grade Division B | Metro League Basketball\nYMCA of Greater Des Moines\n
URL;VALUE=URI:https://ygametime.com/branch/dmymca/sports/2025-winter-metro-league-basketball/25384/?utm_medium=calendar&utm_source=team_cal&utm_content=league_url#game-588039
LOCATION:Grubb YMCA
BEGIN:VALARM
TRIGGER:-P2H
ACTION:DISPLAY
DESCRIPTION:Oppenhoopers vs CKMBT
END:VALARM
END:VEVENT
BEGIN:VEVENT
UID:dmymca-588044@ygametime.com
DTSTAMP:20260219T223000Z
DTSTART;TZID=America/Chicago:20260219T163000
DURATION:PT0H60M0S
SUMMARY:Ballaholics vs Oppenhoopers
DESCRIPTION:Metro League 11th and 12th Grade Division B | Metro League Basketball\nYMCA of Greater Des Moines\n
URL;VALUE=URI:https://ygametime.com/branch/dmymca/sports/2025-winter-metro-league-basketball/25384/?utm_medium=calendar&utm_source=team_cal&utm_content=league_url#game-588044
LOCATION:Grubb YMCA
BEGIN:VALARM
TRIGGER:-P2H
ACTION:DISPLAY
DESCRIPTION:Ballaholics vs Oppenhoopers
END:VALARM
END:VEVENT
END:VCALENDAR

