BEGIN:VCALENDAR
VERSION:2.0
PRODID:-//YGAMETIME.com//YGT iCal Creator//EN
METHOD:PUBLISH
X-PUBLISHED-TTL:PT6H
REFRESH-INTERVAL;VALUE=DURATION:PT6H
CALSCALE:GREGORIAN
X-WR-CALNAME:YGAMETIME CALENDAR
BEGIN:VTIMEZONE
TZID:America/Chicago
X-LIC-LOCATION:America/Chicago
BEGIN:DAYLIGHT
TZOFFSETFROM:-0600
TZOFFSETTO:-0500
TZNAME:CDT
DTSTART:19700308T020000
RRULE:FREQ=YEARLY;BYMONTH=3;BYDAY=2SU
END:DAYLIGHT
BEGIN:STANDARD
TZOFFSETFROM:-0500
TZOFFSETTO:-0600
TZNAME:CST
DTSTART:19701101T020000
RRULE:FREQ=YEARLY;BYMONTH=11;BYDAY=1SU
END:STANDARD
END:VTIMEZONE
BEGIN:VEVENT
UID:dmymca-588019@ygametime.com
DTSTAMP:20260122T233000Z
DTSTART;TZID=America/Chicago:20260122T173000
DURATION:PT0H60M0S
SUMMARY:CKMBT vs Wu Tang
DESCRIPTION:Metro League 11th and 12th Grade Division B | Metro League Basketball\nYMCA of Greater Des Moines\n
URL;VALUE=URI:https://ygametime.com/branch/dmymca/sports/2025-winter-metro-league-basketball/25384/?utm_medium=calendar&utm_source=team_cal&utm_content=league_url#game-588019
LOCATION:Grubb YMCA
BEGIN:VALARM
TRIGGER:-P2H
ACTION:DISPLAY
DESCRIPTION:CKMBT vs Wu Tang
END:VALARM
END:VEVENT
BEGIN:VEVENT
UID:dmymca-588028@ygametime.com
DTSTAMP:20260129T013000Z
DTSTART;TZID=America/Chicago:20260128T193000
DURATION:PT0H60M0S
SUMMARY:CKMBT vs John Brown Elite
DESCRIPTION:Metro League 11th and 12th Grade Division B | Metro League Basketball\nYMCA of Greater Des Moines\n
URL;VALUE=URI:https://ygametime.com/branch/dmymca/sports/2025-winter-metro-league-basketball/25384/?utm_medium=calendar&utm_source=team_cal&utm_content=league_url#game-588028
LOCATION:Grubb YMCA
BEGIN:VALARM
TRIGGER:-P2H
ACTION:DISPLAY
DESCRIPTION:CKMBT vs John Brown Elite
END:VALARM
END:VEVENT
BEGIN:VEVENT
UID:dmymca-588033@ygametime.com
DTSTAMP:20260206T003000Z
DTSTART;TZID=America/Chicago:20260205T183000
DURATION:PT0H60M0S
SUMMARY:CKMBT vs The Jelkers
DESCRIPTION:Metro League 11th and 12th Grade Division B | Metro League Basketball\nYMCA of Greater Des Moines\n
URL;VALUE=URI:https://ygametime.com/branch/dmymca/sports/2025-winter-metro-league-basketball/25384/?utm_medium=calendar&utm_source=team_cal&utm_content=league_url#game-588033
LOCATION:Grubb YMCA
BEGIN:VALARM
TRIGGER:-P2H
ACTION:DISPLAY
DESCRIPTION:CKMBT vs The Jelkers
END:VALARM
END:VEVENT
BEGIN:VEVENT
UID:dmymca-588039@ygametime.com
DTSTAMP:20260212T223000Z
DTSTART;TZID=America/Chicago:20260212T163000
DURATION:PT0H60M0S
SUMMARY:Oppenhoopers vs CKMBT
DESCRIPTION:Metro League 11th and 12th Grade Division B | Metro League Basketball\nYMCA of Greater Des Moines\n
URL;VALUE=URI:https://ygametime.com/branch/dmymca/sports/2025-winter-metro-league-basketball/25384/?utm_medium=calendar&utm_source=team_cal&utm_content=league_url#game-588039
LOCATION:Grubb YMCA
BEGIN:VALARM
TRIGGER:-P2H
ACTION:DISPLAY
DESCRIPTION:Oppenhoopers vs CKMBT
END:VALARM
END:VEVENT
BEGIN:VEVENT
UID:dmymca-588043@ygametime.com
DTSTAMP:20260219T023000Z
DTSTART;TZID=America/Chicago:20260218T203000
DURATION:PT0H60M0S
SUMMARY:CKMBT vs Ball Busters
DESCRIPTION:Metro League 11th and 12th Grade Division B | Metro League Basketball\nYMCA of Greater Des Moines\n
URL;VALUE=URI:https://ygametime.com/branch/dmymca/sports/2025-winter-metro-league-basketball/25384/?utm_medium=calendar&utm_source=team_cal&utm_content=league_url#game-588043
LOCATION:Grubb YMCA
BEGIN:VALARM
TRIGGER:-P2H
ACTION:DISPLAY
DESCRIPTION:CKMBT vs Ball Busters
END:VALARM
END:VEVENT
END:VCALENDAR

