BEGIN:VCALENDAR
VERSION:2.0
PRODID:-//YGAMETIME.com//YGT iCal Creator//EN
METHOD:PUBLISH
X-PUBLISHED-TTL:PT6H
REFRESH-INTERVAL;VALUE=DURATION:PT6H
CALSCALE:GREGORIAN
X-WR-CALNAME:YGAMETIME CALENDAR
BEGIN:VTIMEZONE
TZID:America/Chicago
X-LIC-LOCATION:America/Chicago
BEGIN:DAYLIGHT
TZOFFSETFROM:-0600
TZOFFSETTO:-0500
TZNAME:CDT
DTSTART:19700308T020000
RRULE:FREQ=YEARLY;BYMONTH=3;BYDAY=2SU
END:DAYLIGHT
BEGIN:STANDARD
TZOFFSETFROM:-0500
TZOFFSETTO:-0600
TZNAME:CST
DTSTART:19701101T020000
RRULE:FREQ=YEARLY;BYMONTH=11;BYDAY=1SU
END:STANDARD
END:VTIMEZONE
BEGIN:VEVENT
UID:dmymca-588015@ygametime.com
DTSTAMP:20260122T023000Z
DTSTART;TZID=America/Chicago:20260121T203000
DURATION:PT0H60M0S
SUMMARY:Gunna Gooners vs Bird Elite
DESCRIPTION:Metro League 11th and 12th Grade Division B | Metro League Basketball\nYMCA of Greater Des Moines\n
URL;VALUE=URI:https://ygametime.com/branch/dmymca/sports/2025-winter-metro-league-basketball/25384/?utm_medium=calendar&utm_source=team_cal&utm_content=league_url#game-588015
LOCATION:Grubb YMCA
BEGIN:VALARM
TRIGGER:-P2H
ACTION:DISPLAY
DESCRIPTION:Gunna Gooners vs Bird Elite
END:VALARM
END:VEVENT
BEGIN:VEVENT
UID:dmymca-588016@ygametime.com
DTSTAMP:20260122T033000Z
DTSTART;TZID=America/Chicago:20260121T213000
DURATION:PT0H60M0S
SUMMARY:Gunna Gooners vs Ball Busters
DESCRIPTION:Metro League 11th and 12th Grade Division B | Metro League Basketball\nYMCA of Greater Des Moines\n
URL;VALUE=URI:https://ygametime.com/branch/dmymca/sports/2025-winter-metro-league-basketball/25384/?utm_medium=calendar&utm_source=team_cal&utm_content=league_url#game-588016
LOCATION:Grubb YMCA
BEGIN:VALARM
TRIGGER:-P2H
ACTION:DISPLAY
DESCRIPTION:Gunna Gooners vs Ball Busters
END:VALARM
END:VEVENT
BEGIN:VEVENT
UID:dmymca-588022@ygametime.com
DTSTAMP:20260129T223000Z
DTSTART;TZID=America/Chicago:20260129T163000
DURATION:PT0H60M0S
SUMMARY:FTC Elite vs Gunna Gooners
DESCRIPTION:Metro League 11th and 12th Grade Division B | Metro League Basketball\nYMCA of Greater Des Moines\n
URL;VALUE=URI:https://ygametime.com/branch/dmymca/sports/2025-winter-metro-league-basketball/25384/?utm_medium=calendar&utm_source=team_cal&utm_content=league_url#game-588022
LOCATION:Grubb YMCA
BEGIN:VALARM
TRIGGER:-P2H
ACTION:DISPLAY
DESCRIPTION:FTC Elite vs Gunna Gooners
END:VALARM
END:VEVENT
BEGIN:VEVENT
UID:dmymca-588029@ygametime.com
DTSTAMP:20260205T223000Z
DTSTART;TZID=America/Chicago:20260205T163000
DURATION:PT0H60M0S
SUMMARY:Gunna Gooners vs Baby Oil Bandits
DESCRIPTION:Metro League 11th and 12th Grade Division B | Metro League Basketball\nYMCA of Greater Des Moines\n
URL;VALUE=URI:https://ygametime.com/branch/dmymca/sports/2025-winter-metro-league-basketball/25384/?utm_medium=calendar&utm_source=team_cal&utm_content=league_url#game-588029
LOCATION:Grubb YMCA
BEGIN:VALARM
TRIGGER:-P2H
ACTION:DISPLAY
DESCRIPTION:Gunna Gooners vs Baby Oil Bandits
END:VALARM
END:VEVENT
BEGIN:VEVENT
UID:dmymca-588036@ygametime.com
DTSTAMP:20260212T013000Z
DTSTART;TZID=America/Chicago:20260211T193000
DURATION:PT0H60M0S
SUMMARY:John Brown Elite vs Gunna Gooners
DESCRIPTION:Metro League 11th and 12th Grade Division B | Metro League Basketball\nYMCA of Greater Des Moines\n
URL;VALUE=URI:https://ygametime.com/branch/dmymca/sports/2025-winter-metro-league-basketball/25384/?utm_medium=calendar&utm_source=team_cal&utm_content=league_url#game-588036
LOCATION:Grubb YMCA
BEGIN:VALARM
TRIGGER:-P2H
ACTION:DISPLAY
DESCRIPTION:John Brown Elite vs Gunna Gooners
END:VALARM
END:VEVENT
BEGIN:VEVENT
UID:dmymca-588049@ygametime.com
DTSTAMP:20260219T003000Z
DTSTART;TZID=America/Chicago:20260218T183000
DURATION:PT0H60M0S
SUMMARY:Gunna Gooners vs The Jelkers
DESCRIPTION:Metro League 11th and 12th Grade Division B | Metro League Basketball\nYMCA of Greater Des Moines\n
URL;VALUE=URI:https://ygametime.com/branch/dmymca/sports/2025-winter-metro-league-basketball/25384/?utm_medium=calendar&utm_source=team_cal&utm_content=league_url#game-588049
LOCATION:Grubb YMCA
BEGIN:VALARM
TRIGGER:-P2H
ACTION:DISPLAY
DESCRIPTION:Gunna Gooners vs The Jelkers
END:VALARM
END:VEVENT
END:VCALENDAR

