BEGIN:VCALENDAR
VERSION:2.0
PRODID:-//YGAMETIME.com//YGT iCal Creator//EN
METHOD:PUBLISH
X-PUBLISHED-TTL:PT6H
REFRESH-INTERVAL;VALUE=DURATION:PT6H
CALSCALE:GREGORIAN
X-WR-CALNAME:YGAMETIME CALENDAR
BEGIN:VTIMEZONE
TZID:America/Chicago
X-LIC-LOCATION:America/Chicago
BEGIN:DAYLIGHT
TZOFFSETFROM:-0600
TZOFFSETTO:-0500
TZNAME:CDT
DTSTART:19700308T020000
RRULE:FREQ=YEARLY;BYMONTH=3;BYDAY=2SU
END:DAYLIGHT
BEGIN:STANDARD
TZOFFSETFROM:-0500
TZOFFSETTO:-0600
TZNAME:CST
DTSTART:19701101T020000
RRULE:FREQ=YEARLY;BYMONTH=11;BYDAY=1SU
END:STANDARD
END:VTIMEZONE
BEGIN:VEVENT
UID:dmymca-588021@ygametime.com
DTSTAMP:20260122T013000Z
DTSTART;TZID=America/Chicago:20260121T193000
DURATION:PT0H60M0S
SUMMARY:Baby Oil Bandits vs John Brown Elite
DESCRIPTION:Metro League 11th and 12th Grade Division B | Metro League Basketball\nYMCA of Greater Des Moines\n
URL;VALUE=URI:https://ygametime.com/branch/dmymca/sports/2025-winter-metro-league-basketball/25384/?utm_medium=calendar&utm_source=team_cal&utm_content=league_url#game-588021
LOCATION:Grubb YMCA
BEGIN:VALARM
TRIGGER:-P2H
ACTION:DISPLAY
DESCRIPTION:Baby Oil Bandits vs John Brown Elite
END:VALARM
END:VEVENT
BEGIN:VEVENT
UID:dmymca-588028@ygametime.com
DTSTAMP:20260129T013000Z
DTSTART;TZID=America/Chicago:20260128T193000
DURATION:PT0H60M0S
SUMMARY:CKMBT vs John Brown Elite
DESCRIPTION:Metro League 11th and 12th Grade Division B | Metro League Basketball\nYMCA of Greater Des Moines\n
URL;VALUE=URI:https://ygametime.com/branch/dmymca/sports/2025-winter-metro-league-basketball/25384/?utm_medium=calendar&utm_source=team_cal&utm_content=league_url#game-588028
LOCATION:Grubb YMCA
BEGIN:VALARM
TRIGGER:-P2H
ACTION:DISPLAY
DESCRIPTION:CKMBT vs John Brown Elite
END:VALARM
END:VEVENT
BEGIN:VEVENT
UID:dmymca-588035@ygametime.com
DTSTAMP:20260205T013000Z
DTSTART;TZID=America/Chicago:20260204T193000
DURATION:PT0H60M0S
SUMMARY:Dunkademics vs John Brown Elite
DESCRIPTION:Metro League 11th and 12th Grade Division B | Metro League Basketball\nYMCA of Greater Des Moines\n
URL;VALUE=URI:https://ygametime.com/branch/dmymca/sports/2025-winter-metro-league-basketball/25384/?utm_medium=calendar&utm_source=team_cal&utm_content=league_url#game-588035
LOCATION:Grubb YMCA
BEGIN:VALARM
TRIGGER:-P2H
ACTION:DISPLAY
DESCRIPTION:Dunkademics vs John Brown Elite
END:VALARM
END:VEVENT
BEGIN:VEVENT
UID:dmymca-588036@ygametime.com
DTSTAMP:20260212T013000Z
DTSTART;TZID=America/Chicago:20260211T193000
DURATION:PT0H60M0S
SUMMARY:John Brown Elite vs Gunna Gooners
DESCRIPTION:Metro League 11th and 12th Grade Division B | Metro League Basketball\nYMCA of Greater Des Moines\n
URL;VALUE=URI:https://ygametime.com/branch/dmymca/sports/2025-winter-metro-league-basketball/25384/?utm_medium=calendar&utm_source=team_cal&utm_content=league_url#game-588036
LOCATION:Grubb YMCA
BEGIN:VALARM
TRIGGER:-P2H
ACTION:DISPLAY
DESCRIPTION:John Brown Elite vs Gunna Gooners
END:VALARM
END:VEVENT
BEGIN:VEVENT
UID:dmymca-588042@ygametime.com
DTSTAMP:20260212T023000Z
DTSTART;TZID=America/Chicago:20260211T203000
DURATION:PT0H60M0S
SUMMARY:John Brown Elite vs Bricklayers
DESCRIPTION:Metro League 11th and 12th Grade Division B | Metro League Basketball\nYMCA of Greater Des Moines\n
URL;VALUE=URI:https://ygametime.com/branch/dmymca/sports/2025-winter-metro-league-basketball/25384/?utm_medium=calendar&utm_source=team_cal&utm_content=league_url#game-588042
LOCATION:Grubb YMCA
BEGIN:VALARM
TRIGGER:-P2H
ACTION:DISPLAY
DESCRIPTION:John Brown Elite vs Bricklayers
END:VALARM
END:VEVENT
BEGIN:VEVENT
UID:dmymca-588048@ygametime.com
DTSTAMP:20260219T013000Z
DTSTART;TZID=America/Chicago:20260218T193000
DURATION:PT0H60M0S
SUMMARY:Wu Tang vs John Brown Elite
DESCRIPTION:Metro League 11th and 12th Grade Division B | Metro League Basketball\nYMCA of Greater Des Moines\n
URL;VALUE=URI:https://ygametime.com/branch/dmymca/sports/2025-winter-metro-league-basketball/25384/?utm_medium=calendar&utm_source=team_cal&utm_content=league_url#game-588048
LOCATION:Grubb YMCA
BEGIN:VALARM
TRIGGER:-P2H
ACTION:DISPLAY
DESCRIPTION:Wu Tang vs John Brown Elite
END:VALARM
END:VEVENT
END:VCALENDAR

