BEGIN:VCALENDAR
VERSION:2.0
PRODID:-//YGAMETIME.com//YGT iCal Creator//EN
METHOD:PUBLISH
X-PUBLISHED-TTL:PT6H
REFRESH-INTERVAL;VALUE=DURATION:PT6H
CALSCALE:GREGORIAN
X-WR-CALNAME:YGAMETIME CALENDAR
BEGIN:VTIMEZONE
TZID:America/Chicago
X-LIC-LOCATION:America/Chicago
BEGIN:DAYLIGHT
TZOFFSETFROM:-0600
TZOFFSETTO:-0500
TZNAME:CDT
DTSTART:19700308T020000
RRULE:FREQ=YEARLY;BYMONTH=3;BYDAY=2SU
END:DAYLIGHT
BEGIN:STANDARD
TZOFFSETFROM:-0500
TZOFFSETTO:-0600
TZNAME:CST
DTSTART:19701101T020000
RRULE:FREQ=YEARLY;BYMONTH=11;BYDAY=1SU
END:STANDARD
END:VTIMEZONE
BEGIN:VEVENT
UID:dmymca-588018@ygametime.com
DTSTAMP:20260122T223000Z
DTSTART;TZID=America/Chicago:20260122T163000
DURATION:PT0H60M0S
SUMMARY:Dunkademics vs Oppenhoopers
DESCRIPTION:Metro League 11th and 12th Grade Division B | Metro League Basketball\nYMCA of Greater Des Moines\n
URL;VALUE=URI:https://ygametime.com/branch/dmymca/sports/2025-winter-metro-league-basketball/25384/?utm_medium=calendar&utm_source=team_cal&utm_content=league_url#game-588018
LOCATION:Grubb YMCA
BEGIN:VALARM
TRIGGER:-P2H
ACTION:DISPLAY
DESCRIPTION:Dunkademics vs Oppenhoopers
END:VALARM
END:VEVENT
BEGIN:VEVENT
UID:dmymca-588023@ygametime.com
DTSTAMP:20260129T233000Z
DTSTART;TZID=America/Chicago:20260129T173000
DURATION:PT0H60M0S
SUMMARY:Ball Busters vs Dunkademics
DESCRIPTION:Metro League 11th and 12th Grade Division B | Metro League Basketball\nYMCA of Greater Des Moines\n
URL;VALUE=URI:https://ygametime.com/branch/dmymca/sports/2025-winter-metro-league-basketball/25384/?utm_medium=calendar&utm_source=team_cal&utm_content=league_url#game-588023
LOCATION:Grubb YMCA
BEGIN:VALARM
TRIGGER:-P2H
ACTION:DISPLAY
DESCRIPTION:Ball Busters vs Dunkademics
END:VALARM
END:VEVENT
BEGIN:VEVENT
UID:dmymca-588035@ygametime.com
DTSTAMP:20260205T013000Z
DTSTART;TZID=America/Chicago:20260204T193000
DURATION:PT0H60M0S
SUMMARY:Dunkademics vs John Brown Elite
DESCRIPTION:Metro League 11th and 12th Grade Division B | Metro League Basketball\nYMCA of Greater Des Moines\n
URL;VALUE=URI:https://ygametime.com/branch/dmymca/sports/2025-winter-metro-league-basketball/25384/?utm_medium=calendar&utm_source=team_cal&utm_content=league_url#game-588035
LOCATION:Grubb YMCA
BEGIN:VALARM
TRIGGER:-P2H
ACTION:DISPLAY
DESCRIPTION:Dunkademics vs John Brown Elite
END:VALARM
END:VEVENT
BEGIN:VEVENT
UID:dmymca-588040@ygametime.com
DTSTAMP:20260212T033000Z
DTSTART;TZID=America/Chicago:20260211T213000
DURATION:PT0H60M0S
SUMMARY:Bird Elite vs Dunkademics
DESCRIPTION:Metro League 11th and 12th Grade Division B | Metro League Basketball\nYMCA of Greater Des Moines\n
URL;VALUE=URI:https://ygametime.com/branch/dmymca/sports/2025-winter-metro-league-basketball/25384/?utm_medium=calendar&utm_source=team_cal&utm_content=league_url#game-588040
LOCATION:Grubb YMCA
BEGIN:VALARM
TRIGGER:-P2H
ACTION:DISPLAY
DESCRIPTION:Bird Elite vs Dunkademics
END:VALARM
END:VEVENT
BEGIN:VEVENT
UID:dmymca-588046@ygametime.com
DTSTAMP:20260219T233000Z
DTSTART;TZID=America/Chicago:20260219T173000
DURATION:PT0H60M0S
SUMMARY:Bricklayers vs Dunkademics
DESCRIPTION:Metro League 11th and 12th Grade Division B | Metro League Basketball\nYMCA of Greater Des Moines\n
URL;VALUE=URI:https://ygametime.com/branch/dmymca/sports/2025-winter-metro-league-basketball/25384/?utm_medium=calendar&utm_source=team_cal&utm_content=league_url#game-588046
LOCATION:Grubb YMCA
BEGIN:VALARM
TRIGGER:-P2H
ACTION:DISPLAY
DESCRIPTION:Bricklayers vs Dunkademics
END:VALARM
END:VEVENT
BEGIN:VEVENT
UID:dmymca-588047@ygametime.com
DTSTAMP:20260220T003000Z
DTSTART;TZID=America/Chicago:20260219T183000
DURATION:PT0H60M0S
SUMMARY:FTC Elite vs Dunkademics
DESCRIPTION:Metro League 11th and 12th Grade Division B | Metro League Basketball\nYMCA of Greater Des Moines\n
URL;VALUE=URI:https://ygametime.com/branch/dmymca/sports/2025-winter-metro-league-basketball/25384/?utm_medium=calendar&utm_source=team_cal&utm_content=league_url#game-588047
LOCATION:Grubb YMCA
BEGIN:VALARM
TRIGGER:-P2H
ACTION:DISPLAY
DESCRIPTION:FTC Elite vs Dunkademics
END:VALARM
END:VEVENT
END:VCALENDAR

