BEGIN:VCALENDAR
VERSION:2.0
PRODID:-//YGAMETIME.com//YGT iCal Creator//EN
METHOD:PUBLISH
X-PUBLISHED-TTL:PT6H
REFRESH-INTERVAL;VALUE=DURATION:PT6H
CALSCALE:GREGORIAN
X-WR-CALNAME:YGAMETIME CALENDAR
BEGIN:VTIMEZONE
TZID:America/Chicago
X-LIC-LOCATION:America/Chicago
BEGIN:DAYLIGHT
TZOFFSETFROM:-0600
TZOFFSETTO:-0500
TZNAME:CDT
DTSTART:19700308T020000
RRULE:FREQ=YEARLY;BYMONTH=3;BYDAY=2SU
END:DAYLIGHT
BEGIN:STANDARD
TZOFFSETFROM:-0500
TZOFFSETTO:-0600
TZNAME:CST
DTSTART:19701101T020000
RRULE:FREQ=YEARLY;BYMONTH=11;BYDAY=1SU
END:STANDARD
END:VTIMEZONE
BEGIN:VEVENT
UID:dmymca-588051@ygametime.com
DTSTAMP:20260123T033000Z
DTSTART;TZID=America/Chicago:20260122T213000
DURATION:PT0H60M0S
SUMMARY:Irish Spring Green vs Hood Ballers
DESCRIPTION:Metro League 11th and 12th Grade Division A | Metro League Basketball\nYMCA of Greater Des Moines\n
URL;VALUE=URI:https://ygametime.com/branch/dmymca/sports/2025-winter-metro-league-basketball/25383/?utm_medium=calendar&utm_source=team_cal&utm_content=league_url#game-588051
LOCATION:Grubb YMCA
BEGIN:VALARM
TRIGGER:-P2H
ACTION:DISPLAY
DESCRIPTION:Irish Spring Green vs Hood Ballers
END:VALARM
END:VEVENT
BEGIN:VEVENT
UID:dmymca-588065@ygametime.com
DTSTAMP:20260131T170000Z
DTSTART;TZID=America/Chicago:20260131T110000
DURATION:PT0H60M0S
SUMMARY:Butter Chicken Elite vs Irish Spring Green
DESCRIPTION:Metro League 11th and 12th Grade Division A | Metro League Basketball\nYMCA of Greater Des Moines\n
URL;VALUE=URI:https://ygametime.com/branch/dmymca/sports/2025-winter-metro-league-basketball/25383/?utm_medium=calendar&utm_source=team_cal&utm_content=league_url#game-588065
LOCATION:Grubb YMCA
BEGIN:VALARM
TRIGGER:-P2H
ACTION:DISPLAY
DESCRIPTION:Butter Chicken Elite vs Irish Spring Green
END:VALARM
END:VEVENT
BEGIN:VEVENT
UID:dmymca-588073@ygametime.com
DTSTAMP:20260206T013000Z
DTSTART;TZID=America/Chicago:20260205T193000
DURATION:PT0H60M0S
SUMMARY:Risk Takers vs Irish Spring Green
DESCRIPTION:Metro League 11th and 12th Grade Division A | Metro League Basketball\nYMCA of Greater Des Moines\n
URL;VALUE=URI:https://ygametime.com/branch/dmymca/sports/2025-winter-metro-league-basketball/25383/?utm_medium=calendar&utm_source=team_cal&utm_content=league_url#game-588073
LOCATION:Grubb YMCA
BEGIN:VALARM
TRIGGER:-P2H
ACTION:DISPLAY
DESCRIPTION:Risk Takers vs Irish Spring Green
END:VALARM
END:VEVENT
BEGIN:VEVENT
UID:dmymca-588081@ygametime.com
DTSTAMP:20260214T160000Z
DTSTART;TZID=America/Chicago:20260214T100000
DURATION:PT0H60M0S
SUMMARY:Irish Spring Green vs Empty the Register
DESCRIPTION:Metro League 11th and 12th Grade Division A | Metro League Basketball\nYMCA of Greater Des Moines\n
URL;VALUE=URI:https://ygametime.com/branch/dmymca/sports/2025-winter-metro-league-basketball/25383/?utm_medium=calendar&utm_source=team_cal&utm_content=league_url#game-588081
LOCATION:Grubb YMCA
BEGIN:VALARM
TRIGGER:-P2H
ACTION:DISPLAY
DESCRIPTION:Irish Spring Green vs Empty the Register
END:VALARM
END:VEVENT
BEGIN:VEVENT
UID:dmymca-588089@ygametime.com
DTSTAMP:20260221T170000Z
DTSTART;TZID=America/Chicago:20260221T110000
DURATION:PT0H60M0S
SUMMARY:Brent Faiyaz Elite vs Irish Spring Green
DESCRIPTION:Metro League 11th and 12th Grade Division A | Metro League Basketball\nYMCA of Greater Des Moines\n
URL;VALUE=URI:https://ygametime.com/branch/dmymca/sports/2025-winter-metro-league-basketball/25383/?utm_medium=calendar&utm_source=team_cal&utm_content=league_url#game-588089
LOCATION:Grubb YMCA
BEGIN:VALARM
TRIGGER:-P2H
ACTION:DISPLAY
DESCRIPTION:Brent Faiyaz Elite vs Irish Spring Green
END:VALARM
END:VEVENT
END:VCALENDAR

