BEGIN:VCALENDAR
VERSION:2.0
PRODID:-//YGAMETIME.com//YGT iCal Creator//EN
METHOD:PUBLISH
X-PUBLISHED-TTL:PT6H
REFRESH-INTERVAL;VALUE=DURATION:PT6H
CALSCALE:GREGORIAN
X-WR-CALNAME:YGAMETIME CALENDAR
BEGIN:VTIMEZONE
TZID:America/Chicago
X-LIC-LOCATION:America/Chicago
BEGIN:DAYLIGHT
TZOFFSETFROM:-0600
TZOFFSETTO:-0500
TZNAME:CDT
DTSTART:19700308T020000
RRULE:FREQ=YEARLY;BYMONTH=3;BYDAY=2SU
END:DAYLIGHT
BEGIN:STANDARD
TZOFFSETFROM:-0500
TZOFFSETTO:-0600
TZNAME:CST
DTSTART:19701101T020000
RRULE:FREQ=YEARLY;BYMONTH=11;BYDAY=1SU
END:STANDARD
END:VTIMEZONE
BEGIN:VEVENT
UID:dmymca-588052@ygametime.com
DTSTAMP:20260124T180000Z
DTSTART;TZID=America/Chicago:20260124T120000
DURATION:PT0H60M0S
SUMMARY:JTown Buckets vs Midwest Magic
DESCRIPTION:Metro League 11th and 12th Grade Division A | Metro League Basketball\nYMCA of Greater Des Moines\n
URL;VALUE=URI:https://ygametime.com/branch/dmymca/sports/2025-winter-metro-league-basketball/25383/?utm_medium=calendar&utm_source=team_cal&utm_content=league_url#game-588052
LOCATION:Grubb YMCA
BEGIN:VALARM
TRIGGER:-P2H
ACTION:DISPLAY
DESCRIPTION:JTown Buckets vs Midwest Magic
END:VALARM
END:VEVENT
BEGIN:VEVENT
UID:dmymca-588058@ygametime.com
DTSTAMP:20260130T023000Z
DTSTART;TZID=America/Chicago:20260129T203000
DURATION:PT0H60M0S
SUMMARY:Midwest Magic vs YBG
DESCRIPTION:Metro League 11th and 12th Grade Division A | Metro League Basketball\nYMCA of Greater Des Moines\n
URL;VALUE=URI:https://ygametime.com/branch/dmymca/sports/2025-winter-metro-league-basketball/25383/?utm_medium=calendar&utm_source=team_cal&utm_content=league_url#game-588058
LOCATION:Grubb YMCA
BEGIN:VALARM
TRIGGER:-P2H
ACTION:DISPLAY
DESCRIPTION:Midwest Magic vs YBG
END:VALARM
END:VEVENT
BEGIN:VEVENT
UID:dmymca-588072@ygametime.com
DTSTAMP:20260207T160000Z
DTSTART;TZID=America/Chicago:20260207T100000
DURATION:PT0H60M0S
SUMMARY:Midwest Magic vs Butter Chicken Elite
DESCRIPTION:Metro League 11th and 12th Grade Division A | Metro League Basketball\nYMCA of Greater Des Moines\n
URL;VALUE=URI:https://ygametime.com/branch/dmymca/sports/2025-winter-metro-league-basketball/25383/?utm_medium=calendar&utm_source=team_cal&utm_content=league_url#game-588072
LOCATION:Grubb YMCA
BEGIN:VALARM
TRIGGER:-P2H
ACTION:DISPLAY
DESCRIPTION:Midwest Magic vs Butter Chicken Elite
END:VALARM
END:VEVENT
BEGIN:VEVENT
UID:dmymca-588080@ygametime.com
DTSTAMP:20260214T150000Z
DTSTART;TZID=America/Chicago:20260214T090000
DURATION:PT0H60M0S
SUMMARY:Wailing Woods Warriors vs Midwest Magic
DESCRIPTION:Metro League 11th and 12th Grade Division A | Metro League Basketball\nYMCA of Greater Des Moines\n
URL;VALUE=URI:https://ygametime.com/branch/dmymca/sports/2025-winter-metro-league-basketball/25383/?utm_medium=calendar&utm_source=team_cal&utm_content=league_url#game-588080
LOCATION:Grubb YMCA
BEGIN:VALARM
TRIGGER:-P2H
ACTION:DISPLAY
DESCRIPTION:Wailing Woods Warriors vs Midwest Magic
END:VALARM
END:VEVENT
BEGIN:VEVENT
UID:dmymca-588088@ygametime.com
DTSTAMP:20260221T160000Z
DTSTART;TZID=America/Chicago:20260221T100000
DURATION:PT0H60M0S
SUMMARY:Midwest Magic vs CKE
DESCRIPTION:Metro League 11th and 12th Grade Division A | Metro League Basketball\nYMCA of Greater Des Moines\n
URL;VALUE=URI:https://ygametime.com/branch/dmymca/sports/2025-winter-metro-league-basketball/25383/?utm_medium=calendar&utm_source=team_cal&utm_content=league_url#game-588088
LOCATION:Grubb YMCA
BEGIN:VALARM
TRIGGER:-P2H
ACTION:DISPLAY
DESCRIPTION:Midwest Magic vs CKE
END:VALARM
END:VEVENT
END:VCALENDAR

