BEGIN:VCALENDAR
VERSION:2.0
PRODID:-//YGAMETIME.com//YGT iCal Creator//EN
METHOD:PUBLISH
X-PUBLISHED-TTL:PT6H
REFRESH-INTERVAL;VALUE=DURATION:PT6H
CALSCALE:GREGORIAN
X-WR-CALNAME:YGAMETIME CALENDAR
BEGIN:VTIMEZONE
TZID:America/Chicago
X-LIC-LOCATION:America/Chicago
BEGIN:DAYLIGHT
TZOFFSETFROM:-0600
TZOFFSETTO:-0500
TZNAME:CDT
DTSTART:19700308T020000
RRULE:FREQ=YEARLY;BYMONTH=3;BYDAY=2SU
END:DAYLIGHT
BEGIN:STANDARD
TZOFFSETFROM:-0500
TZOFFSETTO:-0600
TZNAME:CST
DTSTART:19701101T020000
RRULE:FREQ=YEARLY;BYMONTH=11;BYDAY=1SU
END:STANDARD
END:VTIMEZONE
BEGIN:VEVENT
UID:dmymca-588053@ygametime.com
DTSTAMP:20260124T190000Z
DTSTART;TZID=America/Chicago:20260124T130000
DURATION:PT0H60M0S
SUMMARY:Risk Takers vs Busty Boyz
DESCRIPTION:Metro League 11th and 12th Grade Division A | Metro League Basketball\nYMCA of Greater Des Moines\n
URL;VALUE=URI:https://ygametime.com/branch/dmymca/sports/2025-winter-metro-league-basketball/25383/?utm_medium=calendar&utm_source=team_cal&utm_content=league_url#game-588053
LOCATION:Grubb YMCA
BEGIN:VALARM
TRIGGER:-P2H
ACTION:DISPLAY
DESCRIPTION:Risk Takers vs Busty Boyz
END:VALARM
END:VEVENT
BEGIN:VEVENT
UID:dmymca-588059@ygametime.com
DTSTAMP:20260130T033000Z
DTSTART;TZID=America/Chicago:20260129T213000
DURATION:PT0H60M0S
SUMMARY:Hood Ballers vs Risk Takers
DESCRIPTION:Metro League 11th and 12th Grade Division A | Metro League Basketball\nYMCA of Greater Des Moines\n
URL;VALUE=URI:https://ygametime.com/branch/dmymca/sports/2025-winter-metro-league-basketball/25383/?utm_medium=calendar&utm_source=team_cal&utm_content=league_url#game-588059
LOCATION:Grubb YMCA
BEGIN:VALARM
TRIGGER:-P2H
ACTION:DISPLAY
DESCRIPTION:Hood Ballers vs Risk Takers
END:VALARM
END:VEVENT
BEGIN:VEVENT
UID:dmymca-588073@ygametime.com
DTSTAMP:20260206T013000Z
DTSTART;TZID=America/Chicago:20260205T193000
DURATION:PT0H60M0S
SUMMARY:Risk Takers vs Irish Spring Green
DESCRIPTION:Metro League 11th and 12th Grade Division A | Metro League Basketball\nYMCA of Greater Des Moines\n
URL;VALUE=URI:https://ygametime.com/branch/dmymca/sports/2025-winter-metro-league-basketball/25383/?utm_medium=calendar&utm_source=team_cal&utm_content=league_url#game-588073
LOCATION:Grubb YMCA
BEGIN:VALARM
TRIGGER:-P2H
ACTION:DISPLAY
DESCRIPTION:Risk Takers vs Irish Spring Green
END:VALARM
END:VEVENT
BEGIN:VEVENT
UID:dmymca-588079@ygametime.com
DTSTAMP:20260214T140000Z
DTSTART;TZID=America/Chicago:20260214T080000
DURATION:PT0H60M0S
SUMMARY:Butter Chicken Elite vs Risk Takers
DESCRIPTION:Metro League 11th and 12th Grade Division A | Metro League Basketball\nYMCA of Greater Des Moines\n
URL;VALUE=URI:https://ygametime.com/branch/dmymca/sports/2025-winter-metro-league-basketball/25383/?utm_medium=calendar&utm_source=team_cal&utm_content=league_url#game-588079
LOCATION:Grubb YMCA
BEGIN:VALARM
TRIGGER:-P2H
ACTION:DISPLAY
DESCRIPTION:Butter Chicken Elite vs Risk Takers
END:VALARM
END:VEVENT
BEGIN:VEVENT
UID:dmymca-588087@ygametime.com
DTSTAMP:20260221T150000Z
DTSTART;TZID=America/Chicago:20260221T090000
DURATION:PT0H60M0S
SUMMARY:Empty the Register vs Risk Takers
DESCRIPTION:Metro League 11th and 12th Grade Division A | Metro League Basketball\nYMCA of Greater Des Moines\n
URL;VALUE=URI:https://ygametime.com/branch/dmymca/sports/2025-winter-metro-league-basketball/25383/?utm_medium=calendar&utm_source=team_cal&utm_content=league_url#game-588087
LOCATION:Grubb YMCA
BEGIN:VALARM
TRIGGER:-P2H
ACTION:DISPLAY
DESCRIPTION:Empty the Register vs Risk Takers
END:VALARM
END:VEVENT
END:VCALENDAR

