BEGIN:VCALENDAR
VERSION:2.0
PRODID:-//YGAMETIME.com//YGT iCal Creator//EN
METHOD:PUBLISH
X-PUBLISHED-TTL:PT6H
REFRESH-INTERVAL;VALUE=DURATION:PT6H
CALSCALE:GREGORIAN
X-WR-CALNAME:YGAMETIME CALENDAR
BEGIN:VTIMEZONE
TZID:America/Chicago
X-LIC-LOCATION:America/Chicago
BEGIN:DAYLIGHT
TZOFFSETFROM:-0600
TZOFFSETTO:-0500
TZNAME:CDT
DTSTART:19700308T020000
RRULE:FREQ=YEARLY;BYMONTH=3;BYDAY=2SU
END:DAYLIGHT
BEGIN:STANDARD
TZOFFSETFROM:-0500
TZOFFSETTO:-0600
TZNAME:CST
DTSTART:19701101T020000
RRULE:FREQ=YEARLY;BYMONTH=11;BYDAY=1SU
END:STANDARD
END:VTIMEZONE
BEGIN:VEVENT
UID:dmymca-588057@ygametime.com
DTSTAMP:20260124T170000Z
DTSTART;TZID=America/Chicago:20260124T110000
DURATION:PT0H60M0S
SUMMARY:Brent Faiyaz Elite vs BiggerXthaplug
DESCRIPTION:Metro League 11th and 12th Grade Division A | Metro League Basketball\nYMCA of Greater Des Moines\n
URL;VALUE=URI:https://ygametime.com/branch/dmymca/sports/2025-winter-metro-league-basketball/25383/?utm_medium=calendar&utm_source=team_cal&utm_content=league_url#game-588057
LOCATION:Grubb YMCA
BEGIN:VALARM
TRIGGER:-P2H
ACTION:DISPLAY
DESCRIPTION:Brent Faiyaz Elite vs BiggerXthaplug
END:VALARM
END:VEVENT
BEGIN:VEVENT
UID:dmymca-588063@ygametime.com
DTSTAMP:20260131T180000Z
DTSTART;TZID=America/Chicago:20260131T120000
DURATION:PT0H60M0S
SUMMARY:Knee Surgery Elite vs Brent Faiyaz Elite
DESCRIPTION:Metro League 11th and 12th Grade Division A | Metro League Basketball\nYMCA of Greater Des Moines\n
URL;VALUE=URI:https://ygametime.com/branch/dmymca/sports/2025-winter-metro-league-basketball/25383/?utm_medium=calendar&utm_source=team_cal&utm_content=league_url#game-588063
LOCATION:Grubb YMCA
BEGIN:VALARM
TRIGGER:-P2H
ACTION:DISPLAY
DESCRIPTION:Knee Surgery Elite vs Brent Faiyaz Elite
END:VALARM
END:VEVENT
BEGIN:VEVENT
UID:dmymca-588069@ygametime.com
DTSTAMP:20260207T170000Z
DTSTART;TZID=America/Chicago:20260207T110000
DURATION:PT0H60M0S
SUMMARY:Brent Faiyaz Elite vs Busty Boyz
DESCRIPTION:Metro League 11th and 12th Grade Division A | Metro League Basketball\nYMCA of Greater Des Moines\n
URL;VALUE=URI:https://ygametime.com/branch/dmymca/sports/2025-winter-metro-league-basketball/25383/?utm_medium=calendar&utm_source=team_cal&utm_content=league_url#game-588069
LOCATION:Grubb YMCA
BEGIN:VALARM
TRIGGER:-P2H
ACTION:DISPLAY
DESCRIPTION:Brent Faiyaz Elite vs Busty Boyz
END:VALARM
END:VEVENT
BEGIN:VEVENT
UID:dmymca-588075@ygametime.com
DTSTAMP:20260213T033000Z
DTSTART;TZID=America/Chicago:20260212T213000
DURATION:PT0H60M0S
SUMMARY:Hood Ballers vs Brent Faiyaz Elite
DESCRIPTION:Metro League 11th and 12th Grade Division A | Metro League Basketball\nYMCA of Greater Des Moines\n
URL;VALUE=URI:https://ygametime.com/branch/dmymca/sports/2025-winter-metro-league-basketball/25383/?utm_medium=calendar&utm_source=team_cal&utm_content=league_url#game-588075
LOCATION:Grubb YMCA
BEGIN:VALARM
TRIGGER:-P2H
ACTION:DISPLAY
DESCRIPTION:Hood Ballers vs Brent Faiyaz Elite
END:VALARM
END:VEVENT
BEGIN:VEVENT
UID:dmymca-588089@ygametime.com
DTSTAMP:20260221T170000Z
DTSTART;TZID=America/Chicago:20260221T110000
DURATION:PT0H60M0S
SUMMARY:Brent Faiyaz Elite vs Irish Spring Green
DESCRIPTION:Metro League 11th and 12th Grade Division A | Metro League Basketball\nYMCA of Greater Des Moines\n
URL;VALUE=URI:https://ygametime.com/branch/dmymca/sports/2025-winter-metro-league-basketball/25383/?utm_medium=calendar&utm_source=team_cal&utm_content=league_url#game-588089
LOCATION:Grubb YMCA
BEGIN:VALARM
TRIGGER:-P2H
ACTION:DISPLAY
DESCRIPTION:Brent Faiyaz Elite vs Irish Spring Green
END:VALARM
END:VEVENT
END:VCALENDAR

