BEGIN:VCALENDAR
VERSION:2.0
PRODID:-//YGAMETIME.com//YGT iCal Creator//EN
METHOD:PUBLISH
X-PUBLISHED-TTL:PT6H
REFRESH-INTERVAL;VALUE=DURATION:PT6H
CALSCALE:GREGORIAN
X-WR-CALNAME:YGAMETIME CALENDAR
BEGIN:VTIMEZONE
TZID:America/New_York
X-LIC-LOCATION:America/New_York
BEGIN:DAYLIGHT
TZOFFSETFROM:-0500
TZOFFSETTO:-0400
TZNAME:EDT
DTSTART:19700308T020000
RRULE:FREQ=YEARLY;BYMONTH=3;BYDAY=2SU
END:DAYLIGHT
BEGIN:STANDARD
TZOFFSETFROM:-0400
TZOFFSETTO:-0500
TZNAME:EST
DTSTART:19701101T020000
RRULE:FREQ=YEARLY;BYMONTH=11;BYDAY=1SU
END:STANDARD
END:VTIMEZONE
BEGIN:VEVENT
UID:eastbutler-67540@ygametime.com
DTSTAMP:20160827T120000Z
DTSTART;TZID=America/New_York:20160827T080000
DURATION:PT0H90M0S
SUMMARY:#4 Michael Flaherty  vs #1 Kristen Shanks & Chris Ovelton
DESCRIPTION:Coed 10 - 13 | Soccer\nEAST BUTLER COUNTY YMCA\n
URL;VALUE=URI:https://ygametime.com/branch/eastbutler/sports/2016-fall-soccer/2792/?utm_medium=calendar&utm_source=team_cal&utm_content=league_url#game-67540
LOCATION:Big Field Red
BEGIN:VALARM
TRIGGER:-P2H
ACTION:DISPLAY
DESCRIPTION:#4 Michael Flaherty  vs #1 Kristen Shanks & Chris Ovelton
END:VALARM
END:VEVENT
BEGIN:VEVENT
UID:eastbutler-67547@ygametime.com
DTSTAMP:20160910T133000Z
DTSTART;TZID=America/New_York:20160910T093000
DURATION:PT0H90M0S
SUMMARY:#2 Kevin Kortz & Richard Woeller vs #1 Kristen Shanks & Chris Ovelton
DESCRIPTION:Coed 10 - 13 | Soccer\nEAST BUTLER COUNTY YMCA\n
URL;VALUE=URI:https://ygametime.com/branch/eastbutler/sports/2016-fall-soccer/2792/?utm_medium=calendar&utm_source=team_cal&utm_content=league_url#game-67547
LOCATION:Big Field Red
BEGIN:VALARM
TRIGGER:-P2H
ACTION:DISPLAY
DESCRIPTION:#2 Kevin Kortz & Richard Woeller vs #1 Kristen Shanks & Chris Ovelton
END:VALARM
END:VEVENT
BEGIN:VEVENT
UID:eastbutler-67549@ygametime.com
DTSTAMP:20160917T120000Z
DTSTART;TZID=America/New_York:20160917T080000
DURATION:PT0H90M0S
SUMMARY:#1 Kristen Shanks & Chris Ovelton vs #3 Ed Pharo 
DESCRIPTION:Coed 10 - 13 | Soccer\nEAST BUTLER COUNTY YMCA\n
URL;VALUE=URI:https://ygametime.com/branch/eastbutler/sports/2016-fall-soccer/2792/?utm_medium=calendar&utm_source=team_cal&utm_content=league_url#game-67549
LOCATION:Big Field Red
BEGIN:VALARM
TRIGGER:-P2H
ACTION:DISPLAY
DESCRIPTION:#1 Kristen Shanks & Chris Ovelton vs #3 Ed Pharo 
END:VALARM
END:VEVENT
BEGIN:VEVENT
UID:eastbutler-67554@ygametime.com
DTSTAMP:20160924T133000Z
DTSTART;TZID=America/New_York:20160924T093000
DURATION:PT0H90M0S
SUMMARY:#2 Kevin Kortz & Richard Woeller vs #1 Kristen Shanks & Chris Ovelton
DESCRIPTION:Coed 10 - 13 | Soccer\nEAST BUTLER COUNTY YMCA\n
URL;VALUE=URI:https://ygametime.com/branch/eastbutler/sports/2016-fall-soccer/2792/?utm_medium=calendar&utm_source=team_cal&utm_content=league_url#game-67554
LOCATION:Big Field Red
BEGIN:VALARM
TRIGGER:-P2H
ACTION:DISPLAY
DESCRIPTION:#2 Kevin Kortz & Richard Woeller vs #1 Kristen Shanks & Chris Ovelton
END:VALARM
END:VEVENT
BEGIN:VEVENT
UID:eastbutler-67556@ygametime.com
DTSTAMP:20161001T133000Z
DTSTART;TZID=America/New_York:20161001T093000
DURATION:PT0H90M0S
SUMMARY:#4 Michael Flaherty  vs #1 Kristen Shanks & Chris Ovelton
DESCRIPTION:Coed 10 - 13 | Soccer\nEAST BUTLER COUNTY YMCA\n
URL;VALUE=URI:https://ygametime.com/branch/eastbutler/sports/2016-fall-soccer/2792/?utm_medium=calendar&utm_source=team_cal&utm_content=league_url#game-67556
LOCATION:Big Field Red
BEGIN:VALARM
TRIGGER:-P2H
ACTION:DISPLAY
DESCRIPTION:#4 Michael Flaherty  vs #1 Kristen Shanks & Chris Ovelton
END:VALARM
END:VEVENT
BEGIN:VEVENT
UID:eastbutler-67558@ygametime.com
DTSTAMP:20161008T120000Z
DTSTART;TZID=America/New_York:20161008T080000
DURATION:PT0H90M0S
SUMMARY:#1 Kristen Shanks & Chris Ovelton vs #5 Eddy
DESCRIPTION:Coed 10 - 13 | Soccer\nEAST BUTLER COUNTY YMCA\n
URL;VALUE=URI:https://ygametime.com/branch/eastbutler/sports/2016-fall-soccer/2792/?utm_medium=calendar&utm_source=team_cal&utm_content=league_url#game-67558
LOCATION:Big Field Red
BEGIN:VALARM
TRIGGER:-P2H
ACTION:DISPLAY
DESCRIPTION:#1 Kristen Shanks & Chris Ovelton vs #5 Eddy
END:VALARM
END:VEVENT
BEGIN:VEVENT
UID:eastbutler-67563@ygametime.com
DTSTAMP:20161015T120000Z
DTSTART;TZID=America/New_York:20161015T080000
DURATION:PT0H90M0S
SUMMARY:#3 Ed Pharo  vs #1 Kristen Shanks & Chris Ovelton
DESCRIPTION:Coed 10 - 13 | Soccer\nEAST BUTLER COUNTY YMCA\n
URL;VALUE=URI:https://ygametime.com/branch/eastbutler/sports/2016-fall-soccer/2792/?utm_medium=calendar&utm_source=team_cal&utm_content=league_url#game-67563
LOCATION:Big Field Red
BEGIN:VALARM
TRIGGER:-P2H
ACTION:DISPLAY
DESCRIPTION:#3 Ed Pharo  vs #1 Kristen Shanks & Chris Ovelton
END:VALARM
END:VEVENT
BEGIN:VEVENT
UID:eastbutler-67545@ygametime.com
DTSTAMP:20161022T120000Z
DTSTART;TZID=America/New_York:20161022T080000
DURATION:PT0H90M0S
SUMMARY:#1 Kristen Shanks & Chris Ovelton vs #5 Eddy
DESCRIPTION:Coed 10 - 13 | Soccer\nEAST BUTLER COUNTY YMCA\n
URL;VALUE=URI:https://ygametime.com/branch/eastbutler/sports/2016-fall-soccer/2792/?utm_medium=calendar&utm_source=team_cal&utm_content=league_url#game-67545
LOCATION:Harbin Park
BEGIN:VALARM
TRIGGER:-P2H
ACTION:DISPLAY
DESCRIPTION:#1 Kristen Shanks & Chris Ovelton vs #5 Eddy
END:VALARM
END:VEVENT
END:VCALENDAR

