BEGIN:VCALENDAR
VERSION:2.0
PRODID:-//YGAMETIME.com//YGT iCal Creator//EN
METHOD:PUBLISH
X-PUBLISHED-TTL:PT6H
REFRESH-INTERVAL;VALUE=DURATION:PT6H
CALSCALE:GREGORIAN
X-WR-CALNAME:YGAMETIME CALENDAR
BEGIN:VTIMEZONE
TZID:America/New_York
X-LIC-LOCATION:America/New_York
BEGIN:DAYLIGHT
TZOFFSETFROM:-0500
TZOFFSETTO:-0400
TZNAME:EDT
DTSTART:19700308T020000
RRULE:FREQ=YEARLY;BYMONTH=3;BYDAY=2SU
END:DAYLIGHT
BEGIN:STANDARD
TZOFFSETFROM:-0400
TZOFFSETTO:-0500
TZNAME:EST
DTSTART:19701101T020000
RRULE:FREQ=YEARLY;BYMONTH=11;BYDAY=1SU
END:STANDARD
END:VTIMEZONE
BEGIN:VEVENT
UID:eastbutler-67564@ygametime.com
DTSTAMP:20160827T150000Z
DTSTART;TZID=America/New_York:20160827T110000
DURATION:PT0H75M0S
SUMMARY:#4 Ed Pharo & Tim Mumma vs #1 Vasconcelos 
DESCRIPTION:Coed 8 & 9 | Soccer\nEAST BUTLER COUNTY YMCA\n
URL;VALUE=URI:https://ygametime.com/branch/eastbutler/sports/2016-fall-soccer/2791/?utm_medium=calendar&utm_source=team_cal&utm_content=league_url#game-67564
LOCATION:Big Field Red
BEGIN:VALARM
TRIGGER:-P2H
ACTION:DISPLAY
DESCRIPTION:#4 Ed Pharo & Tim Mumma vs #1 Vasconcelos 
END:VALARM
END:VEVENT
BEGIN:VEVENT
UID:eastbutler-67572@ygametime.com
DTSTAMP:20160910T173000Z
DTSTART;TZID=America/New_York:20160910T133000
DURATION:PT0H75M0S
SUMMARY:#2 Nunley & Sam Wood vs #4 Ed Pharo & Tim Mumma
DESCRIPTION:Coed 8 & 9 | Soccer\nEAST BUTLER COUNTY YMCA\n
URL;VALUE=URI:https://ygametime.com/branch/eastbutler/sports/2016-fall-soccer/2791/?utm_medium=calendar&utm_source=team_cal&utm_content=league_url#game-67572
LOCATION:Big Field Red
BEGIN:VALARM
TRIGGER:-P2H
ACTION:DISPLAY
DESCRIPTION:#2 Nunley & Sam Wood vs #4 Ed Pharo & Tim Mumma
END:VALARM
END:VEVENT
BEGIN:VEVENT
UID:eastbutler-67575@ygametime.com
DTSTAMP:20160917T173000Z
DTSTART;TZID=America/New_York:20160917T133000
DURATION:PT0H75M0S
SUMMARY:#4 Ed Pharo & Tim Mumma vs #1 Vasconcelos 
DESCRIPTION:Coed 8 & 9 | Soccer\nEAST BUTLER COUNTY YMCA\n
URL;VALUE=URI:https://ygametime.com/branch/eastbutler/sports/2016-fall-soccer/2791/?utm_medium=calendar&utm_source=team_cal&utm_content=league_url#game-67575
LOCATION:Big Field Red
BEGIN:VALARM
TRIGGER:-P2H
ACTION:DISPLAY
DESCRIPTION:#4 Ed Pharo & Tim Mumma vs #1 Vasconcelos 
END:VALARM
END:VEVENT
BEGIN:VEVENT
UID:eastbutler-67578@ygametime.com
DTSTAMP:20160924T173000Z
DTSTART;TZID=America/New_York:20160924T133000
DURATION:PT0H75M0S
SUMMARY:#4 Ed Pharo & Tim Mumma vs #3 Lott & Esteves 
DESCRIPTION:Coed 8 & 9 | Soccer\nEAST BUTLER COUNTY YMCA\n
URL;VALUE=URI:https://ygametime.com/branch/eastbutler/sports/2016-fall-soccer/2791/?utm_medium=calendar&utm_source=team_cal&utm_content=league_url#game-67578
LOCATION:Big Field Red
BEGIN:VALARM
TRIGGER:-P2H
ACTION:DISPLAY
DESCRIPTION:#4 Ed Pharo & Tim Mumma vs #3 Lott & Esteves 
END:VALARM
END:VEVENT
BEGIN:VEVENT
UID:eastbutler-67581@ygametime.com
DTSTAMP:20161001T173000Z
DTSTART;TZID=America/New_York:20161001T133000
DURATION:PT0H75M0S
SUMMARY:#4 Ed Pharo & Tim Mumma vs #1 Vasconcelos 
DESCRIPTION:Coed 8 & 9 | Soccer\nEAST BUTLER COUNTY YMCA\n
URL;VALUE=URI:https://ygametime.com/branch/eastbutler/sports/2016-fall-soccer/2791/?utm_medium=calendar&utm_source=team_cal&utm_content=league_url#game-67581
LOCATION:Big Field Red
BEGIN:VALARM
TRIGGER:-P2H
ACTION:DISPLAY
DESCRIPTION:#4 Ed Pharo & Tim Mumma vs #1 Vasconcelos 
END:VALARM
END:VEVENT
BEGIN:VEVENT
UID:eastbutler-67583@ygametime.com
DTSTAMP:20161008T161500Z
DTSTART;TZID=America/New_York:20161008T121500
DURATION:PT0H75M0S
SUMMARY:#6 Kirk Gallier  vs #4 Ed Pharo & Tim Mumma
DESCRIPTION:Coed 8 & 9 | Soccer\nEAST BUTLER COUNTY YMCA\n
URL;VALUE=URI:https://ygametime.com/branch/eastbutler/sports/2016-fall-soccer/2791/?utm_medium=calendar&utm_source=team_cal&utm_content=league_url#game-67583
LOCATION:Big Field Red
BEGIN:VALARM
TRIGGER:-P2H
ACTION:DISPLAY
DESCRIPTION:#6 Kirk Gallier  vs #4 Ed Pharo & Tim Mumma
END:VALARM
END:VEVENT
BEGIN:VEVENT
UID:eastbutler-67586@ygametime.com
DTSTAMP:20161015T161500Z
DTSTART;TZID=America/New_York:20161015T121500
DURATION:PT0H75M0S
SUMMARY:#4 Ed Pharo & Tim Mumma vs #2 Nunley & Sam Wood
DESCRIPTION:Coed 8 & 9 | Soccer\nEAST BUTLER COUNTY YMCA\n
URL;VALUE=URI:https://ygametime.com/branch/eastbutler/sports/2016-fall-soccer/2791/?utm_medium=calendar&utm_source=team_cal&utm_content=league_url#game-67586
LOCATION:Big Field Red
BEGIN:VALARM
TRIGGER:-P2H
ACTION:DISPLAY
DESCRIPTION:#4 Ed Pharo & Tim Mumma vs #2 Nunley & Sam Wood
END:VALARM
END:VEVENT
BEGIN:VEVENT
UID:eastbutler-67567@ygametime.com
DTSTAMP:20161022T150000Z
DTSTART;TZID=America/New_York:20161022T110000
DURATION:PT0H75M0S
SUMMARY:#6 Kirk Gallier  vs #4 Ed Pharo & Tim Mumma
DESCRIPTION:Coed 8 & 9 | Soccer\nEAST BUTLER COUNTY YMCA\n
URL;VALUE=URI:https://ygametime.com/branch/eastbutler/sports/2016-fall-soccer/2791/?utm_medium=calendar&utm_source=team_cal&utm_content=league_url#game-67567
LOCATION:Big Field Red
BEGIN:VALARM
TRIGGER:-P2H
ACTION:DISPLAY
DESCRIPTION:#6 Kirk Gallier  vs #4 Ed Pharo & Tim Mumma
END:VALARM
END:VEVENT
END:VCALENDAR

