BEGIN:VCALENDAR
VERSION:2.0
PRODID:-//YGAMETIME.com//YGT iCal Creator//EN
METHOD:PUBLISH
X-PUBLISHED-TTL:PT6H
REFRESH-INTERVAL;VALUE=DURATION:PT6H
CALSCALE:GREGORIAN
X-WR-CALNAME:YGAMETIME CALENDAR
BEGIN:VTIMEZONE
TZID:America/New_York
X-LIC-LOCATION:America/New_York
BEGIN:DAYLIGHT
TZOFFSETFROM:-0500
TZOFFSETTO:-0400
TZNAME:EDT
DTSTART:19700308T020000
RRULE:FREQ=YEARLY;BYMONTH=3;BYDAY=2SU
END:DAYLIGHT
BEGIN:STANDARD
TZOFFSETFROM:-0400
TZOFFSETTO:-0500
TZNAME:EST
DTSTART:19701101T020000
RRULE:FREQ=YEARLY;BYMONTH=11;BYDAY=1SU
END:STANDARD
END:VTIMEZONE
BEGIN:VEVENT
UID:eastbutler-67566@ygametime.com
DTSTAMP:20160827T173000Z
DTSTART;TZID=America/New_York:20160827T133000
DURATION:PT0H75M0S
SUMMARY:#5 Kren & Sterwerf vs #2 Nunley & Sam Wood
DESCRIPTION:Coed 8 & 9 | Soccer\nEAST BUTLER COUNTY YMCA\n
URL;VALUE=URI:https://ygametime.com/branch/eastbutler/sports/2016-fall-soccer/2791/?utm_medium=calendar&utm_source=team_cal&utm_content=league_url#game-67566
LOCATION:Big Field Red
BEGIN:VALARM
TRIGGER:-P2H
ACTION:DISPLAY
DESCRIPTION:#5 Kren & Sterwerf vs #2 Nunley & Sam Wood
END:VALARM
END:VEVENT
BEGIN:VEVENT
UID:eastbutler-67570@ygametime.com
DTSTAMP:20160910T150000Z
DTSTART;TZID=America/New_York:20160910T110000
DURATION:PT0H75M0S
SUMMARY:#5 Kren & Sterwerf vs #3 Lott & Esteves 
DESCRIPTION:Coed 8 & 9 | Soccer\nEAST BUTLER COUNTY YMCA\n
URL;VALUE=URI:https://ygametime.com/branch/eastbutler/sports/2016-fall-soccer/2791/?utm_medium=calendar&utm_source=team_cal&utm_content=league_url#game-67570
LOCATION:Big Field Red
BEGIN:VALARM
TRIGGER:-P2H
ACTION:DISPLAY
DESCRIPTION:#5 Kren & Sterwerf vs #3 Lott & Esteves 
END:VALARM
END:VEVENT
BEGIN:VEVENT
UID:eastbutler-67574@ygametime.com
DTSTAMP:20160917T161500Z
DTSTART;TZID=America/New_York:20160917T121500
DURATION:PT0H75M0S
SUMMARY:#3 Lott & Esteves  vs #5 Kren & Sterwerf
DESCRIPTION:Coed 8 & 9 | Soccer\nEAST BUTLER COUNTY YMCA\n
URL;VALUE=URI:https://ygametime.com/branch/eastbutler/sports/2016-fall-soccer/2791/?utm_medium=calendar&utm_source=team_cal&utm_content=league_url#game-67574
LOCATION:Big Field Red
BEGIN:VALARM
TRIGGER:-P2H
ACTION:DISPLAY
DESCRIPTION:#3 Lott & Esteves  vs #5 Kren & Sterwerf
END:VALARM
END:VEVENT
BEGIN:VEVENT
UID:eastbutler-67576@ygametime.com
DTSTAMP:20160924T150000Z
DTSTART;TZID=America/New_York:20160924T110000
DURATION:PT0H75M0S
SUMMARY:#6 Kirk Gallier  vs #5 Kren & Sterwerf
DESCRIPTION:Coed 8 & 9 | Soccer\nEAST BUTLER COUNTY YMCA\n
URL;VALUE=URI:https://ygametime.com/branch/eastbutler/sports/2016-fall-soccer/2791/?utm_medium=calendar&utm_source=team_cal&utm_content=league_url#game-67576
LOCATION:Big Field Red
BEGIN:VALARM
TRIGGER:-P2H
ACTION:DISPLAY
DESCRIPTION:#6 Kirk Gallier  vs #5 Kren & Sterwerf
END:VALARM
END:VEVENT
BEGIN:VEVENT
UID:eastbutler-67580@ygametime.com
DTSTAMP:20161001T161500Z
DTSTART;TZID=America/New_York:20161001T121500
DURATION:PT0H75M0S
SUMMARY:#5 Kren & Sterwerf vs #2 Nunley & Sam Wood
DESCRIPTION:Coed 8 & 9 | Soccer\nEAST BUTLER COUNTY YMCA\n
URL;VALUE=URI:https://ygametime.com/branch/eastbutler/sports/2016-fall-soccer/2791/?utm_medium=calendar&utm_source=team_cal&utm_content=league_url#game-67580
LOCATION:Big Field Red
BEGIN:VALARM
TRIGGER:-P2H
ACTION:DISPLAY
DESCRIPTION:#5 Kren & Sterwerf vs #2 Nunley & Sam Wood
END:VALARM
END:VEVENT
BEGIN:VEVENT
UID:eastbutler-67582@ygametime.com
DTSTAMP:20161008T150000Z
DTSTART;TZID=America/New_York:20161008T110000
DURATION:PT0H75M0S
SUMMARY:#1 Vasconcelos  vs #5 Kren & Sterwerf
DESCRIPTION:Coed 8 & 9 | Soccer\nEAST BUTLER COUNTY YMCA\n
URL;VALUE=URI:https://ygametime.com/branch/eastbutler/sports/2016-fall-soccer/2791/?utm_medium=calendar&utm_source=team_cal&utm_content=league_url#game-67582
LOCATION:Big Field Red
BEGIN:VALARM
TRIGGER:-P2H
ACTION:DISPLAY
DESCRIPTION:#1 Vasconcelos  vs #5 Kren & Sterwerf
END:VALARM
END:VEVENT
BEGIN:VEVENT
UID:eastbutler-67587@ygametime.com
DTSTAMP:20161015T173000Z
DTSTART;TZID=America/New_York:20161015T133000
DURATION:PT0H75M0S
SUMMARY:#3 Lott & Esteves  vs #5 Kren & Sterwerf
DESCRIPTION:Coed 8 & 9 | Soccer\nEAST BUTLER COUNTY YMCA\n
URL;VALUE=URI:https://ygametime.com/branch/eastbutler/sports/2016-fall-soccer/2791/?utm_medium=calendar&utm_source=team_cal&utm_content=league_url#game-67587
LOCATION:Big Field Red
BEGIN:VALARM
TRIGGER:-P2H
ACTION:DISPLAY
DESCRIPTION:#3 Lott & Esteves  vs #5 Kren & Sterwerf
END:VALARM
END:VEVENT
BEGIN:VEVENT
UID:eastbutler-67568@ygametime.com
DTSTAMP:20161022T161500Z
DTSTART;TZID=America/New_York:20161022T121500
DURATION:PT0H75M0S
SUMMARY:#1 Vasconcelos  vs #5 Kren & Sterwerf
DESCRIPTION:Coed 8 & 9 | Soccer\nEAST BUTLER COUNTY YMCA\n
URL;VALUE=URI:https://ygametime.com/branch/eastbutler/sports/2016-fall-soccer/2791/?utm_medium=calendar&utm_source=team_cal&utm_content=league_url#game-67568
LOCATION:Big Field Red
BEGIN:VALARM
TRIGGER:-P2H
ACTION:DISPLAY
DESCRIPTION:#1 Vasconcelos  vs #5 Kren & Sterwerf
END:VALARM
END:VEVENT
END:VCALENDAR

