BEGIN:VCALENDAR
VERSION:2.0
PRODID:-//YGAMETIME.com//YGT iCal Creator//EN
METHOD:PUBLISH
X-PUBLISHED-TTL:PT6H
REFRESH-INTERVAL;VALUE=DURATION:PT6H
CALSCALE:GREGORIAN
X-WR-CALNAME:YGAMETIME CALENDAR
BEGIN:VTIMEZONE
TZID:America/New_York
X-LIC-LOCATION:America/New_York
BEGIN:DAYLIGHT
TZOFFSETFROM:-0500
TZOFFSETTO:-0400
TZNAME:EDT
DTSTART:19700308T020000
RRULE:FREQ=YEARLY;BYMONTH=3;BYDAY=2SU
END:DAYLIGHT
BEGIN:STANDARD
TZOFFSETFROM:-0400
TZOFFSETTO:-0500
TZNAME:EST
DTSTART:19701101T020000
RRULE:FREQ=YEARLY;BYMONTH=11;BYDAY=1SU
END:STANDARD
END:VTIMEZONE
BEGIN:VEVENT
UID:eastbutler-67493@ygametime.com
DTSTAMP:20160827T140000Z
DTSTART;TZID=America/New_York:20160827T100000
DURATION:PT0H60M0S
SUMMARY:#1 Paul Davidson & Ryan Schwartz vs #7 VanGaasbeek & Daniels
DESCRIPTION:Coed 6 & 7 | Soccer\nEAST BUTLER COUNTY YMCA\n
URL;VALUE=URI:https://ygametime.com/branch/eastbutler/sports/2016-fall-soccer/2790/?utm_medium=calendar&utm_source=team_cal&utm_content=league_url#game-67493
LOCATION:Fairfield East Elementary Soccer  6&7 Field #4 Blue
BEGIN:VALARM
TRIGGER:-P2H
ACTION:DISPLAY
DESCRIPTION:#1 Paul Davidson & Ryan Schwartz vs #7 VanGaasbeek & Daniels
END:VALARM
END:VEVENT
BEGIN:VEVENT
UID:eastbutler-67508@ygametime.com
DTSTAMP:20160910T170000Z
DTSTART;TZID=America/New_York:20160910T130000
DURATION:PT0H60M0S
SUMMARY:#9 Jeremy Morris  vs #1 Paul Davidson & Ryan Schwartz
DESCRIPTION:Coed 6 & 7 | Soccer\nEAST BUTLER COUNTY YMCA\n
URL;VALUE=URI:https://ygametime.com/branch/eastbutler/sports/2016-fall-soccer/2790/?utm_medium=calendar&utm_source=team_cal&utm_content=league_url#game-67508
LOCATION:Fairfield East Elementary Soccer  6&7 Field #4 Blue
BEGIN:VALARM
TRIGGER:-P2H
ACTION:DISPLAY
DESCRIPTION:#9 Jeremy Morris  vs #1 Paul Davidson & Ryan Schwartz
END:VALARM
END:VEVENT
BEGIN:VEVENT
UID:eastbutler-67511@ygametime.com
DTSTAMP:20160917T140000Z
DTSTART;TZID=America/New_York:20160917T100000
DURATION:PT0H60M0S
SUMMARY:#1 Paul Davidson & Ryan Schwartz vs #10 Eric Lott
DESCRIPTION:Coed 6 & 7 | Soccer\nEAST BUTLER COUNTY YMCA\n
URL;VALUE=URI:https://ygametime.com/branch/eastbutler/sports/2016-fall-soccer/2790/?utm_medium=calendar&utm_source=team_cal&utm_content=league_url#game-67511
LOCATION:Fairfield East Elementary Soccer  6&7 Field #4 Blue
BEGIN:VALARM
TRIGGER:-P2H
ACTION:DISPLAY
DESCRIPTION:#1 Paul Davidson & Ryan Schwartz vs #10 Eric Lott
END:VALARM
END:VEVENT
BEGIN:VEVENT
UID:eastbutler-67518@ygametime.com
DTSTAMP:20160924T150000Z
DTSTART;TZID=America/New_York:20160924T110000
DURATION:PT0H60M0S
SUMMARY:#11 Strano vs #1 Paul Davidson & Ryan Schwartz
DESCRIPTION:Coed 6 & 7 | Soccer\nEAST BUTLER COUNTY YMCA\n
URL;VALUE=URI:https://ygametime.com/branch/eastbutler/sports/2016-fall-soccer/2790/?utm_medium=calendar&utm_source=team_cal&utm_content=league_url#game-67518
LOCATION:Fairfield East Elementary Soccer  6&7 Field #4 Blue
BEGIN:VALARM
TRIGGER:-P2H
ACTION:DISPLAY
DESCRIPTION:#11 Strano vs #1 Paul Davidson & Ryan Schwartz
END:VALARM
END:VEVENT
BEGIN:VEVENT
UID:eastbutler-67526@ygametime.com
DTSTAMP:20161001T160000Z
DTSTART;TZID=America/New_York:20161001T120000
DURATION:PT0H60M0S
SUMMARY:#4 Shannon Zoz & Jodi Fritsch vs #1 Paul Davidson & Ryan Schwartz
DESCRIPTION:Coed 6 & 7 | Soccer\nEAST BUTLER COUNTY YMCA\n
URL;VALUE=URI:https://ygametime.com/branch/eastbutler/sports/2016-fall-soccer/2790/?utm_medium=calendar&utm_source=team_cal&utm_content=league_url#game-67526
LOCATION:Fairfield East Elementary Soccer  6&7 Field #4 Blue
BEGIN:VALARM
TRIGGER:-P2H
ACTION:DISPLAY
DESCRIPTION:#4 Shannon Zoz & Jodi Fritsch vs #1 Paul Davidson & Ryan Schwartz
END:VALARM
END:VEVENT
BEGIN:VEVENT
UID:eastbutler-67531@ygametime.com
DTSTAMP:20161008T160000Z
DTSTART;TZID=America/New_York:20161008T120000
DURATION:PT0H60M0S
SUMMARY:#1 Paul Davidson & Ryan Schwartz vs #6 Sam Wood
DESCRIPTION:Coed 6 & 7 | Soccer\nEAST BUTLER COUNTY YMCA\n
URL;VALUE=URI:https://ygametime.com/branch/eastbutler/sports/2016-fall-soccer/2790/?utm_medium=calendar&utm_source=team_cal&utm_content=league_url#game-67531
LOCATION:Fairfield East Elementary Soccer  6&7 Field #4 Blue
BEGIN:VALARM
TRIGGER:-P2H
ACTION:DISPLAY
DESCRIPTION:#1 Paul Davidson & Ryan Schwartz vs #6 Sam Wood
END:VALARM
END:VEVENT
BEGIN:VEVENT
UID:eastbutler-67536@ygametime.com
DTSTAMP:20161015T140000Z
DTSTART;TZID=America/New_York:20161015T100000
DURATION:PT0H60M0S
SUMMARY:#1 Paul Davidson & Ryan Schwartz vs #5 Jill French 
DESCRIPTION:Coed 6 & 7 | Soccer\nEAST BUTLER COUNTY YMCA\n
URL;VALUE=URI:https://ygametime.com/branch/eastbutler/sports/2016-fall-soccer/2790/?utm_medium=calendar&utm_source=team_cal&utm_content=league_url#game-67536
LOCATION:Fairfield East Elementary Soccer  6&7 Field #4 Blue
BEGIN:VALARM
TRIGGER:-P2H
ACTION:DISPLAY
DESCRIPTION:#1 Paul Davidson & Ryan Schwartz vs #5 Jill French 
END:VALARM
END:VEVENT
BEGIN:VEVENT
UID:eastbutler-67503@ygametime.com
DTSTAMP:20161022T180000Z
DTSTART;TZID=America/New_York:20161022T140000
DURATION:PT0H60M0S
SUMMARY:#1 Paul Davidson & Ryan Schwartz vs #8 Eric Boafo
DESCRIPTION:Coed 6 & 7 | Soccer\nEAST BUTLER COUNTY YMCA\n
URL;VALUE=URI:https://ygametime.com/branch/eastbutler/sports/2016-fall-soccer/2790/?utm_medium=calendar&utm_source=team_cal&utm_content=league_url#game-67503
LOCATION:Fairfield East Elementary Soccer  6&7 Field #4 Blue
BEGIN:VALARM
TRIGGER:-P2H
ACTION:DISPLAY
DESCRIPTION:#1 Paul Davidson & Ryan Schwartz vs #8 Eric Boafo
END:VALARM
END:VEVENT
END:VCALENDAR

