BEGIN:VCALENDAR
VERSION:2.0
PRODID:-//YGAMETIME.com//YGT iCal Creator//EN
METHOD:PUBLISH
X-PUBLISHED-TTL:PT6H
REFRESH-INTERVAL;VALUE=DURATION:PT6H
CALSCALE:GREGORIAN
X-WR-CALNAME:YGAMETIME CALENDAR
BEGIN:VTIMEZONE
TZID:America/New_York
X-LIC-LOCATION:America/New_York
BEGIN:DAYLIGHT
TZOFFSETFROM:-0500
TZOFFSETTO:-0400
TZNAME:EDT
DTSTART:19700308T020000
RRULE:FREQ=YEARLY;BYMONTH=3;BYDAY=2SU
END:DAYLIGHT
BEGIN:STANDARD
TZOFFSETFROM:-0400
TZOFFSETTO:-0500
TZNAME:EST
DTSTART:19701101T020000
RRULE:FREQ=YEARLY;BYMONTH=11;BYDAY=1SU
END:STANDARD
END:VTIMEZONE
BEGIN:VEVENT
UID:eastbutler-67492@ygametime.com
DTSTAMP:20160827T130000Z
DTSTART;TZID=America/New_York:20160827T090000
DURATION:PT0H60M0S
SUMMARY:#2 Pat Naylor & Brad Lantis vs #8 Eric Boafo
DESCRIPTION:Coed 6 & 7 | Soccer\nEAST BUTLER COUNTY YMCA\n
URL;VALUE=URI:https://ygametime.com/branch/eastbutler/sports/2016-fall-soccer/2790/?utm_medium=calendar&utm_source=team_cal&utm_content=league_url#game-67492
LOCATION:Fairfield East Elementary Soccer  6&7 Field #4 Blue
BEGIN:VALARM
TRIGGER:-P2H
ACTION:DISPLAY
DESCRIPTION:#2 Pat Naylor & Brad Lantis vs #8 Eric Boafo
END:VALARM
END:VEVENT
BEGIN:VEVENT
UID:eastbutler-67505@ygametime.com
DTSTAMP:20160910T140000Z
DTSTART;TZID=America/New_York:20160910T100000
DURATION:PT0H60M0S
SUMMARY:Fitton vs #2 Pat Naylor & Brad Lantis
DESCRIPTION:Coed 6 & 7 | Soccer\nEAST BUTLER COUNTY YMCA\n
URL;VALUE=URI:https://ygametime.com/branch/eastbutler/sports/2016-fall-soccer/2790/?utm_medium=calendar&utm_source=team_cal&utm_content=league_url#game-67505
LOCATION:Fairfield East Elementary Soccer  6&7 Field #4 Blue
BEGIN:VALARM
TRIGGER:-P2H
ACTION:DISPLAY
DESCRIPTION:Fitton vs #2 Pat Naylor & Brad Lantis
END:VALARM
END:VEVENT
BEGIN:VEVENT
UID:eastbutler-67514@ygametime.com
DTSTAMP:20160917T170000Z
DTSTART;TZID=America/New_York:20160917T130000
DURATION:PT0H60M0S
SUMMARY:#2 Pat Naylor & Brad Lantis vs #5 Jill French 
DESCRIPTION:Coed 6 & 7 | Soccer\nEAST BUTLER COUNTY YMCA\n
URL;VALUE=URI:https://ygametime.com/branch/eastbutler/sports/2016-fall-soccer/2790/?utm_medium=calendar&utm_source=team_cal&utm_content=league_url#game-67514
LOCATION:Fairfield East Elementary Soccer  6&7 Field #4 Blue
BEGIN:VALARM
TRIGGER:-P2H
ACTION:DISPLAY
DESCRIPTION:#2 Pat Naylor & Brad Lantis vs #5 Jill French 
END:VALARM
END:VEVENT
BEGIN:VEVENT
UID:eastbutler-67517@ygametime.com
DTSTAMP:20160924T140000Z
DTSTART;TZID=America/New_York:20160924T100000
DURATION:PT0H60M0S
SUMMARY:#3 Daren King & Darius Johnson vs #2 Pat Naylor & Brad Lantis
DESCRIPTION:Coed 6 & 7 | Soccer\nEAST BUTLER COUNTY YMCA\n
URL;VALUE=URI:https://ygametime.com/branch/eastbutler/sports/2016-fall-soccer/2790/?utm_medium=calendar&utm_source=team_cal&utm_content=league_url#game-67517
LOCATION:Fairfield East Elementary Soccer  6&7 Field #4 Blue
BEGIN:VALARM
TRIGGER:-P2H
ACTION:DISPLAY
DESCRIPTION:#3 Daren King & Darius Johnson vs #2 Pat Naylor & Brad Lantis
END:VALARM
END:VEVENT
BEGIN:VEVENT
UID:eastbutler-67525@ygametime.com
DTSTAMP:20161001T150000Z
DTSTART;TZID=America/New_York:20161001T110000
DURATION:PT0H60M0S
SUMMARY:#2 Pat Naylor & Brad Lantis vs #5 Jill French 
DESCRIPTION:Coed 6 & 7 | Soccer\nEAST BUTLER COUNTY YMCA\n
URL;VALUE=URI:https://ygametime.com/branch/eastbutler/sports/2016-fall-soccer/2790/?utm_medium=calendar&utm_source=team_cal&utm_content=league_url#game-67525
LOCATION:Fairfield East Elementary Soccer  6&7 Field #4 Blue
BEGIN:VALARM
TRIGGER:-P2H
ACTION:DISPLAY
DESCRIPTION:#2 Pat Naylor & Brad Lantis vs #5 Jill French 
END:VALARM
END:VEVENT
BEGIN:VEVENT
UID:eastbutler-67532@ygametime.com
DTSTAMP:20161008T170000Z
DTSTART;TZID=America/New_York:20161008T130000
DURATION:PT0H60M0S
SUMMARY:#9 Jeremy Morris  vs #2 Pat Naylor & Brad Lantis
DESCRIPTION:Coed 6 & 7 | Soccer\nEAST BUTLER COUNTY YMCA\n
URL;VALUE=URI:https://ygametime.com/branch/eastbutler/sports/2016-fall-soccer/2790/?utm_medium=calendar&utm_source=team_cal&utm_content=league_url#game-67532
LOCATION:Fairfield East Elementary Soccer  6&7 Field #4 Blue
BEGIN:VALARM
TRIGGER:-P2H
ACTION:DISPLAY
DESCRIPTION:#9 Jeremy Morris  vs #2 Pat Naylor & Brad Lantis
END:VALARM
END:VEVENT
BEGIN:VEVENT
UID:eastbutler-67539@ygametime.com
DTSTAMP:20161015T150000Z
DTSTART;TZID=America/New_York:20161015T110000
DURATION:PT0H60M0S
SUMMARY:#2 Pat Naylor & Brad Lantis vs #11 Strano
DESCRIPTION:Coed 6 & 7 | Soccer\nEAST BUTLER COUNTY YMCA\n
URL;VALUE=URI:https://ygametime.com/branch/eastbutler/sports/2016-fall-soccer/2790/?utm_medium=calendar&utm_source=team_cal&utm_content=league_url#game-67539
LOCATION:Fairfield East Elementary Soccer  6&7 Field #4 Blue
BEGIN:VALARM
TRIGGER:-P2H
ACTION:DISPLAY
DESCRIPTION:#2 Pat Naylor & Brad Lantis vs #11 Strano
END:VALARM
END:VEVENT
BEGIN:VEVENT
UID:eastbutler-67499@ygametime.com
DTSTAMP:20161022T140000Z
DTSTART;TZID=America/New_York:20161022T100000
DURATION:PT0H60M0S
SUMMARY:#2 Pat Naylor & Brad Lantis vs #10 Eric Lott
DESCRIPTION:Coed 6 & 7 | Soccer\nEAST BUTLER COUNTY YMCA\n
URL;VALUE=URI:https://ygametime.com/branch/eastbutler/sports/2016-fall-soccer/2790/?utm_medium=calendar&utm_source=team_cal&utm_content=league_url#game-67499
LOCATION:Fairfield East Elementary Soccer  6&7 Field #4 Blue
BEGIN:VALARM
TRIGGER:-P2H
ACTION:DISPLAY
DESCRIPTION:#2 Pat Naylor & Brad Lantis vs #10 Eric Lott
END:VALARM
END:VEVENT
END:VCALENDAR

