BEGIN:VCALENDAR
VERSION:2.0
PRODID:-//YGAMETIME.com//YGT iCal Creator//EN
METHOD:PUBLISH
X-PUBLISHED-TTL:PT6H
REFRESH-INTERVAL;VALUE=DURATION:PT6H
CALSCALE:GREGORIAN
X-WR-CALNAME:YGAMETIME CALENDAR
BEGIN:VTIMEZONE
TZID:America/New_York
X-LIC-LOCATION:America/New_York
BEGIN:DAYLIGHT
TZOFFSETFROM:-0500
TZOFFSETTO:-0400
TZNAME:EDT
DTSTART:19700308T020000
RRULE:FREQ=YEARLY;BYMONTH=3;BYDAY=2SU
END:DAYLIGHT
BEGIN:STANDARD
TZOFFSETFROM:-0400
TZOFFSETTO:-0500
TZNAME:EST
DTSTART:19701101T020000
RRULE:FREQ=YEARLY;BYMONTH=11;BYDAY=1SU
END:STANDARD
END:VTIMEZONE
BEGIN:VEVENT
UID:eastbutler-67495@ygametime.com
DTSTAMP:20160827T160000Z
DTSTART;TZID=America/New_York:20160827T120000
DURATION:PT0H60M0S
SUMMARY:#3 Daren King & Darius Johnson vs #9 Jeremy Morris 
DESCRIPTION:Coed 6 & 7 | Soccer\nEAST BUTLER COUNTY YMCA\n
URL;VALUE=URI:https://ygametime.com/branch/eastbutler/sports/2016-fall-soccer/2790/?utm_medium=calendar&utm_source=team_cal&utm_content=league_url#game-67495
LOCATION:Fairfield East Elementary Soccer  6&7 Field #4 Blue
BEGIN:VALARM
TRIGGER:-P2H
ACTION:DISPLAY
DESCRIPTION:#3 Daren King & Darius Johnson vs #9 Jeremy Morris 
END:VALARM
END:VEVENT
BEGIN:VEVENT
UID:eastbutler-67506@ygametime.com
DTSTAMP:20160910T150000Z
DTSTART;TZID=America/New_York:20160910T110000
DURATION:PT0H60M0S
SUMMARY:#3 Daren King & Darius Johnson vs #6 Sam Wood
DESCRIPTION:Coed 6 & 7 | Soccer\nEAST BUTLER COUNTY YMCA\n
URL;VALUE=URI:https://ygametime.com/branch/eastbutler/sports/2016-fall-soccer/2790/?utm_medium=calendar&utm_source=team_cal&utm_content=league_url#game-67506
LOCATION:Fairfield East Elementary Soccer  6&7 Field #4 Blue
BEGIN:VALARM
TRIGGER:-P2H
ACTION:DISPLAY
DESCRIPTION:#3 Daren King & Darius Johnson vs #6 Sam Wood
END:VALARM
END:VEVENT
BEGIN:VEVENT
UID:eastbutler-67512@ygametime.com
DTSTAMP:20160917T150000Z
DTSTART;TZID=America/New_York:20160917T110000
DURATION:PT0H60M0S
SUMMARY:#4 Shannon Zoz & Jodi Fritsch vs #3 Daren King & Darius Johnson
DESCRIPTION:Coed 6 & 7 | Soccer\nEAST BUTLER COUNTY YMCA\n
URL;VALUE=URI:https://ygametime.com/branch/eastbutler/sports/2016-fall-soccer/2790/?utm_medium=calendar&utm_source=team_cal&utm_content=league_url#game-67512
LOCATION:Fairfield East Elementary Soccer  6&7 Field #4 Blue
BEGIN:VALARM
TRIGGER:-P2H
ACTION:DISPLAY
DESCRIPTION:#4 Shannon Zoz & Jodi Fritsch vs #3 Daren King & Darius Johnson
END:VALARM
END:VEVENT
BEGIN:VEVENT
UID:eastbutler-67517@ygametime.com
DTSTAMP:20160924T140000Z
DTSTART;TZID=America/New_York:20160924T100000
DURATION:PT0H60M0S
SUMMARY:#3 Daren King & Darius Johnson vs #2 Pat Naylor & Brad Lantis
DESCRIPTION:Coed 6 & 7 | Soccer\nEAST BUTLER COUNTY YMCA\n
URL;VALUE=URI:https://ygametime.com/branch/eastbutler/sports/2016-fall-soccer/2790/?utm_medium=calendar&utm_source=team_cal&utm_content=league_url#game-67517
LOCATION:Fairfield East Elementary Soccer  6&7 Field #4 Blue
BEGIN:VALARM
TRIGGER:-P2H
ACTION:DISPLAY
DESCRIPTION:#3 Daren King & Darius Johnson vs #2 Pat Naylor & Brad Lantis
END:VALARM
END:VEVENT
BEGIN:VEVENT
UID:eastbutler-67527@ygametime.com
DTSTAMP:20161001T170000Z
DTSTART;TZID=America/New_York:20161001T130000
DURATION:PT0H60M0S
SUMMARY:#8 Eric Boafo vs #3 Daren King & Darius Johnson
DESCRIPTION:Coed 6 & 7 | Soccer\nEAST BUTLER COUNTY YMCA\n
URL;VALUE=URI:https://ygametime.com/branch/eastbutler/sports/2016-fall-soccer/2790/?utm_medium=calendar&utm_source=team_cal&utm_content=league_url#game-67527
LOCATION:Fairfield East Elementary Soccer  6&7 Field #4 Blue
BEGIN:VALARM
TRIGGER:-P2H
ACTION:DISPLAY
DESCRIPTION:#8 Eric Boafo vs #3 Daren King & Darius Johnson
END:VALARM
END:VEVENT
BEGIN:VEVENT
UID:eastbutler-67528@ygametime.com
DTSTAMP:20161008T130000Z
DTSTART;TZID=America/New_York:20161008T090000
DURATION:PT0H60M0S
SUMMARY:#10 Eric Lott vs #3 Daren King & Darius Johnson
DESCRIPTION:Coed 6 & 7 | Soccer\nEAST BUTLER COUNTY YMCA\n
URL;VALUE=URI:https://ygametime.com/branch/eastbutler/sports/2016-fall-soccer/2790/?utm_medium=calendar&utm_source=team_cal&utm_content=league_url#game-67528
LOCATION:Fairfield East Elementary Soccer  6&7 Field #4 Blue
BEGIN:VALARM
TRIGGER:-P2H
ACTION:DISPLAY
DESCRIPTION:#10 Eric Lott vs #3 Daren King & Darius Johnson
END:VALARM
END:VEVENT
BEGIN:VEVENT
UID:eastbutler-67535@ygametime.com
DTSTAMP:20161015T150000Z
DTSTART;TZID=America/New_York:20161015T110000
DURATION:PT0H60M0S
SUMMARY:Fitton vs #3 Daren King & Darius Johnson
DESCRIPTION:Coed 6 & 7 | Soccer\nEAST BUTLER COUNTY YMCA\n
URL;VALUE=URI:https://ygametime.com/branch/eastbutler/sports/2016-fall-soccer/2790/?utm_medium=calendar&utm_source=team_cal&utm_content=league_url#game-67535
LOCATION:Miami Hamilton
BEGIN:VALARM
TRIGGER:-P2H
ACTION:DISPLAY
DESCRIPTION:Fitton vs #3 Daren King & Darius Johnson
END:VALARM
END:VEVENT
BEGIN:VEVENT
UID:eastbutler-67502@ygametime.com
DTSTAMP:20161022T170000Z
DTSTART;TZID=America/New_York:20161022T130000
DURATION:PT0H60M0S
SUMMARY:#11 Strano vs #3 Daren King & Darius Johnson
DESCRIPTION:Coed 6 & 7 | Soccer\nEAST BUTLER COUNTY YMCA\n
URL;VALUE=URI:https://ygametime.com/branch/eastbutler/sports/2016-fall-soccer/2790/?utm_medium=calendar&utm_source=team_cal&utm_content=league_url#game-67502
LOCATION:Fairfield East Elementary Soccer  6&7 Field #4 Blue
BEGIN:VALARM
TRIGGER:-P2H
ACTION:DISPLAY
DESCRIPTION:#11 Strano vs #3 Daren King & Darius Johnson
END:VALARM
END:VEVENT
END:VCALENDAR

