BEGIN:VCALENDAR
VERSION:2.0
PRODID:-//YGAMETIME.com//YGT iCal Creator//EN
METHOD:PUBLISH
X-PUBLISHED-TTL:PT6H
REFRESH-INTERVAL;VALUE=DURATION:PT6H
CALSCALE:GREGORIAN
X-WR-CALNAME:YGAMETIME CALENDAR
BEGIN:VTIMEZONE
TZID:America/New_York
X-LIC-LOCATION:America/New_York
BEGIN:DAYLIGHT
TZOFFSETFROM:-0500
TZOFFSETTO:-0400
TZNAME:EDT
DTSTART:19700308T020000
RRULE:FREQ=YEARLY;BYMONTH=3;BYDAY=2SU
END:DAYLIGHT
BEGIN:STANDARD
TZOFFSETFROM:-0400
TZOFFSETTO:-0500
TZNAME:EST
DTSTART:19701101T020000
RRULE:FREQ=YEARLY;BYMONTH=11;BYDAY=1SU
END:STANDARD
END:VTIMEZONE
BEGIN:VEVENT
UID:eastbutler-67495@ygametime.com
DTSTAMP:20160827T160000Z
DTSTART;TZID=America/New_York:20160827T120000
DURATION:PT0H60M0S
SUMMARY:#3 Daren King & Darius Johnson vs #9 Jeremy Morris 
DESCRIPTION:Coed 6 & 7 | Soccer\nEAST BUTLER COUNTY YMCA\n
URL;VALUE=URI:https://ygametime.com/branch/eastbutler/sports/2016-fall-soccer/2790/?utm_medium=calendar&utm_source=team_cal&utm_content=league_url#game-67495
LOCATION:Fairfield East Elementary Soccer  6&7 Field #4 Blue
BEGIN:VALARM
TRIGGER:-P2H
ACTION:DISPLAY
DESCRIPTION:#3 Daren King & Darius Johnson vs #9 Jeremy Morris 
END:VALARM
END:VEVENT
BEGIN:VEVENT
UID:eastbutler-67508@ygametime.com
DTSTAMP:20160910T170000Z
DTSTART;TZID=America/New_York:20160910T130000
DURATION:PT0H60M0S
SUMMARY:#9 Jeremy Morris  vs #1 Paul Davidson & Ryan Schwartz
DESCRIPTION:Coed 6 & 7 | Soccer\nEAST BUTLER COUNTY YMCA\n
URL;VALUE=URI:https://ygametime.com/branch/eastbutler/sports/2016-fall-soccer/2790/?utm_medium=calendar&utm_source=team_cal&utm_content=league_url#game-67508
LOCATION:Fairfield East Elementary Soccer  6&7 Field #4 Blue
BEGIN:VALARM
TRIGGER:-P2H
ACTION:DISPLAY
DESCRIPTION:#9 Jeremy Morris  vs #1 Paul Davidson & Ryan Schwartz
END:VALARM
END:VEVENT
BEGIN:VEVENT
UID:eastbutler-67513@ygametime.com
DTSTAMP:20160917T160000Z
DTSTART;TZID=America/New_York:20160917T120000
DURATION:PT0H60M0S
SUMMARY:#11 Strano vs #9 Jeremy Morris 
DESCRIPTION:Coed 6 & 7 | Soccer\nEAST BUTLER COUNTY YMCA\n
URL;VALUE=URI:https://ygametime.com/branch/eastbutler/sports/2016-fall-soccer/2790/?utm_medium=calendar&utm_source=team_cal&utm_content=league_url#game-67513
LOCATION:Fairfield East Elementary Soccer  6&7 Field #4 Blue
BEGIN:VALARM
TRIGGER:-P2H
ACTION:DISPLAY
DESCRIPTION:#11 Strano vs #9 Jeremy Morris 
END:VALARM
END:VEVENT
BEGIN:VEVENT
UID:eastbutler-67516@ygametime.com
DTSTAMP:20160924T130000Z
DTSTART;TZID=America/New_York:20160924T090000
DURATION:PT0H60M0S
SUMMARY:#6 Sam Wood vs #9 Jeremy Morris 
DESCRIPTION:Coed 6 & 7 | Soccer\nEAST BUTLER COUNTY YMCA\n
URL;VALUE=URI:https://ygametime.com/branch/eastbutler/sports/2016-fall-soccer/2790/?utm_medium=calendar&utm_source=team_cal&utm_content=league_url#game-67516
LOCATION:Fairfield East Elementary Soccer  6&7 Field #4 Blue
BEGIN:VALARM
TRIGGER:-P2H
ACTION:DISPLAY
DESCRIPTION:#6 Sam Wood vs #9 Jeremy Morris 
END:VALARM
END:VEVENT
BEGIN:VEVENT
UID:eastbutler-67523@ygametime.com
DTSTAMP:20161001T150000Z
DTSTART;TZID=America/New_York:20161001T110000
DURATION:PT0H60M0S
SUMMARY:#9 Jeremy Morris  vs Fitton
DESCRIPTION:Coed 6 & 7 | Soccer\nEAST BUTLER COUNTY YMCA\n
URL;VALUE=URI:https://ygametime.com/branch/eastbutler/sports/2016-fall-soccer/2790/?utm_medium=calendar&utm_source=team_cal&utm_content=league_url#game-67523
LOCATION:Miami Hamilton
BEGIN:VALARM
TRIGGER:-P2H
ACTION:DISPLAY
DESCRIPTION:#9 Jeremy Morris  vs Fitton
END:VALARM
END:VEVENT
BEGIN:VEVENT
UID:eastbutler-67532@ygametime.com
DTSTAMP:20161008T170000Z
DTSTART;TZID=America/New_York:20161008T130000
DURATION:PT0H60M0S
SUMMARY:#9 Jeremy Morris  vs #2 Pat Naylor & Brad Lantis
DESCRIPTION:Coed 6 & 7 | Soccer\nEAST BUTLER COUNTY YMCA\n
URL;VALUE=URI:https://ygametime.com/branch/eastbutler/sports/2016-fall-soccer/2790/?utm_medium=calendar&utm_source=team_cal&utm_content=league_url#game-67532
LOCATION:Fairfield East Elementary Soccer  6&7 Field #4 Blue
BEGIN:VALARM
TRIGGER:-P2H
ACTION:DISPLAY
DESCRIPTION:#9 Jeremy Morris  vs #2 Pat Naylor & Brad Lantis
END:VALARM
END:VEVENT
BEGIN:VEVENT
UID:eastbutler-67538@ygametime.com
DTSTAMP:20161015T170000Z
DTSTART;TZID=America/New_York:20161015T130000
DURATION:PT0H60M0S
SUMMARY:#8 Eric Boafo vs #9 Jeremy Morris 
DESCRIPTION:Coed 6 & 7 | Soccer\nEAST BUTLER COUNTY YMCA\n
URL;VALUE=URI:https://ygametime.com/branch/eastbutler/sports/2016-fall-soccer/2790/?utm_medium=calendar&utm_source=team_cal&utm_content=league_url#game-67538
LOCATION:Fairfield East Elementary Soccer  6&7 Field #4 Blue
BEGIN:VALARM
TRIGGER:-P2H
ACTION:DISPLAY
DESCRIPTION:#8 Eric Boafo vs #9 Jeremy Morris 
END:VALARM
END:VEVENT
BEGIN:VEVENT
UID:eastbutler-67498@ygametime.com
DTSTAMP:20161022T130000Z
DTSTART;TZID=America/New_York:20161022T090000
DURATION:PT0H60M0S
SUMMARY:#9 Jeremy Morris  vs #7 VanGaasbeek & Daniels
DESCRIPTION:Coed 6 & 7 | Soccer\nEAST BUTLER COUNTY YMCA\n
URL;VALUE=URI:https://ygametime.com/branch/eastbutler/sports/2016-fall-soccer/2790/?utm_medium=calendar&utm_source=team_cal&utm_content=league_url#game-67498
LOCATION:Fairfield East Elementary Soccer  6&7 Field #4 Blue
BEGIN:VALARM
TRIGGER:-P2H
ACTION:DISPLAY
DESCRIPTION:#9 Jeremy Morris  vs #7 VanGaasbeek & Daniels
END:VALARM
END:VEVENT
END:VCALENDAR

