BEGIN:VCALENDAR
VERSION:2.0
PRODID:-//YGAMETIME.com//YGT iCal Creator//EN
METHOD:PUBLISH
X-PUBLISHED-TTL:PT6H
REFRESH-INTERVAL;VALUE=DURATION:PT6H
CALSCALE:GREGORIAN
X-WR-CALNAME:YGAMETIME CALENDAR
BEGIN:VTIMEZONE
TZID:America/New_York
X-LIC-LOCATION:America/New_York
BEGIN:DAYLIGHT
TZOFFSETFROM:-0500
TZOFFSETTO:-0400
TZNAME:EDT
DTSTART:19700308T020000
RRULE:FREQ=YEARLY;BYMONTH=3;BYDAY=2SU
END:DAYLIGHT
BEGIN:STANDARD
TZOFFSETFROM:-0400
TZOFFSETTO:-0500
TZNAME:EST
DTSTART:19701101T020000
RRULE:FREQ=YEARLY;BYMONTH=11;BYDAY=1SU
END:STANDARD
END:VTIMEZONE
BEGIN:VEVENT
UID:eastbutler-67494@ygametime.com
DTSTAMP:20160827T150000Z
DTSTART;TZID=America/New_York:20160827T110000
DURATION:PT0H60M0S
SUMMARY:#10 Eric Lott vs #4 Shannon Zoz & Jodi Fritsch
DESCRIPTION:Coed 6 & 7 | Soccer\nEAST BUTLER COUNTY YMCA\n
URL;VALUE=URI:https://ygametime.com/branch/eastbutler/sports/2016-fall-soccer/2790/?utm_medium=calendar&utm_source=team_cal&utm_content=league_url#game-67494
LOCATION:Fairfield East Elementary Soccer  6&7 Field #4 Blue
BEGIN:VALARM
TRIGGER:-P2H
ACTION:DISPLAY
DESCRIPTION:#10 Eric Lott vs #4 Shannon Zoz & Jodi Fritsch
END:VALARM
END:VEVENT
BEGIN:VEVENT
UID:eastbutler-67509@ygametime.com
DTSTAMP:20160910T180000Z
DTSTART;TZID=America/New_York:20160910T140000
DURATION:PT0H60M0S
SUMMARY:#10 Eric Lott vs #8 Eric Boafo
DESCRIPTION:Coed 6 & 7 | Soccer\nEAST BUTLER COUNTY YMCA\n
URL;VALUE=URI:https://ygametime.com/branch/eastbutler/sports/2016-fall-soccer/2790/?utm_medium=calendar&utm_source=team_cal&utm_content=league_url#game-67509
LOCATION:Fairfield East Elementary Soccer  6&7 Field #4 Blue
BEGIN:VALARM
TRIGGER:-P2H
ACTION:DISPLAY
DESCRIPTION:#10 Eric Lott vs #8 Eric Boafo
END:VALARM
END:VEVENT
BEGIN:VEVENT
UID:eastbutler-67511@ygametime.com
DTSTAMP:20160917T140000Z
DTSTART;TZID=America/New_York:20160917T100000
DURATION:PT0H60M0S
SUMMARY:#1 Paul Davidson & Ryan Schwartz vs #10 Eric Lott
DESCRIPTION:Coed 6 & 7 | Soccer\nEAST BUTLER COUNTY YMCA\n
URL;VALUE=URI:https://ygametime.com/branch/eastbutler/sports/2016-fall-soccer/2790/?utm_medium=calendar&utm_source=team_cal&utm_content=league_url#game-67511
LOCATION:Fairfield East Elementary Soccer  6&7 Field #4 Blue
BEGIN:VALARM
TRIGGER:-P2H
ACTION:DISPLAY
DESCRIPTION:#1 Paul Davidson & Ryan Schwartz vs #10 Eric Lott
END:VALARM
END:VEVENT
BEGIN:VEVENT
UID:eastbutler-67519@ygametime.com
DTSTAMP:20160924T160000Z
DTSTART;TZID=America/New_York:20160924T120000
DURATION:PT0H60M0S
SUMMARY:Fitton vs #10 Eric Lott
DESCRIPTION:Coed 6 & 7 | Soccer\nEAST BUTLER COUNTY YMCA\n
URL;VALUE=URI:https://ygametime.com/branch/eastbutler/sports/2016-fall-soccer/2790/?utm_medium=calendar&utm_source=team_cal&utm_content=league_url#game-67519
LOCATION:Fairfield East Elementary Soccer  6&7 Field #4 Blue
BEGIN:VALARM
TRIGGER:-P2H
ACTION:DISPLAY
DESCRIPTION:Fitton vs #10 Eric Lott
END:VALARM
END:VEVENT
BEGIN:VEVENT
UID:eastbutler-67522@ygametime.com
DTSTAMP:20161001T130000Z
DTSTART;TZID=America/New_York:20161001T090000
DURATION:PT0H60M0S
SUMMARY:#10 Eric Lott vs #7 VanGaasbeek & Daniels
DESCRIPTION:Coed 6 & 7 | Soccer\nEAST BUTLER COUNTY YMCA\n
URL;VALUE=URI:https://ygametime.com/branch/eastbutler/sports/2016-fall-soccer/2790/?utm_medium=calendar&utm_source=team_cal&utm_content=league_url#game-67522
LOCATION:Fairfield East Elementary Soccer  6&7 Field #4 Blue
BEGIN:VALARM
TRIGGER:-P2H
ACTION:DISPLAY
DESCRIPTION:#10 Eric Lott vs #7 VanGaasbeek & Daniels
END:VALARM
END:VEVENT
BEGIN:VEVENT
UID:eastbutler-67528@ygametime.com
DTSTAMP:20161008T130000Z
DTSTART;TZID=America/New_York:20161008T090000
DURATION:PT0H60M0S
SUMMARY:#10 Eric Lott vs #3 Daren King & Darius Johnson
DESCRIPTION:Coed 6 & 7 | Soccer\nEAST BUTLER COUNTY YMCA\n
URL;VALUE=URI:https://ygametime.com/branch/eastbutler/sports/2016-fall-soccer/2790/?utm_medium=calendar&utm_source=team_cal&utm_content=league_url#game-67528
LOCATION:Fairfield East Elementary Soccer  6&7 Field #4 Blue
BEGIN:VALARM
TRIGGER:-P2H
ACTION:DISPLAY
DESCRIPTION:#10 Eric Lott vs #3 Daren King & Darius Johnson
END:VALARM
END:VEVENT
BEGIN:VEVENT
UID:eastbutler-67537@ygametime.com
DTSTAMP:20161015T160000Z
DTSTART;TZID=America/New_York:20161015T120000
DURATION:PT0H60M0S
SUMMARY:#10 Eric Lott vs #7 VanGaasbeek & Daniels
DESCRIPTION:Coed 6 & 7 | Soccer\nEAST BUTLER COUNTY YMCA\n
URL;VALUE=URI:https://ygametime.com/branch/eastbutler/sports/2016-fall-soccer/2790/?utm_medium=calendar&utm_source=team_cal&utm_content=league_url#game-67537
LOCATION:Fairfield East Elementary Soccer  6&7 Field #4 Blue
BEGIN:VALARM
TRIGGER:-P2H
ACTION:DISPLAY
DESCRIPTION:#10 Eric Lott vs #7 VanGaasbeek & Daniels
END:VALARM
END:VEVENT
BEGIN:VEVENT
UID:eastbutler-67499@ygametime.com
DTSTAMP:20161022T140000Z
DTSTART;TZID=America/New_York:20161022T100000
DURATION:PT0H60M0S
SUMMARY:#2 Pat Naylor & Brad Lantis vs #10 Eric Lott
DESCRIPTION:Coed 6 & 7 | Soccer\nEAST BUTLER COUNTY YMCA\n
URL;VALUE=URI:https://ygametime.com/branch/eastbutler/sports/2016-fall-soccer/2790/?utm_medium=calendar&utm_source=team_cal&utm_content=league_url#game-67499
LOCATION:Fairfield East Elementary Soccer  6&7 Field #4 Blue
BEGIN:VALARM
TRIGGER:-P2H
ACTION:DISPLAY
DESCRIPTION:#2 Pat Naylor & Brad Lantis vs #10 Eric Lott
END:VALARM
END:VEVENT
END:VCALENDAR

